From mboxrd@z Thu Jan 1 00:00:00 1970 Return-Path: Received: from mails.dpdk.org (mails.dpdk.org [217.70.189.124]) by inbox.dpdk.org (Postfix) with ESMTP id C7BC3489C9 for ; Fri, 24 Oct 2025 23:25:40 +0200 (CEST) Received: from mails.dpdk.org (localhost [127.0.0.1]) by mails.dpdk.org (Postfix) with ESMTP id C144A4014F; Fri, 24 Oct 2025 23:25:40 +0200 (CEST) Received: from mail-io1-f97.google.com (mail-io1-f97.google.com [209.85.166.97]) by mails.dpdk.org (Postfix) with ESMTP id 5C3594014F for ; Fri, 24 Oct 2025 23:25:40 +0200 (CEST) Received: by mail-io1-f97.google.com with SMTP id ca18e2360f4ac-940d92d6962so102443339f.3 for ; Fri, 24 Oct 2025 14:25:40 -0700 (PDT) DKIM-Signature: v=1; a=rsa-sha256; c=relaxed/relaxed; d=iol.unh.edu; s=unh-iol; t=1761341139; x=1761945939; darn=dpdk.org; h=references:in-reply-to:cc:to:from:subject:message-id:date:from:to :cc:subject:date:message-id:reply-to; bh=DFze5+xsui++rHLg+J6vobyoFC/SMkUBx4gKZfvixPM=; b=EgaKccVkwnJdHYhfCD/PwjvcqdewPb0h/mmenp6b2j4XRX6C+GqsVSJ9Mgc+1RqEdv UREoLLpA0NmuMk6BSpIQWd7t3aAppwV8xLmY92HypNl/2YpCa3HNJPsgrcs0WPO4ob3+ 93Zi/h6OgbxJZEu51n7avg0F6nCDu3JVeFm6Q= X-Google-DKIM-Signature: v=1; a=rsa-sha256; c=relaxed/relaxed; d=1e100.net; s=20230601; t=1761341139; x=1761945939; h=references:in-reply-to:cc:to:from:subject:message-id:date :x-gm-message-state:from:to:cc:subject:date:message-id:reply-to; bh=DFze5+xsui++rHLg+J6vobyoFC/SMkUBx4gKZfvixPM=; b=jmNUFnjSyiFDq2vRaPcIAmQB7q2AdV1UOb490HRe/ZPuGF72db7kWqPxZitGovIQ7v 2TYh/ApPjqjyiPEYfSA/EgFao1haI7lNKZp0zD9sOu/TpNqNlJm7WZp1FgIXsjkl+yld JRUuplIP4F0SNUasdM23VPynVSlB4iJYhzjlkDHAms1uJHmxcDSk2pgFdEvW1gu7OEBz e0ytWi/2qDgMQoJdrFhBPt+NNwKIJ5w1C+80id39Gd6rY6sK5LY3EToF22NC/Uv5nA/3 6bsgX/KkzTuGTk532vITVFeleQ5kL5JmB9dUuaYd8pmLrU9lVaQuwCyGCJNHAHj1zF4P s0AQ== X-Gm-Message-State: AOJu0Yx2Y6b4u7UQyQSWNSAr9yNf1azT/wiPoSUHFVUhwjv/0u8EjsZG o2lMR7sjdyHPv4EMyK68qWHhkiEkwcoui1Fm51PHVxMreNhAvN5+wnjoTcV/HStAyxft4aai00L mEW7H4edT2+awX4p2vOR7AeUD5mshMXYyEPu7/wDtvKvh X-Gm-Gg: ASbGncseGnwuNNqLKgfuMc3yK49HWbJlBvNqaw+YHZ18kidBAbCJWNpWP+Y0c7LlEed iAro/R0GFCEO3UCffZseJY+qMXZSQsb5upLVh0tU1KHMT04rvgZViM1m2YQyZY3gA+CdzcC78uy Akoby2+EKT0gkVUFxK6ty7oV7ru+qw5MEfPga97OEFghACpBNfoUBZ63bCgNr54U64FQLXuisiC 4pW8gNYEJ0qNETWER0IK4lP6UfmBr4B3TlmMlbMZ5+gQSxiuL4yCOT15MPgmmPjSeKGwPbCHB3I abADvAbmhap+YXaaJQB+SL8MaXm3Q0PmARVK8tHXEE0lXfOXiufrCQwh0n4WeuOfIRK6qVdUuFf rlkOvAo2Z889bPD0L66y2s/ZRl5dfK04= X-Google-Smtp-Source: AGHT+IEd1egY+ROS8Ngy0Hq6TCR3Ov6AHU3PzqzJAzxYb79/Rh2L4X2uXyrRMDRCm0g+ooEb50IoTCwT6X4z X-Received: by 2002:a05:6e02:1d9d:b0:42f:9b7b:bb7e with SMTP id e9e14a558f8ab-430c52d535amr395121875ab.25.1761341139587; Fri, 24 Oct 2025 14:25:39 -0700 (PDT) Received: from postal.iol.unh.edu (postal.iol.unh.edu. [132.177.123.84]) by smtp-relay.gmail.com with ESMTPS id 8926c6da1cb9f-5aea77de958sm17683173.3.2025.10.24.14.25.39 (version=TLS1_2 cipher=ECDHE-ECDSA-AES128-GCM-SHA256 bits=128/128); Fri, 24 Oct 2025 14:25:39 -0700 (PDT) X-Relaying-Domain: iol.unh.edu Date: Fri, 24 Oct 2025 14:25:39 -0700 (PDT) Message-ID: <68fbeed3.050a0220.2f9afb.108eSMTPIN_ADDED_MISSING@mx.google.com> Received: from [172.21.0.2] (unknown [172.18.0.240]) by postal.iol.unh.edu (Postfix) with ESMTP id 464796050A61; Fri, 24 Oct 2025 17:25:39 -0400 (EDT) Subject: |SUCCESS| pw158099 [PATCH] app/compress-perf: fix coverity issue From: dpdklab@iol.unh.edu To: Test Report Cc: dpdk-test-reports@iol.unh.edu, Akhil Goyal In-Reply-To: <20251024191125.1728953-1-svaze@qti.qualcomm.com> References: <20251024191125.1728953-1-svaze@qti.qualcomm.com> Content-Type: text/plain X-BeenThere: test-report@dpdk.org X-Mailman-Version: 2.1.29 Precedence: list List-Id: automatic DPDK test reports List-Unsubscribe: , List-Archive: List-Post: List-Help: List-Subscribe: , Errors-To: test-report-bounces@dpdk.org Test-Label: iol-unit-amd64-testing Test-Status: SUCCESS http://dpdk.org/patch/158099 _Testing PASS_ Submitter: Sameer Vaze Date: Friday, October 24 2025 19:11:25 DPDK git baseline: Repo:dpdk-next-crypto Branch: master CommitID:6edcec237e31fcdb848cca6c151ee7a5bf057c28 158099 --> testing pass Upstream job id: Generic-Unit-Test-DPDK#385195 Test environment and result as below: +-------------------------------+----------------+ | Environment | dpdk_unit_test | +===============================+================+ | CentOS Stream 9 | PASS | +-------------------------------+----------------+ | CentOS Stream 10 | PASS | +-------------------------------+----------------+ | Debian GNU/Linux 12 | PASS | +-------------------------------+----------------+ | Fedora Linux 40 | PASS | +-------------------------------+----------------+ | Fedora Linux 41 | PASS | +-------------------------------+----------------+ | Fedora Linux 42 | PASS | +-------------------------------+----------------+ | Ubuntu 22.04 | PASS | +-------------------------------+----------------+ | Red Hat Enterprise Linux 8.10 | PASS | +-------------------------------+----------------+ | Red Hat Enterprise Linux 9.5 | PASS | +-------------------------------+----------------+ | Ubuntu 20.04 | PASS | +-------------------------------+----------------+ | Ubuntu 24.04 | PASS | +-------------------------------+----------------+ | Windows Server 2022 | PASS | +-------------------------------+----------------+ CentOS Stream 9 Kernel: 5.15 Compiler: gcc gcc (GCC) 11.5.0 20240719 (Red Hat 11.5.0-11) CentOS Stream 10 Kernel: 5.15 Compiler: gcc gcc (GCC) 14.2.1 20250110 (Red Hat 14.2.1-8) Debian GNU/Linux 12 Kernel: 5.15 Compiler: gcc gcc (Debian 12.2.0-14+deb12u1) 12.2.0 Fedora Linux 40 Kernel: 5.15 Compiler: gcc gcc (GCC) 14.2.1 20240912 (Red Hat 14.2.1-3) Fedora Linux 41 Kernel: 5.15 Compiler: gcc gcc (GCC) 14.3.1 20250523 (Red Hat 14.3.1-1) Fedora Linux 42 Kernel: 5.15 Compiler: gcc gcc (GCC) 15.2.1 20250808 (Red Hat 15.2.1-1) Ubuntu 22.04 Kernel: 5.15 Compiler: gcc gcc (Ubuntu 11.4.0-1ubuntu1~22.04) 11.4.0 Red Hat Enterprise Linux 8.10 Kernel: 5.15 Compiler: gcc gcc (GCC) 8.5.0 20210514 (Red Hat 8.5.0-22) Red Hat Enterprise Linux 9.5 Kernel: 5.15 Compiler: gcc gcc (GCC) 11.5.0 20240719 (Red Hat 11.5.0-2) Ubuntu 20.04 Kernel: 5.15 Compiler: gcc gcc (Ubuntu 9.4.0-1ubuntu1~20.04.2) 9.4.0 Ubuntu 24.04 Kernel: 5.15 Compiler: gcc gcc (Ubuntu 13.3.0-6ubuntu2~24.04) 13.3.0 Windows Server 2022 Kernel: 10.0.20348.2031 Compiler: clang 15.0.7, gcc 14.1.0 (MinGW), and MSVC VS 19.39.33521 To view detailed results, visit: https://lab.dpdk.org/results/dashboard/patchsets/34380/ UNH-IOL DPDK Community Lab To manage your email subscriptions, visit: https://lab.dpdk.org/results/dashboard/preferences/subscriptions/