From mboxrd@z Thu Jan 1 00:00:00 1970 Return-Path: Received: from mails.dpdk.org (mails.dpdk.org [217.70.189.124]) by inbox.dpdk.org (Postfix) with ESMTP id D94AE489C9 for ; Fri, 24 Oct 2025 23:26:11 +0200 (CEST) Received: from mails.dpdk.org (localhost [127.0.0.1]) by mails.dpdk.org (Postfix) with ESMTP id D31774014F; Fri, 24 Oct 2025 23:26:11 +0200 (CEST) Received: from mail-pl1-f225.google.com (mail-pl1-f225.google.com [209.85.214.225]) by mails.dpdk.org (Postfix) with ESMTP id 0FC914014F for ; Fri, 24 Oct 2025 23:26:11 +0200 (CEST) Received: by mail-pl1-f225.google.com with SMTP id d9443c01a7336-290cd62acc3so30063895ad.2 for ; Fri, 24 Oct 2025 14:26:10 -0700 (PDT) DKIM-Signature: v=1; a=rsa-sha256; c=relaxed/relaxed; d=iol.unh.edu; s=unh-iol; t=1761341170; x=1761945970; darn=dpdk.org; h=references:in-reply-to:cc:to:from:subject:message-id:date:from:to :cc:subject:date:message-id:reply-to; bh=innikv1DL9/Sbc3sL77tREY9YR5mpy9jjZ3cVxmZY1c=; b=L2DSDS3g/RPbZ48bsamT0ogTVuLp17fvKgCHirCwJJDyoUG/O5L3rC9JGMQUy2P8a5 H5s6xMf1MdY97p4fm30fkyfvW3w/q8Amxo3ZgPMgxIMYvpXi90YxfR8r6oDj6A0fKzZE 5vp+QyAU3TVqAZV91R3Ck+fC38DHSXc/OFaSc= X-Google-DKIM-Signature: v=1; a=rsa-sha256; c=relaxed/relaxed; d=1e100.net; s=20230601; t=1761341170; x=1761945970; h=references:in-reply-to:cc:to:from:subject:message-id:date :x-gm-message-state:from:to:cc:subject:date:message-id:reply-to; bh=innikv1DL9/Sbc3sL77tREY9YR5mpy9jjZ3cVxmZY1c=; b=umsVfodoHDd2JSvljKCWlNd/K2ISdD5cPa/CTMtmPkerVeVvWBMLGCmgO5sgEjt/AQ BS7bmTDorA9VxaoLsHqgsoAEBQeJtYjPfMes3+NloN5ez/2mkLpAdp7tnmgidLkD3EdI UNO5KsvyFfF//Cn2ZsmyGEwPVUV1Pl3WhV/02Tvhrx+EHxPamzamZmgLGyZBmPAXmf1t OFynML1oWdCO3VDrG2WG6kGSqG3oeQYuOGXrQqdhlOYr1+Vi5z1BqfU/0ZjIeBgegzF9 NxNZaL3czjfWFgkcg+F7PZuWZdRJy2I0VVcO6tqE84IwdoKAwbHXH7rFkF5SzfDmWPc4 a0Bg== X-Gm-Message-State: AOJu0Yw2cvilKB9cRDxS5yZ9/nin+5P/J7Qnkz2yQY86dIWYD82uHxL4 qSThEBpQmJxmPJ2vNKpSzCzUc1G58/MaijVLFsBShRnyY0rGa6EmYgsaqupYskaFpE6UQ8L0RLv Y1UNuglgh/B9pST8b43HDM7Xi2sCMcoJFCMHqThDQkC20 X-Gm-Gg: ASbGncsmHvACBogXSNRr26ar70DKLp6pyUZcWpgL1egLSPrDHv36I9BRvalIbzG9Grs xCemiPyes2TZtJxZkImMHH0nkgH0KoNZXsZSF7TNyk3waMZaWFqnrH1YEF1IJR9WmacCXIk3RN6 MOHNSOu8S9a9/c0q84h2DYlnS9SmFJfdvd1yKi1tfqyYfxjTZQYXbw7LBxYth3Yq2Ly82oscAho fWd/bH3WCIljJvNSA+7eE/N4z3uiURAeTqRSZZEK4IQeYrQXBGRoqgTsdcQ79v4UhXB+8zI5Wos pY99BOQrJcbTjeCIUT4keVHDLowXYUZKtOAlRs8T7O/M0uLau2H4PXF6iE++/GefEHGc1zFSsr9 GeNpzJOgA3Q93uN05lUylNyimJwuvh/Y= X-Google-Smtp-Source: AGHT+IEF8eDUKq+8aiJOYRBaDGr9KmpzGdKZYNmOvd91NZfMg5o8uUm5Y6zj5XieNI9xUFHiKJvpaUFcsLR2 X-Received: by 2002:a17:903:38c8:b0:265:47:a7bd with SMTP id d9443c01a7336-2948b95c6d8mr33899105ad.4.1761341170125; Fri, 24 Oct 2025 14:26:10 -0700 (PDT) Received: from postal.iol.unh.edu (postal.iol.unh.edu. [132.177.123.84]) by smtp-relay.gmail.com with ESMTPS id d9443c01a7336-29498d26a27sm224365ad.32.2025.10.24.14.26.10 (version=TLS1_2 cipher=ECDHE-ECDSA-AES128-GCM-SHA256 bits=128/128); Fri, 24 Oct 2025 14:26:10 -0700 (PDT) X-Relaying-Domain: iol.unh.edu Date: Fri, 24 Oct 2025 14:26:10 -0700 (PDT) Message-ID: <68fbeef2.170a0220.2c6c41.12b2SMTPIN_ADDED_MISSING@mx.google.com> Received: from [172.21.0.2] (unknown [172.18.0.240]) by postal.iol.unh.edu (Postfix) with ESMTP id 649646050A61; Fri, 24 Oct 2025 17:26:09 -0400 (EDT) Subject: |SUCCESS| pw158098 [PATCH] compressdev: fix coverity issue From: dpdklab@iol.unh.edu To: Test Report Cc: dpdk-test-reports@iol.unh.edu, Akhil Goyal In-Reply-To: <20251024191108.1728811-1-svaze@qti.qualcomm.com> References: <20251024191108.1728811-1-svaze@qti.qualcomm.com> Content-Type: text/plain X-BeenThere: test-report@dpdk.org X-Mailman-Version: 2.1.29 Precedence: list List-Id: automatic DPDK test reports List-Unsubscribe: , List-Archive: List-Post: List-Help: List-Subscribe: , Errors-To: test-report-bounces@dpdk.org Test-Label: iol-compile-amd64-testing Test-Status: SUCCESS http://dpdk.org/patch/158098 _Testing PASS_ Submitter: Sameer Vaze Date: Friday, October 24 2025 19:11:08 DPDK git baseline: Repo:dpdk-next-crypto Branch: master CommitID:6edcec237e31fcdb848cca6c151ee7a5bf057c28 158098 --> testing pass Upstream job id: Windows-Compile-DPDK-Native#31886 Test environment and result as below: +---------------------+--------------------+-------------------+-------------------------+----------------------+ | Environment | dpdk_meson_compile | dpdk_msvc_compile | dpdk_llvm_clang_compile | dpdk_mingw64_compile | +=====================+====================+===================+=========================+======================+ | Ubuntu 20.04 | PASS | SKIPPED | SKIPPED | SKIPPED | +---------------------+--------------------+-------------------+-------------------------+----------------------+ | FreeBSD 14.2 | PASS | SKIPPED | SKIPPED | SKIPPED | +---------------------+--------------------+-------------------+-------------------------+----------------------+ | Windows Server 2022 | SKIPPED | PASS | PASS | PASS | +---------------------+--------------------+-------------------+-------------------------+----------------------+ Ubuntu 20.04 Kernel: 4.19 Compiler: gcc gcc (Ubuntu 9.4.0-1ubuntu1~20.04.2) 9.4.0 FreeBSD 14.2 Kernel: 14.2-RELEASE Compiler: clang 18.1.6 Windows Server 2022 Kernel: 10.0.20348.2031 Compiler: clang 15.0.7, gcc 14.1.0 (MinGW), and MSVC VS 19.39.33521 To view detailed results, visit: https://lab.dpdk.org/results/dashboard/patchsets/34381/ UNH-IOL DPDK Community Lab To manage your email subscriptions, visit: https://lab.dpdk.org/results/dashboard/preferences/subscriptions/