From mboxrd@z Thu Jan 1 00:00:00 1970 Return-Path: Received: from mails.dpdk.org (mails.dpdk.org [217.70.189.124]) by inbox.dpdk.org (Postfix) with ESMTP id 6531E489C9 for ; Fri, 24 Oct 2025 23:43:17 +0200 (CEST) Received: from mails.dpdk.org (localhost [127.0.0.1]) by mails.dpdk.org (Postfix) with ESMTP id 5E5D04014F; Fri, 24 Oct 2025 23:43:17 +0200 (CEST) Received: from mail-pf1-f225.google.com (mail-pf1-f225.google.com [209.85.210.225]) by mails.dpdk.org (Postfix) with ESMTP id 669454014F for ; Fri, 24 Oct 2025 23:43:16 +0200 (CEST) Received: by mail-pf1-f225.google.com with SMTP id d2e1a72fcca58-7a226a0798cso2191824b3a.2 for ; Fri, 24 Oct 2025 14:43:16 -0700 (PDT) DKIM-Signature: v=1; a=rsa-sha256; c=relaxed/relaxed; d=iol.unh.edu; s=unh-iol; t=1761342195; x=1761946995; darn=dpdk.org; h=references:in-reply-to:cc:to:from:subject:message-id:date:from:to :cc:subject:date:message-id:reply-to; bh=t1jsBUJzF338Dj8LVRP/eyFBhhoTWVO7xga2FW6N1as=; b=fTlxps9NR1bZdL+YMEsyVxcr6yh959th+MonIFgkEBHrLfB93qNqEGNaSEhZB9m+sI msKleHHjik5dSQ1TdinKn+EdPfFUfCswo4hEU3t6EtYk0RdhzidnmCfA4JX+510HXZko 1qLY22mKYqGnnype/n5dPg/8N/DfEI/GO38e8= X-Google-DKIM-Signature: v=1; a=rsa-sha256; c=relaxed/relaxed; d=1e100.net; s=20230601; t=1761342195; x=1761946995; h=references:in-reply-to:cc:to:from:subject:message-id:date :x-gm-message-state:from:to:cc:subject:date:message-id:reply-to; bh=t1jsBUJzF338Dj8LVRP/eyFBhhoTWVO7xga2FW6N1as=; b=WEzSAjZs0qOZ/E8dUUt29GkCG6IhiM5E6KAixaOOVJnj50b880RYW4eFSmyvjqqKMp w0XfqkcTBNmGZyw75DWUYusURQ5IYUhs4SnEZmHgBG0S6JvM/GjmaU4l766KpomvwWgG jsBG5wdJp4rUALryWSnKQk2SNdN5LsoDRPDDpWz8kxt/NT3Wma9/yJ0XmWLIDzG4637u fuzMHftjeY4hfEIEE3CEP4rg0qMSCCf2WbCCqp68oxKPyFbP+miOSyQCkH+w91HRVhrx 5pxoyqIK+iS7YrDc5+vfAuH4WdMB/eYcs01iPMUm4ZX1mX2f9U+zAznRc9+XWJFsJr3E G8yQ== X-Gm-Message-State: AOJu0YxU6lrPiXPPxFWMt4o1h2jmvyL7+gOqlFwz53/sgK48isE4qzVQ u+NpSRX0tgOPw7riuJhCdHVc9/m6oK/L5WuLbpmyk6ymyXxtagyz8q5bEGUPCHOqQInQZi7vXoH o/GFPMi+xZVHYzMYRVkjzvwjZzYI8N1rEM4VLAZay7CVNun1lzkJuLDqyDMpP X-Gm-Gg: ASbGncv1knZedoXNUs733X4Qxa4izUzwgCQHuEbe6f4r4JQRTaVpZcWwh7xsIpHQdYV swbNTXqbyXaVklSMpFkvDnlOlBf8mx8Bw32WQ0cRk0EAyyLYDibVIhc53TcNzHk/QUKB4SDV26M K86i678zx9UFQgzn8nrP/A+rXs/fnkRa3f2pnvxJcaBwy/B/habJuqJghiTFxlbko76e28y+OWC LgE8BotIYOR6IdcppGLyV76QRuhyz6VgIRiE1TxsA+mlihXw0AkkbFMDrsFWCHgeLOGCSbBXmou mI0NXp6JbrB8QBQkD079TnPSWYoVoc3nl/J3I2OMU57kb7pChLc0tT6fBocOkfc6KXPfgxOCAgE hClly75tb X-Google-Smtp-Source: AGHT+IHQV0Un9wLw61FaI/wtFqF6QMJyDB8MzuR3Z9s1GfyDeh+FMMYmuGM39WH0pZroN/mSEmBi36LM68PG X-Received: by 2002:a17:903:acb:b0:25e:78db:4a0d with SMTP id d9443c01a7336-290cba4eefdmr410080935ad.36.1761342195525; Fri, 24 Oct 2025 14:43:15 -0700 (PDT) Received: from postal.iol.unh.edu (postal.iol.unh.edu. [2606:4100:3880:1234::84]) by smtp-relay.gmail.com with ESMTPS id d9443c01a7336-29498d297ddsm245415ad.38.2025.10.24.14.43.15 (version=TLS1_2 cipher=ECDHE-ECDSA-AES128-GCM-SHA256 bits=128/128); Fri, 24 Oct 2025 14:43:15 -0700 (PDT) X-Relaying-Domain: iol.unh.edu Date: Fri, 24 Oct 2025 14:43:15 -0700 (PDT) Message-ID: <68fbf2f3.170a0220.33b2e3.163dSMTPIN_ADDED_MISSING@mx.google.com> Received: from [172.21.0.2] (unknown [172.18.0.240]) by postal.iol.unh.edu (Postfix) with ESMTP id 0AB4C6051830; Fri, 24 Oct 2025 17:43:15 -0400 (EDT) Subject: |SUCCESS| pw158098 [PATCH] compressdev: fix coverity issue From: dpdklab@iol.unh.edu To: Test Report Cc: dpdk-test-reports@iol.unh.edu, Akhil Goyal In-Reply-To: <20251024191108.1728811-1-svaze@qti.qualcomm.com> References: <20251024191108.1728811-1-svaze@qti.qualcomm.com> Content-Type: text/plain X-BeenThere: test-report@dpdk.org X-Mailman-Version: 2.1.29 Precedence: list List-Id: automatic DPDK test reports List-Unsubscribe: , List-Archive: List-Post: List-Help: List-Subscribe: , Errors-To: test-report-bounces@dpdk.org Test-Label: iol-unit-amd64-testing Test-Status: SUCCESS http://dpdk.org/patch/158098 _Testing PASS_ Submitter: Sameer Vaze Date: Friday, October 24 2025 19:11:08 DPDK git baseline: Repo:dpdk-next-crypto Branch: master CommitID:6edcec237e31fcdb848cca6c151ee7a5bf057c28 158098 --> testing pass Upstream job id: Generic-Unit-Test-DPDK#385225 Test environment and result as below: +-------------------------------+----------------+ | Environment | dpdk_unit_test | +===============================+================+ | CentOS Stream 9 | PASS | +-------------------------------+----------------+ | Debian GNU/Linux 12 | PASS | +-------------------------------+----------------+ | CentOS Stream 10 | PASS | +-------------------------------+----------------+ | Fedora Linux 40 | PASS | +-------------------------------+----------------+ | Fedora Linux 41 | PASS | +-------------------------------+----------------+ | Fedora Linux 42 | PASS | +-------------------------------+----------------+ | Red Hat Enterprise Linux 9.5 | PASS | +-------------------------------+----------------+ | Ubuntu 24.04 | PASS | +-------------------------------+----------------+ | Red Hat Enterprise Linux 8.10 | PASS | +-------------------------------+----------------+ | Ubuntu 20.04 | PASS | +-------------------------------+----------------+ | Ubuntu 22.04 | PASS | +-------------------------------+----------------+ | Windows Server 2022 | PASS | +-------------------------------+----------------+ CentOS Stream 9 Kernel: 5.15 Compiler: gcc gcc (GCC) 11.5.0 20240719 (Red Hat 11.5.0-11) Debian GNU/Linux 12 Kernel: 5.15 Compiler: gcc gcc (Debian 12.2.0-14+deb12u1) 12.2.0 CentOS Stream 10 Kernel: 5.15 Compiler: gcc gcc (GCC) 14.2.1 20250110 (Red Hat 14.2.1-8) Fedora Linux 40 Kernel: 5.15 Compiler: gcc gcc (GCC) 14.2.1 20240912 (Red Hat 14.2.1-3) Fedora Linux 41 Kernel: 5.15 Compiler: gcc gcc (GCC) 14.3.1 20250523 (Red Hat 14.3.1-1) Fedora Linux 42 Kernel: 5.15 Compiler: gcc gcc (GCC) 15.2.1 20250808 (Red Hat 15.2.1-1) Red Hat Enterprise Linux 9.5 Kernel: 5.15 Compiler: gcc gcc (GCC) 11.5.0 20240719 (Red Hat 11.5.0-2) Ubuntu 24.04 Kernel: 5.15 Compiler: gcc gcc (Ubuntu 13.3.0-6ubuntu2~24.04) 13.3.0 Red Hat Enterprise Linux 8.10 Kernel: 5.15 Compiler: gcc gcc (GCC) 8.5.0 20210514 (Red Hat 8.5.0-22) Ubuntu 20.04 Kernel: 5.15 Compiler: gcc gcc (Ubuntu 9.4.0-1ubuntu1~20.04.2) 9.4.0 Ubuntu 22.04 Kernel: 5.15 Compiler: gcc gcc (Ubuntu 11.4.0-1ubuntu1~22.04) 11.4.0 Windows Server 2022 Kernel: 10.0.20348.2031 Compiler: clang 15.0.7, gcc 14.1.0 (MinGW), and MSVC VS 19.39.33521 To view detailed results, visit: https://lab.dpdk.org/results/dashboard/patchsets/34381/ UNH-IOL DPDK Community Lab To manage your email subscriptions, visit: https://lab.dpdk.org/results/dashboard/preferences/subscriptions/