automatic DPDK test reports
 help / color / mirror / Atom feed
* |SUCCESS| [GIT MASTER] 5d40aaf77852b5884e137f1588726c92feb59002
@ 2025-10-24 22:31 dpdklab
  0 siblings, 0 replies; 11+ messages in thread
From: dpdklab @ 2025-10-24 22:31 UTC (permalink / raw)
  To: Ali Alnubani, Test Report; +Cc: dpdk-test-reports, Ajit Khaparde

_Performance Testing PASS_

Branch: next-net-brcm-for-next-net

5d40aaf77852b5884e137f1588726c92feb59002 --> performance testing pass

Upstream job id: Template-DTS-Pipeline#251160

Test environment and result as below:

Ubuntu 24.04
Kernel: 6.8
Compiler: gcc gcc (Ubuntu 13.3.0-6ubuntu2~24.04) 13.3.0
NIC: NVIDIA Mellanox ConnectX-7 100000 Mbps
Fail/Total: 0/6

Detail performance results: 
+------------+---------+----------+-------------+------------------------------+
| frame_size | txd/rxd | num_cpus | num_threads |  throughput difference from  |
|            |         |          |             |           expected           |
+============+=========+==========+=============+==============================+
| 64         | 1024    | 1        | 1           | 0.3%                         |
+------------+---------+----------+-------------+------------------------------+
| 128        | 1024    | 1        | 1           | -0.8%                        |
+------------+---------+----------+-------------+------------------------------+
| 256        | 1024    | 1        | 1           | 0.6%                         |
+------------+---------+----------+-------------+------------------------------+
| 512        | 1024    | 1        | 1           | -0.0%                        |
+------------+---------+----------+-------------+------------------------------+
| 1024       | 1024    | 1        | 1           | -0.0%                        |
+------------+---------+----------+-------------+------------------------------+
| 1518       | 1024    | 1        | 1           | 0.2%                         |
+------------+---------+----------+-------------+------------------------------+

Ubuntu 24.04
Kernel: 6.8
Compiler: gcc gcc (Ubuntu 13.3.0-6ubuntu2~24.04) 13.3.0
NIC: Mellanox ConnectX-6 Lx 25000 Mbps
Fail/Total: 0/6

Detail performance results: 
+------------+---------+----------+-------------+------------------------------+
| frame_size | txd/rxd | num_cpus | num_threads |  throughput difference from  |
|            |         |          |             |           expected           |
+============+=========+==========+=============+==============================+
| 64         | 1024    | 1        | 1           | -0.0%                        |
+------------+---------+----------+-------------+------------------------------+
| 128        | 1024    | 1        | 1           | -0.0%                        |
+------------+---------+----------+-------------+------------------------------+
| 256        | 1024    | 1        | 1           | -0.0%                        |
+------------+---------+----------+-------------+------------------------------+
| 512        | 1024    | 1        | 1           | -0.1%                        |
+------------+---------+----------+-------------+------------------------------+
| 1024       | 1024    | 1        | 1           | -0.0%                        |
+------------+---------+----------+-------------+------------------------------+
| 1518       | 1024    | 1        | 1           | -0.0%                        |
+------------+---------+----------+-------------+------------------------------+

To view detailed results, visit:
https://lab.dpdk.org/results/dashboard/tarballs/35333/

UNH-IOL DPDK Community Lab

To manage your email subscriptions, visit: 
https://lab.dpdk.org/results/dashboard/preferences/subscriptions/

^ permalink raw reply	[flat|nested] 11+ messages in thread

* |SUCCESS| [GIT MASTER] 5d40aaf77852b5884e137f1588726c92feb59002
@ 2025-10-25 15:05 dpdklab
  0 siblings, 0 replies; 11+ messages in thread
From: dpdklab @ 2025-10-25 15:05 UTC (permalink / raw)
  To: Test Report; +Cc: dpdk-test-reports, Ajit Khaparde

_Testing PASS_

Branch: next-net-brcm-for-next-net

5d40aaf77852b5884e137f1588726c92feb59002 --> testing pass

Upstream job id: Generic-Unit-Test-DPDK#385053

Test environment and result as below:

+------------------------------+----------------+---------------------------+------------------------------+--------------+
|         Environment          | dpdk_unit_test | cryptodev_sw_zuc_autotest | cryptodev_sw_snow3g_autotest | lpm_autotest |
+==============================+================+===========================+==============================+==============+
| CentOS Stream 9              | PASS           | SKIPPED                   | SKIPPED                      | SKIPPED      |
+------------------------------+----------------+---------------------------+------------------------------+--------------+
| Fedora Linux 40              | PASS           | SKIPPED                   | SKIPPED                      | SKIPPED      |
+------------------------------+----------------+---------------------------+------------------------------+--------------+
| CentOS Stream 10             | PASS           | SKIPPED                   | SKIPPED                      | SKIPPED      |
+------------------------------+----------------+---------------------------+------------------------------+--------------+
| Fedora Linux 41              | PASS           | SKIPPED                   | SKIPPED                      | SKIPPED      |
+------------------------------+----------------+---------------------------+------------------------------+--------------+
| Fedora Linux 42              | PASS           | SKIPPED                   | SKIPPED                      | SKIPPED      |
+------------------------------+----------------+---------------------------+------------------------------+--------------+
| Debian GNU/Linux 12          | PASS           | SKIPPED                   | SKIPPED                      | SKIPPED      |
+------------------------------+----------------+---------------------------+------------------------------+--------------+
| Ubuntu 22.04                 | PASS           | SKIPPED                   | SKIPPED                      | SKIPPED      |
+------------------------------+----------------+---------------------------+------------------------------+--------------+
| Ubuntu 20.04                 | PASS           | SKIPPED                   | SKIPPED                      | PASS         |
+------------------------------+----------------+---------------------------+------------------------------+--------------+
| Red Hat Enterprise Linux 9.5 | PASS           | SKIPPED                   | SKIPPED                      | SKIPPED      |
+------------------------------+----------------+---------------------------+------------------------------+--------------+
| Ubuntu 24.04                 | PASS           | SKIPPED                   | SKIPPED                      | SKIPPED      |
+------------------------------+----------------+---------------------------+------------------------------+--------------+
| Debian 12 (arm)              | SKIPPED        | PASS                      | PASS                         | SKIPPED      |
+------------------------------+----------------+---------------------------+------------------------------+--------------+


CentOS Stream 9
	Kernel: 5.4
	Compiler: gcc gcc (GCC) 11.5.0 20240719 (Red Hat 11.5.0-11)

Fedora Linux 40
	Kernel: 5.4
	Compiler: clang gcc (GCC) 14.2.1 20240912 (Red Hat 14.2.1-3)

CentOS Stream 10
	Kernel: 5.4
	Compiler: gcc gcc (GCC) 14.2.1 20250110 (Red Hat 14.2.1-8)

Fedora Linux 41
	Kernel: 5.4
	Compiler: clang gcc (GCC) 14.3.1 20250523 (Red Hat 14.3.1-1)

Fedora Linux 42
	Kernel: 5.4
	Compiler: gcc gcc (GCC) 15.2.1 20250808 (Red Hat 15.2.1-1)

Debian GNU/Linux 12
	Kernel: 5.4
	Compiler: gcc gcc (Debian 12.2.0-14+deb12u1) 12.2.0

Ubuntu 22.04
	Kernel: 5.15
	Compiler: gcc gcc (Ubuntu 11.4.0-1ubuntu1~22.04.2) 11.4.0

Ubuntu 20.04
	Kernel: 5.4
	Compiler: gcc gcc (Ubuntu 9.4.0-1ubuntu1~20.04.2) 9.4.0

Red Hat Enterprise Linux 9.5
	Kernel: 5.4
	Compiler: gcc gcc (GCC) 11.5.0 20240719 (Red Hat 11.5.0-2)

Ubuntu 24.04
	Kernel: 5.4
	Compiler: gcc gcc (Ubuntu 13.3.0-6ubuntu2~24.04) 13.3.0

Debian 12 (arm)
	Kernel: Depends on container host
	Compiler: gcc (Debian 12.2.0-14) 12.2.0

To view detailed results, visit:
https://lab.dpdk.org/results/dashboard/tarballs/35333/

UNH-IOL DPDK Community Lab

To manage your email subscriptions, visit: 
https://lab.dpdk.org/results/dashboard/preferences/subscriptions/

^ permalink raw reply	[flat|nested] 11+ messages in thread

* |SUCCESS| [GIT MASTER] 5d40aaf77852b5884e137f1588726c92feb59002
@ 2025-10-24 22:21 dpdklab
  0 siblings, 0 replies; 11+ messages in thread
From: dpdklab @ 2025-10-24 22:21 UTC (permalink / raw)
  To: Test Report; +Cc: dpdk-test-reports, Ajit Khaparde

_Performance Testing PASS_

Branch: next-net-brcm-for-next-net

5d40aaf77852b5884e137f1588726c92feb59002 --> performance testing pass

Upstream job id: Template-DTS-Pipeline#251165

Test environment and result as below:

Ubuntu 22.04
Kernel: 5.15
Compiler: gcc gcc (Ubuntu 11.4.0-1ubuntu1~22.04.2) 11.4.0
NIC: Intel E810 100000 Mbps
Fail/Total: 0/2

Detail performance results: 
+------------+---------+----------+-------------+------------------------------+
| frame_size | txd/rxd | num_cpus | num_threads |  throughput difference from  |
|            |         |          |             |           expected           |
+============+=========+==========+=============+==============================+
| 64         | 512     | 1        | 1           | 0.5%                         |
+------------+---------+----------+-------------+------------------------------+
| 64         | 2048    | 1        | 1           | 0.5%                         |
+------------+---------+----------+-------------+------------------------------+

Ubuntu 24.04
Kernel: 6.8
Compiler: gcc gcc (Ubuntu 13.3.0-6ubuntu2~24.04) 13.3.0
NIC: Intel E810 (Arm Grace Server) 100000 Mbps
Fail/Total: 0/2

Detail performance results: 
+------------+---------+----------+-------------+------------------------------+
| frame_size | txd/rxd | num_cpus | num_threads |  throughput difference from  |
|            |         |          |             |           expected           |
+============+=========+==========+=============+==============================+
| 64         | 512     | 1        | 1           | 0.8%                         |
+------------+---------+----------+-------------+------------------------------+
| 64         | 2048    | 1        | 1           | -0.1%                        |
+------------+---------+----------+-------------+------------------------------+

Ubuntu 20.04
Kernel: 5.4
Compiler: gcc gcc (Ubuntu 9.4.0-1ubuntu1~20.04.1) 9.4.0
NIC: Intel Corporation Ethernet Converged Network Adapter XL710-QDA2 40000 Mbps
Fail/Total: 0/4

Detail performance results: 
+----------+-------------+---------+------------+------------------------------+
| num_cpus | num_threads | txd/rxd | frame_size |  throughput difference from  |
|          |             |         |            |           expected           |
+==========+=============+=========+============+==============================+
| 1        | 2           | 512     | 64         | -0.8%                        |
+----------+-------------+---------+------------+------------------------------+
| 1        | 2           | 2048    | 64         | 1.2%                         |
+----------+-------------+---------+------------+------------------------------+
| 1        | 1           | 512     | 64         | 4.8%                         |
+----------+-------------+---------+------------+------------------------------+
| 1        | 1           | 2048    | 64         | 0.5%                         |
+----------+-------------+---------+------------+------------------------------+

To view detailed results, visit:
https://lab.dpdk.org/results/dashboard/tarballs/35333/

UNH-IOL DPDK Community Lab

To manage your email subscriptions, visit: 
https://lab.dpdk.org/results/dashboard/preferences/subscriptions/

^ permalink raw reply	[flat|nested] 11+ messages in thread

* |SUCCESS| [GIT MASTER] 5d40aaf77852b5884e137f1588726c92feb59002
@ 2025-10-24 22:08 dpdklab
  0 siblings, 0 replies; 11+ messages in thread
From: dpdklab @ 2025-10-24 22:08 UTC (permalink / raw)
  To: Test Report; +Cc: dpdk-test-reports, Ajit Khaparde

_Functional Testing PASS_

Branch: next-net-brcm-for-next-net

5d40aaf77852b5884e137f1588726c92feb59002 --> functional testing pass

Upstream job id: Template-DPDK-DTS-Pipeline#2663

Test environment and result as below:

Ubuntu 24.04 LTS
Kernel: 6.8.0-44-generic
Compiler: gcc 13.2.0
NIC: Intel Corporation Ethernet Controller XL710 for 40GbE QSFP+ 40 Mbps

Aggregate Results by Test Suite
+--------------------+--------+
|     Test Suite     | Result |
+====================+========+
| blocklist          |  PASS  |
+--------------------+--------+
| promisc_support    |  PASS  |
+--------------------+--------+
| uni_pkt            |  PASS  |
+--------------------+--------+
| dynamic_queue_conf |  PASS  |
+--------------------+--------+
| hello_world        |  PASS  |
+--------------------+--------+
| l2fwd              |  PASS  |
+--------------------+--------+
| softnic            |  PASS  |
+--------------------+--------+


Ubuntu 24.04
Kernel: 6.8
Compiler: gcc gcc (Ubuntu 13.3.0-6ubuntu2~24.04) 13.3.0
NIC: Intel E810 (Arm Grace Server) 100000 Mbps

Aggregate Results by Test Suite
+------------+--------+
| Test Suite | Result |
+============+========+
| blocklist  |  PASS  |
+------------+--------+
| uni_pkt    |  PASS  |
+------------+--------+


Ubuntu 24.04
Kernel: 6.8
Compiler: gcc gcc (Ubuntu 13.3.0-6ubuntu2~24.04) 13.3.0
NIC: Intel Corporation 4xxx Series QAT 0 Mbps

Aggregate Results by Test Suite
+----------------------------+--------+
|         Test Suite         | Result |
+============================+========+
| crypto_perf_cryptodev_perf |  PASS  |
+----------------------------+--------+


Ubuntu 22.04
Kernel: 5.15
Compiler: gcc gcc (Ubuntu 11.4.0-1ubuntu1~22.04.2) 11.4.0
NIC: Intel Corporation QAT 8970 0 Mbps

Aggregate Results by Test Suite
+----------------------------+--------+
|         Test Suite         | Result |
+============================+========+
| crypto_perf_cryptodev_perf |  PASS  |
+----------------------------+--------+


Ubuntu 20.04
Kernel: 5.4
Compiler: gcc gcc (Ubuntu 9.4.0-1ubuntu1~20.04.1) 9.4.0
NIC: Intel Corporation Ethernet Converged Network Adapter XL710-QDA2 40000 Mbps

Aggregate Results by Test Suite
+-----------------------------+--------+
|         Test Suite          | Result |
+=============================+========+
| unit_tests_mbuf             |  PASS  |
+-----------------------------+--------+
| vhost_virtio_user_interrupt |  PASS  |
+-----------------------------+--------+
| virtio_smoke                |  PASS  |
+-----------------------------+--------+


To view detailed results, visit:
https://lab.dpdk.org/results/dashboard/tarballs/35333/

UNH-IOL DPDK Community Lab

To manage your email subscriptions, visit: 
https://lab.dpdk.org/results/dashboard/preferences/subscriptions/

^ permalink raw reply	[flat|nested] 11+ messages in thread

* |SUCCESS| [GIT MASTER] 5d40aaf77852b5884e137f1588726c92feb59002
@ 2025-10-24 17:08 dpdklab
  0 siblings, 0 replies; 11+ messages in thread
From: dpdklab @ 2025-10-24 17:08 UTC (permalink / raw)
  To: Test Report; +Cc: dpdk-test-reports, Ajit Khaparde

_Functional Testing PASS_

Branch: next-net-brcm-for-next-net

5d40aaf77852b5884e137f1588726c92feb59002 --> functional testing pass

Upstream job id: Template-DTS-Pipeline#251168

Test environment and result as below:

Ubuntu 24.04 LTS
Kernel: 6.8.0-44-generic
Compiler: gcc 13.2.0
NIC: Intel Corporation Ethernet Controller XL710 for 40GbE QSFP+ 40 Mbps

Aggregate Results by Test Suite
+--------------------+--------+
|     Test Suite     | Result |
+====================+========+
| blocklist          |  PASS  |
+--------------------+--------+
| promisc_support    |  PASS  |
+--------------------+--------+
| uni_pkt            |  PASS  |
+--------------------+--------+
| dynamic_queue_conf |  PASS  |
+--------------------+--------+
| hello_world        |  PASS  |
+--------------------+--------+
| l2fwd              |  PASS  |
+--------------------+--------+
| softnic            |  PASS  |
+--------------------+--------+


Ubuntu 24.04
Kernel: 6.8
Compiler: gcc gcc (Ubuntu 13.3.0-6ubuntu2~24.04) 13.3.0
NIC: Intel Corporation 4xxx Series QAT 0 Mbps

Aggregate Results by Test Suite
+----------------------------+--------+
|         Test Suite         | Result |
+============================+========+
| crypto_perf_cryptodev_perf |  PASS  |
+----------------------------+--------+


Ubuntu 22.04
Kernel: 5.15
Compiler: gcc gcc (Ubuntu 11.4.0-1ubuntu1~22.04.2) 11.4.0
NIC: Intel Corporation QAT 8970 0 Mbps

Aggregate Results by Test Suite
+----------------------------+--------+
|         Test Suite         | Result |
+============================+========+
| crypto_perf_cryptodev_perf |  PASS  |
+----------------------------+--------+


Ubuntu 20.04
Kernel: 5.4
Compiler: gcc gcc (Ubuntu 9.4.0-1ubuntu1~20.04.1) 9.4.0
NIC: Intel Corporation Ethernet Converged Network Adapter XL710-QDA2 40000 Mbps

Aggregate Results by Test Suite
+-----------------------------+--------+
|         Test Suite          | Result |
+=============================+========+
| unit_tests_mbuf             |  PASS  |
+-----------------------------+--------+
| vhost_virtio_user_interrupt |  PASS  |
+-----------------------------+--------+
| virtio_smoke                |  PASS  |
+-----------------------------+--------+


To view detailed results, visit:
https://lab.dpdk.org/results/dashboard/tarballs/35333/

UNH-IOL DPDK Community Lab

To manage your email subscriptions, visit: 
https://lab.dpdk.org/results/dashboard/preferences/subscriptions/

^ permalink raw reply	[flat|nested] 11+ messages in thread

* |SUCCESS| [GIT MASTER] 5d40aaf77852b5884e137f1588726c92feb59002
@ 2025-10-24 17:03 dpdklab
  0 siblings, 0 replies; 11+ messages in thread
From: dpdklab @ 2025-10-24 17:03 UTC (permalink / raw)
  To: Test Report; +Cc: dpdk-test-reports, Ajit Khaparde

_Testing PASS_

Branch: next-net-brcm-for-next-net

5d40aaf77852b5884e137f1588726c92feb59002 --> testing pass

Upstream job id: Generic-Unit-Test-DPDK#385047

Test environment and result as below:

+-------------------------------+----------------+
|          Environment          | dpdk_unit_test |
+===============================+================+
| CentOS Stream 9               | PASS           |
+-------------------------------+----------------+
| CentOS Stream 10              | PASS           |
+-------------------------------+----------------+
| Debian GNU/Linux 12           | PASS           |
+-------------------------------+----------------+
| Fedora Linux 42               | PASS           |
+-------------------------------+----------------+
| Red Hat Enterprise Linux 8.10 | PASS           |
+-------------------------------+----------------+
| Fedora Linux 40               | PASS           |
+-------------------------------+----------------+
| Fedora Linux 41               | PASS           |
+-------------------------------+----------------+
| Red Hat Enterprise Linux 9.5  | PASS           |
+-------------------------------+----------------+
| Ubuntu 22.04                  | PASS           |
+-------------------------------+----------------+
| Ubuntu 20.04                  | PASS           |
+-------------------------------+----------------+
| Ubuntu 24.04                  | PASS           |
+-------------------------------+----------------+
| Windows Server 2022           | PASS           |
+-------------------------------+----------------+


CentOS Stream 9
	Kernel: 5.15
	Compiler: gcc gcc (GCC) 11.5.0 20240719 (Red Hat 11.5.0-11)

CentOS Stream 10
	Kernel: 5.15
	Compiler: gcc gcc (GCC) 14.2.1 20250110 (Red Hat 14.2.1-8)

Debian GNU/Linux 12
	Kernel: 5.15
	Compiler: gcc gcc (Debian 12.2.0-14+deb12u1) 12.2.0

Fedora Linux 42
	Kernel: 5.15
	Compiler: gcc gcc (GCC) 15.2.1 20250808 (Red Hat 15.2.1-1)

Red Hat Enterprise Linux 8.10
	Kernel: 5.15
	Compiler: gcc gcc (GCC) 8.5.0 20210514 (Red Hat 8.5.0-22)

Fedora Linux 40
	Kernel: 5.15
	Compiler: gcc gcc (GCC) 14.2.1 20240912 (Red Hat 14.2.1-3)

Fedora Linux 41
	Kernel: 5.15
	Compiler: clang gcc (GCC) 14.3.1 20250523 (Red Hat 14.3.1-1)

Red Hat Enterprise Linux 9.5
	Kernel: 5.15
	Compiler: gcc gcc (GCC) 11.5.0 20240719 (Red Hat 11.5.0-2)

Ubuntu 22.04
	Kernel: 5.15
	Compiler: gcc gcc (Ubuntu 11.4.0-1ubuntu1~22.04) 11.4.0

Ubuntu 20.04
	Kernel: 5.15
	Compiler: gcc gcc (Ubuntu 9.4.0-1ubuntu1~20.04.2) 9.4.0

Ubuntu 24.04
	Kernel: 5.15
	Compiler: gcc gcc (Ubuntu 13.3.0-6ubuntu2~24.04) 13.3.0

Windows Server 2022
	Kernel: 10.0.20348.2031
	Compiler: clang 15.0.7, gcc 14.1.0 (MinGW), and MSVC VS 19.39.33521

To view detailed results, visit:
https://lab.dpdk.org/results/dashboard/tarballs/35333/

UNH-IOL DPDK Community Lab

To manage your email subscriptions, visit: 
https://lab.dpdk.org/results/dashboard/preferences/subscriptions/

^ permalink raw reply	[flat|nested] 11+ messages in thread

* |SUCCESS| [GIT MASTER] 5d40aaf77852b5884e137f1588726c92feb59002
@ 2025-10-24 16:49 dpdklab
  0 siblings, 0 replies; 11+ messages in thread
From: dpdklab @ 2025-10-24 16:49 UTC (permalink / raw)
  To: Test Report; +Cc: dpdk-test-reports, Ajit Khaparde

_Testing PASS_

Branch: next-net-brcm-for-next-net

5d40aaf77852b5884e137f1588726c92feb59002 --> testing pass

Upstream job id: Windows-Compile-DPDK-Native#31874

Test environment and result as below:

+---------------------+--------------------+-------------------------+-------------------+----------------------+
|     Environment     | dpdk_meson_compile | dpdk_llvm_clang_compile | dpdk_msvc_compile | dpdk_mingw64_compile |
+=====================+====================+=========================+===================+======================+
| Ubuntu 20.04        | PASS               | SKIPPED                 | SKIPPED           | SKIPPED              |
+---------------------+--------------------+-------------------------+-------------------+----------------------+
| FreeBSD 14.2        | PASS               | SKIPPED                 | SKIPPED           | SKIPPED              |
+---------------------+--------------------+-------------------------+-------------------+----------------------+
| Windows Server 2022 | SKIPPED            | PASS                    | PASS              | PASS                 |
+---------------------+--------------------+-------------------------+-------------------+----------------------+


Ubuntu 20.04
	Kernel: 4.19
	Compiler: gcc gcc (Ubuntu 9.4.0-1ubuntu1~20.04.2) 9.4.0

FreeBSD 14.2
	Kernel: 14.2-RELEASE
	Compiler: clang 18.1.6

Windows Server 2022
	Kernel: 10.0.20348.2031
	Compiler: clang 15.0.7, gcc 14.1.0 (MinGW), and MSVC VS 19.39.33521

To view detailed results, visit:
https://lab.dpdk.org/results/dashboard/tarballs/35333/

UNH-IOL DPDK Community Lab

To manage your email subscriptions, visit: 
https://lab.dpdk.org/results/dashboard/preferences/subscriptions/

^ permalink raw reply	[flat|nested] 11+ messages in thread

* |SUCCESS| [GIT MASTER] 5d40aaf77852b5884e137f1588726c92feb59002
@ 2025-10-24 16:45 dpdklab
  0 siblings, 0 replies; 11+ messages in thread
From: dpdklab @ 2025-10-24 16:45 UTC (permalink / raw)
  To: Test Report; +Cc: dpdk-test-reports, Ajit Khaparde

_Performance Testing PASS_

Branch: next-net-brcm-for-next-net

5d40aaf77852b5884e137f1588726c92feb59002 --> performance testing pass

Upstream job id: Template-DTS-Pipeline#251164

Test environment and result as below:

Ubuntu 22.04
Kernel: 5.15
Compiler: gcc gcc (Ubuntu 11.4.0-1ubuntu1~22.04.2) 11.4.0
NIC: Arm Broadcom Inc. brcm_57414 25000 Mbps
Fail/Total: 0/2

Detail performance results: 
+------------+---------+----------+-------------+------------------------------+
| frame_size | txd/rxd | num_cpus | num_threads |  throughput difference from  |
|            |         |          |             |           expected           |
+============+=========+==========+=============+==============================+
| 64         | 512     | 1        | 1           | 0.8%                         |
+------------+---------+----------+-------------+------------------------------+
| 64         | 2048    | 1        | 1           | 0.5%                         |
+------------+---------+----------+-------------+------------------------------+

Ubuntu 22.04
Kernel: 5.15
Compiler: gcc gcc (Ubuntu 11.4.0-1ubuntu1~22.04) 11.4.0
NIC: Broadcom Inc. and subsidiaries BCM57414 NetXtreme-E 10Gb/25Gb RDMA Ethernet Controller 16d7 25 Mbps
Fail/Total: 0/3

Detail performance results: 
+------------+---------+----------+-------------+------------------------------+
| frame_size | txd/rxd | num_cpus | num_threads |  throughput difference from  |
|            |         |          |             |           expected           |
+============+=========+==========+=============+==============================+
| 64         | 128     | 1        | 1           | 0.6%                         |
+------------+---------+----------+-------------+------------------------------+
| 64         | 512     | 1        | 1           | -2.7%                        |
+------------+---------+----------+-------------+------------------------------+
| 64         | 2048    | 1        | 1           | -0.4%                        |
+------------+---------+----------+-------------+------------------------------+

To view detailed results, visit:
https://lab.dpdk.org/results/dashboard/tarballs/35333/

UNH-IOL DPDK Community Lab

To manage your email subscriptions, visit: 
https://lab.dpdk.org/results/dashboard/preferences/subscriptions/

^ permalink raw reply	[flat|nested] 11+ messages in thread

* |SUCCESS| [GIT MASTER] 5d40aaf77852b5884e137f1588726c92feb59002
@ 2025-10-24 16:44 dpdklab
  0 siblings, 0 replies; 11+ messages in thread
From: dpdklab @ 2025-10-24 16:44 UTC (permalink / raw)
  To: Test Report; +Cc: dpdk-test-reports, Ajit Khaparde

_Functional Testing PASS_

Branch: next-net-brcm-for-next-net

5d40aaf77852b5884e137f1588726c92feb59002 --> functional testing pass

Upstream job id: Template-DTS-Pipeline#251166

Test environment and result as below:

Ubuntu 24.04 LTS
Kernel: 6.8.0-44-generic
Compiler: gcc 13.2.0
NIC: Intel Corporation Ethernet Controller XL710 for 40GbE QSFP+ 40 Mbps

Aggregate Results by Test Suite
+--------------------+--------+
|     Test Suite     | Result |
+====================+========+
| blocklist          |  PASS  |
+--------------------+--------+
| promisc_support    |  PASS  |
+--------------------+--------+
| uni_pkt            |  PASS  |
+--------------------+--------+
| dynamic_queue_conf |  PASS  |
+--------------------+--------+
| hello_world        |  PASS  |
+--------------------+--------+
| l2fwd              |  PASS  |
+--------------------+--------+
| softnic            |  PASS  |
+--------------------+--------+


Ubuntu 24.04
Kernel: 6.8
Compiler: gcc gcc (Ubuntu 13.3.0-6ubuntu2~24.04) 13.3.0
NIC: Intel Corporation 4xxx Series QAT 0 Mbps

Aggregate Results by Test Suite
+----------------------------+--------+
|         Test Suite         | Result |
+============================+========+
| crypto_perf_cryptodev_perf |  PASS  |
+----------------------------+--------+


Ubuntu 20.04
Kernel: 5.4
Compiler: gcc gcc (Ubuntu 9.4.0-1ubuntu1~20.04.1) 9.4.0
NIC: Intel Corporation Ethernet Converged Network Adapter XL710-QDA2 40000 Mbps

Aggregate Results by Test Suite
+-----------------------------+--------+
|         Test Suite          | Result |
+=============================+========+
| unit_tests_mbuf             |  PASS  |
+-----------------------------+--------+
| vhost_virtio_user_interrupt |  PASS  |
+-----------------------------+--------+
| virtio_smoke                |  PASS  |
+-----------------------------+--------+


To view detailed results, visit:
https://lab.dpdk.org/results/dashboard/tarballs/35333/

UNH-IOL DPDK Community Lab

To manage your email subscriptions, visit: 
https://lab.dpdk.org/results/dashboard/preferences/subscriptions/

^ permalink raw reply	[flat|nested] 11+ messages in thread

* |SUCCESS| [GIT MASTER] 5d40aaf77852b5884e137f1588726c92feb59002
@ 2025-10-24 16:39 dpdklab
  0 siblings, 0 replies; 11+ messages in thread
From: dpdklab @ 2025-10-24 16:39 UTC (permalink / raw)
  To: Test Report; +Cc: dpdk-test-reports, Ajit Khaparde

_Functional Testing PASS_

Branch: next-net-brcm-for-next-net

5d40aaf77852b5884e137f1588726c92feb59002 --> functional testing pass

Upstream job id: Template-DTS-Pipeline#251172

Test environment and result as below:

Ubuntu 24.04 LTS
Kernel: 6.8.0-44-generic
Compiler: gcc 13.2.0
NIC: Intel Corporation Ethernet Controller XL710 for 40GbE QSFP+ 40 Mbps

Aggregate Results by Test Suite
+--------------------+--------+
|     Test Suite     | Result |
+====================+========+
| blocklist          |  PASS  |
+--------------------+--------+
| promisc_support    |  PASS  |
+--------------------+--------+
| uni_pkt            |  PASS  |
+--------------------+--------+
| dynamic_queue_conf |  PASS  |
+--------------------+--------+
| hello_world        |  PASS  |
+--------------------+--------+
| l2fwd              |  PASS  |
+--------------------+--------+
| softnic            |  PASS  |
+--------------------+--------+


Ubuntu 24.04
Kernel: 6.8
Compiler: gcc gcc (Ubuntu 13.3.0-6ubuntu2~24.04) 13.3.0
NIC: Intel Corporation 4xxx Series QAT 0 Mbps

Aggregate Results by Test Suite
+----------------------------+--------+
|         Test Suite         | Result |
+============================+========+
| crypto_perf_cryptodev_perf |  PASS  |
+----------------------------+--------+


To view detailed results, visit:
https://lab.dpdk.org/results/dashboard/tarballs/35333/

UNH-IOL DPDK Community Lab

To manage your email subscriptions, visit: 
https://lab.dpdk.org/results/dashboard/preferences/subscriptions/

^ permalink raw reply	[flat|nested] 11+ messages in thread

* |SUCCESS| [GIT MASTER] 5d40aaf77852b5884e137f1588726c92feb59002
@ 2025-10-24 16:23 dpdklab
  0 siblings, 0 replies; 11+ messages in thread
From: dpdklab @ 2025-10-24 16:23 UTC (permalink / raw)
  To: Test Report; +Cc: dpdk-test-reports, Ajit Khaparde

_Functional Testing PASS_

Branch: next-net-brcm-for-next-net

5d40aaf77852b5884e137f1588726c92feb59002 --> functional testing pass

Upstream job id: Template-DPDK-DTS-Pipeline#2661

Test environment and result as below:

Ubuntu 24.04
Kernel: 6.8.0-55-generic
Compiler: gcc 13.3.0
NIC: Mellanox ConnectX-5 100000 Mbps

Aggregate Results by Test Suite
+---------------------------------+--------+
|           Test Suite            | Result |
+=================================+========+
| blocklist                       |  PASS  |
+---------------------------------+--------+
| promisc_support                 |  PASS  |
+---------------------------------+--------+
| uni_pkt                         |  PASS  |
+---------------------------------+--------+
| dynamic_config                  |  PASS  |
+---------------------------------+--------+
| hello_world                     |  PASS  |
+---------------------------------+--------+
| l2fwd                           |  PASS  |
+---------------------------------+--------+
| port_restart_config_persistency |  PASS  |
+---------------------------------+--------+
| softnic                         |  PASS  |
+---------------------------------+--------+
| vlan                            |  PASS  |
+---------------------------------+--------+


To view detailed results, visit:
https://lab.dpdk.org/results/dashboard/tarballs/35333/

UNH-IOL DPDK Community Lab

To manage your email subscriptions, visit: 
https://lab.dpdk.org/results/dashboard/preferences/subscriptions/

^ permalink raw reply	[flat|nested] 11+ messages in thread

end of thread, other threads:[~2025-10-25 15:05 UTC | newest]

Thread overview: 11+ messages (download: mbox.gz / follow: Atom feed)
-- links below jump to the message on this page --
2025-10-24 22:31 |SUCCESS| [GIT MASTER] 5d40aaf77852b5884e137f1588726c92feb59002 dpdklab
  -- strict thread matches above, loose matches on Subject: below --
2025-10-25 15:05 dpdklab
2025-10-24 22:21 dpdklab
2025-10-24 22:08 dpdklab
2025-10-24 17:08 dpdklab
2025-10-24 17:03 dpdklab
2025-10-24 16:49 dpdklab
2025-10-24 16:45 dpdklab
2025-10-24 16:44 dpdklab
2025-10-24 16:39 dpdklab
2025-10-24 16:23 dpdklab

This is a public inbox, see mirroring instructions
for how to clone and mirror all data and code used for this inbox;
as well as URLs for NNTP newsgroup(s).