From: dpdklab@iol.unh.edu
To: Test Report <test-report@dpdk.org>
Cc: dpdk-test-reports@iol.unh.edu
Subject: |WARNING| pw158100-158107 [PATCH] [v5,8/8] doc: update documentation
Date: Fri, 24 Oct 2025 15:36:13 -0700 (PDT) [thread overview]
Message-ID: <68fbff5d.050a0220.c59a7.1db9SMTPIN_ADDED_MISSING@mx.google.com> (raw)
In-Reply-To: <20251024215456.282171-9-stephen@networkplumber.org>
Test-Label: iol-sample-apps-testing
Test-Status: WARNING
http://dpdk.org/patch/158107
_Testing issues_
Submitter: Stephen Hemminger <stephen@networkplumber.org>
Date: Friday, October 24 2025 21:54:03
DPDK git baseline: Repo:dpdk
Branch: master
CommitID:90f838a042f3e1bd663aca16bcdfc4dcd14b47d5
158100-158107 --> testing issues
Upstream job id: Template-DTS-Pipeline#251269
Test environment and result as below:
+--------------+----------------------+----------------------+
| Environment | dpdk_fips_validation | compressdev_zlib_pmd |
+==============+======================+======================+
| Ubuntu 20.04 | WARN | SKIPPED |
+--------------+----------------------+----------------------+
| Ubuntu 22.04 | SKIPPED | PASS |
+--------------+----------------------+----------------------+
==== 20 line log output for Ubuntu 20.04 (dpdk_fips_validation): ====
Traceback (most recent call last):
File "/dpdk-ci/tools/acvp/acvp_tool.py", line 368, in <module>
main(
File "/dpdk-ci/tools/acvp/acvp_tool.py", line 314, in main
with open(response_path, 'r') as upload_file:
FileNotFoundError: [Errno 2] No such file or directory: '/root/workspace/ACVP-FIPS-testing/out/hmac-sha-1-answers.rsp'
INFO:root:Using response file...
Traceback (most recent call last):
File "/dpdk-ci/tools/acvp/acvp_tool.py", line 368, in <module>
main(
File "/dpdk-ci/tools/acvp/acvp_tool.py", line 314, in main
with open(response_path, 'r') as upload_file:
FileNotFoundError: [Errno 2] No such file or directory: '/root/workspace/ACVP-FIPS-testing/out/acvp-tdes-cbc-answers.rsp'
INFO:root:Using response file...
Traceback (most recent call last):
File "/dpdk-ci/tools/acvp/acvp_tool.py", line 368, in <module>
main(
File "/dpdk-ci/tools/acvp/acvp_tool.py", line 314, in main
with open(response_path, 'r') as upload_file:
FileNotFoundError: [Errno 2] No such file or directory: '/root/workspace/ACVP-FIPS-testing/out/acvp-aes-ctr-answers.rsp'
==== End log output ====
Ubuntu 20.04
Kernel: 5.15
Compiler: gcc gcc (Ubuntu 9.4.0-1ubuntu1~20.04.2) 9.4.0
Ubuntu 22.04
Kernel: 5.15
Compiler: gcc gcc (Ubuntu 11.4.0-1ubuntu1~22.04.2) 11.4.0
To view detailed results, visit:
https://lab.dpdk.org/results/dashboard/patchsets/34382/
UNH-IOL DPDK Community Lab
To manage your email subscriptions, visit:
https://lab.dpdk.org/results/dashboard/preferences/subscriptions/
next prev parent reply other threads:[~2025-10-24 22:36 UTC|newest]
Thread overview: 26+ messages / expand[flat|nested] mbox.gz Atom feed top
[not found] <20251024215456.282171-9-stephen@networkplumber.org>
2025-10-24 21:21 ` |SUCCESS| pw158100-158107 [PATCH v5 8/8] doc: update documentation on pdump library qemudev
2025-10-24 21:26 ` qemudev
2025-10-24 21:56 ` |SUCCESS| pw158107 " checkpatch
2025-10-24 22:24 ` |PENDING| pw158100-158107 [PATCH] [v5,8/8] doc: update documentation dpdklab
2025-10-24 22:25 ` |SUCCESS| " dpdklab
2025-10-24 22:30 ` dpdklab
2025-10-24 22:32 ` |PENDING| " dpdklab
2025-10-24 22:35 ` |WARNING| " dpdklab
2025-10-24 22:36 ` dpdklab [this message]
2025-10-24 22:41 ` |SUCCESS| " dpdklab
2025-10-24 22:42 ` dpdklab
2025-10-24 22:47 ` dpdklab
2025-10-24 23:00 ` |PENDING| " dpdklab
2025-10-24 23:27 ` |SUCCESS| " dpdklab
2025-10-24 23:36 ` |WARNING| " dpdklab
2025-10-25 0:00 ` |SUCCESS| " dpdklab
2025-10-25 0:12 ` dpdklab
2025-10-25 0:12 ` dpdklab
2025-10-25 0:19 ` dpdklab
2025-10-25 0:22 ` |SUCCESS| pw158107 [PATCH v5 8/8] doc: update documentation on pdump library 0-day Robot
2025-10-25 0:22 ` 0-day Robot
2025-10-25 1:30 ` |SUCCESS| pw158100-158107 [PATCH] [v5,8/8] doc: update documentation dpdklab
2025-10-25 21:35 ` |WARNING| " dpdklab
2025-10-25 21:41 ` |PENDING| " dpdklab
2025-10-25 22:02 ` |WARNING| " dpdklab
2025-10-26 4:59 ` |SUCCESS| " dpdklab
Reply instructions:
You may reply publicly to this message via plain-text email
using any one of the following methods:
* Save the following mbox file, import it into your mail client,
and reply-to-all from there: mbox
Avoid top-posting and favor interleaved quoting:
https://en.wikipedia.org/wiki/Posting_style#Interleaved_style
* Reply using the --to, --cc, and --in-reply-to
switches of git-send-email(1):
git send-email \
--in-reply-to=68fbff5d.050a0220.c59a7.1db9SMTPIN_ADDED_MISSING@mx.google.com \
--to=dpdklab@iol.unh.edu \
--cc=dpdk-test-reports@iol.unh.edu \
--cc=test-report@dpdk.org \
/path/to/YOUR_REPLY
https://kernel.org/pub/software/scm/git/docs/git-send-email.html
* If your mail client supports setting the In-Reply-To header
via mailto: links, try the mailto: link
Be sure your reply has a Subject: header at the top and a blank line
before the message body.
This is a public inbox, see mirroring instructions
for how to clone and mirror all data and code used for this inbox;
as well as URLs for NNTP newsgroup(s).