From mboxrd@z Thu Jan 1 00:00:00 1970 Return-Path: Received: from mails.dpdk.org (mails.dpdk.org [217.70.189.124]) by inbox.dpdk.org (Postfix) with ESMTP id E385B489C9 for ; Sat, 25 Oct 2025 00:41:40 +0200 (CEST) Received: from mails.dpdk.org (localhost [127.0.0.1]) by mails.dpdk.org (Postfix) with ESMTP id DFADB40151; Sat, 25 Oct 2025 00:41:40 +0200 (CEST) Received: from mail-yw1-f227.google.com (mail-yw1-f227.google.com [209.85.128.227]) by mails.dpdk.org (Postfix) with ESMTP id AA5494014F for ; Sat, 25 Oct 2025 00:41:37 +0200 (CEST) Received: by mail-yw1-f227.google.com with SMTP id 00721157ae682-7849f01e56eso30245507b3.0 for ; Fri, 24 Oct 2025 15:41:37 -0700 (PDT) DKIM-Signature: v=1; a=rsa-sha256; c=relaxed/relaxed; d=iol.unh.edu; s=unh-iol; t=1761345697; x=1761950497; darn=dpdk.org; h=references:in-reply-to:cc:to:from:subject:message-id:date:from:to :cc:subject:date:message-id:reply-to; bh=GoEo+7YrHdlYOqm3LjC3jbWjSl/jA5oCXCtLFsxuJZk=; b=JZYtOhB9rAKgFXeIK+QzoMTMoWTZ9Tq0GyNIrcI7Nec0yCGGAdggcZY7/ZDCRY3CUS SYdL46qRlqAtwvXMoR4QsbSkNNXxm6mLizh94ETt/HfSpGlmImVp0LbOsnZ5wfeIBNHe W1FyDhRfh+8xNrZonRjG6GOqZkT1DJwfT4JUs= X-Google-DKIM-Signature: v=1; a=rsa-sha256; c=relaxed/relaxed; d=1e100.net; s=20230601; t=1761345697; x=1761950497; h=references:in-reply-to:cc:to:from:subject:message-id:date :x-gm-message-state:from:to:cc:subject:date:message-id:reply-to; bh=GoEo+7YrHdlYOqm3LjC3jbWjSl/jA5oCXCtLFsxuJZk=; b=qB/kMeA8G6Rtt6aXQlXtR6ZWOm3g889PZk+ubkDfpPVTD9C4edRJ3736LJdz/tWeqV bX/jI6XmM2z1Do7QJT5DVt8gIEhKz9nup9LlK6Kj/TtHUN0ILBVyshLGRio2kPfTztm7 gYXjvoKt/0FoJ1JvKyxkxMqJbYRDfURszd2DQ+URUMKgii/3NqSk32Y8aZDgB5NL9aG8 CKcX57GesW5N4Gknp5MsHTzTOJF4vp182zXBnIMgEgxnHqdFVdW1XMv282ou5nKM3gTA IZnZ8/350/IQ9pUYbxk6+lckq05aCLdHHGJXcRBHHhFytNC49iqjmZTI6oz0uxRrtAmf we/w== X-Gm-Message-State: AOJu0Yynr0JT/hK25Vtlc7iBcstXvCZJcXntAFoKida/WOg3A8aNT4qd 4dmpK2PnjPwVOQWcct6W/Hfks5XwRzr40v8E70nAhZqqNY33p5SEJhV09r9kKNB1D0rMD5M+XFj Km12eXY24o3FBfyPB4Ps8z75/V3fLLotsAGz0RWST2FSf X-Gm-Gg: ASbGncuAf5pE9Vygc5mLzjjyGBXebBuyBcaGWiaSNhGBjOY4luc+HQvAfvmr7jyNZMw 0/j4qADLhBtUaxp0GlnDnSRFXoXqMw83SbswDwjLaja/cB3z+afiaaFyK79r3OPLMMlDoepmIUh 3bEz/SQPsO9Sm0efbMLP/kk/jUWvGEgld1DGj/bJS+IBqRddSWWepHs7AQA+LlJRTMs7+alWtC2 J0WheicJui+iHf2HOuJEI6rghJvFg7LvaKf7bwP+QehZAd7JXrg4QgtlS11n4j7tc8KPxN7FArm fKW2PHv2hK9zYHuMZNFvVUIf/3B3YOpW0yZUtoTZimB6w55aj5nIWmDjeqQoIc2OidP4HkSLpfL cobmYAdzQ7jQW7PbNLpG/eHR82F/iFs8= X-Google-Smtp-Source: AGHT+IHOXgUYymXySNgPnAgJPfMTT9rb1BJ1SmICgg8bfB7AA3O6eWuX6mwc9bnQOivi8TeKt5dMcvCK+Xyp X-Received: by 2002:a05:690c:f93:b0:784:a119:e709 with SMTP id 00721157ae682-784a119e978mr175973877b3.54.1761345697039; Fri, 24 Oct 2025 15:41:37 -0700 (PDT) Received: from postal.iol.unh.edu (postal.iol.unh.edu. [132.177.123.84]) by smtp-relay.gmail.com with ESMTPS id 00721157ae682-785ed1a6708sm234387b3.17.2025.10.24.15.41.36 (version=TLS1_2 cipher=ECDHE-ECDSA-AES128-GCM-SHA256 bits=128/128); Fri, 24 Oct 2025 15:41:37 -0700 (PDT) X-Relaying-Domain: iol.unh.edu Date: Fri, 24 Oct 2025 15:41:37 -0700 (PDT) Message-ID: <68fc00a1.050a0220.18d3b5.13c5SMTPIN_ADDED_MISSING@mx.google.com> Received: from [172.21.0.3] (unknown [172.18.0.240]) by postal.iol.unh.edu (Postfix) with ESMTP id B79BA6051830; Fri, 24 Oct 2025 18:41:36 -0400 (EDT) Subject: |SUCCESS| pw158100-158107 [PATCH] [v5,8/8] doc: update documentation From: dpdklab@iol.unh.edu To: Test Report Cc: dpdk-test-reports@iol.unh.edu In-Reply-To: <20251024215456.282171-9-stephen@networkplumber.org> References: <20251024215456.282171-9-stephen@networkplumber.org> Content-Type: text/plain X-BeenThere: test-report@dpdk.org X-Mailman-Version: 2.1.29 Precedence: list List-Id: automatic DPDK test reports List-Unsubscribe: , List-Archive: List-Post: List-Help: List-Subscribe: , Errors-To: test-report-bounces@dpdk.org Test-Label: iol-compile-amd64-testing Test-Status: SUCCESS http://dpdk.org/patch/158107 _Testing PASS_ Submitter: Stephen Hemminger Date: Friday, October 24 2025 21:54:03 DPDK git baseline: Repo:dpdk Branch: master CommitID:90f838a042f3e1bd663aca16bcdfc4dcd14b47d5 158100-158107 --> testing pass Upstream job id: Windows-Compile-DPDK-Native#31887 Test environment and result as below: +---------------------+--------------------+-------------------+-------------------------+ | Environment | dpdk_meson_compile | dpdk_msvc_compile | dpdk_llvm_clang_compile | +=====================+====================+===================+=========================+ | Ubuntu 20.04 | PASS | SKIPPED | SKIPPED | +---------------------+--------------------+-------------------+-------------------------+ | FreeBSD 14.2 | PASS | SKIPPED | SKIPPED | +---------------------+--------------------+-------------------+-------------------------+ | Windows Server 2022 | SKIPPED | PASS | PASS | +---------------------+--------------------+-------------------+-------------------------+ Ubuntu 20.04 Kernel: 4.19 Compiler: gcc gcc (Ubuntu 9.4.0-1ubuntu1~20.04.2) 9.4.0 FreeBSD 14.2 Kernel: 14.2-RELEASE Compiler: clang 18.1.6 Windows Server 2022 Kernel: 10.0.20348.2031 Compiler: clang 15.0.7, gcc 14.1.0 (MinGW), and MSVC VS 19.39.33521 To view detailed results, visit: https://lab.dpdk.org/results/dashboard/patchsets/34382/ UNH-IOL DPDK Community Lab To manage your email subscriptions, visit: https://lab.dpdk.org/results/dashboard/preferences/subscriptions/