From mboxrd@z Thu Jan 1 00:00:00 1970 Return-Path: Received: from mails.dpdk.org (mails.dpdk.org [217.70.189.124]) by inbox.dpdk.org (Postfix) with ESMTP id 33ADF489C9 for ; Sat, 25 Oct 2025 01:15:02 +0200 (CEST) Received: from mails.dpdk.org (localhost [127.0.0.1]) by mails.dpdk.org (Postfix) with ESMTP id 187E04014F; Sat, 25 Oct 2025 01:15:02 +0200 (CEST) Received: from mail-qv1-f97.google.com (mail-qv1-f97.google.com [209.85.219.97]) by mails.dpdk.org (Postfix) with ESMTP id 943214014F for ; Sat, 25 Oct 2025 01:15:00 +0200 (CEST) Received: by mail-qv1-f97.google.com with SMTP id 6a1803df08f44-78f75b0a058so22426496d6.0 for ; Fri, 24 Oct 2025 16:15:00 -0700 (PDT) DKIM-Signature: v=1; a=rsa-sha256; c=relaxed/relaxed; d=iol.unh.edu; s=unh-iol; t=1761347700; x=1761952500; darn=dpdk.org; h=cc:to:from:subject:message-id:date:from:to:cc:subject:date :message-id:reply-to; bh=772WrfTYxHG0YGkOaO65kO/yRGcxMERlJ0tWQ3xuvP8=; b=CkOjtyU1oT9EX9zRogDoFZAZmm0y5RxjuxmlDgmH/19JtImHVa8PAyIBHvDRxU9IMp sm8GPLFoxYhMmVObwDOc9oC86T5uXJhuilAl3H6CMIokrXUlqhmcWk+3YNBjncavQOl6 JlrvfNMe8/vWoXDUd9hcOmxVPculugcKzMnLs= X-Google-DKIM-Signature: v=1; a=rsa-sha256; c=relaxed/relaxed; d=1e100.net; s=20230601; t=1761347700; x=1761952500; h=cc:to:from:subject:message-id:date:x-gm-message-state:from:to:cc :subject:date:message-id:reply-to; bh=772WrfTYxHG0YGkOaO65kO/yRGcxMERlJ0tWQ3xuvP8=; b=iaVJbYS+zA7SKp8Ry0AlB/7tXhPcCbVCJ8Ll7aZsgOmCYXyAVn/Ih+VU9en2ryf3Sr U4v8H6SkeeUKxUio9pJo+1AIs1GUsl1ClW1BGK6Za8Wj3pRltBaiZNQWPRv5fsrAnwtu IT1r2pfH/jeJzRzyTpbGFGjWrTcMnD2ns+5PSuUtRBMXPAOzqaWmseraOurrzL+SVTHs IpygwJH3qGSr+lhReaEQlLYO6bTlHAGK+4adFPLoS9SR4ZBnxxlggY3JKbPOoZ+C4N7f hok+QI3rgjpyLmFniOFvLW460fpqx4jgmnWIllDzJhHQ7h08cYXz/5A1qvtN7zGGxkgm tltQ== X-Gm-Message-State: AOJu0YwvMq/Km/c9D0F3qQjPw3xq22JsCnMQfeKtXO2K2QdiExjGrbLM 0rLykxhvRBQIGWpSw1NstRCmc+y2rI6dCMDLISP5+CJ723B7cCeGehyFIvfUHPgvuCmp2tIEzFj hD0eWOMyQcaz070okCpTCCxj56H731kOhQ/0wnCEDTTR95V3CNdg5 X-Gm-Gg: ASbGnctReFPOj3qUTfMW2zw0qsdXLVBa2qQDe6nAcLHoMQ1IH9RBcbcmcWdtqg+83Ja /JUXH/vLVMu/HRsKKfgE+8lj31+0SxUR06po6NWShWzS4cWPkEfseYpa+kPjbFbbFuHSqAtolFz zlXyoIGs1u+tqxZ3AITvR/5q2WWQc0Ekk8TTXGK+tLaxINDN2IDbf/i2vHAndSq8mzAYu04dJJi Vjjc4zl9jlMQpIyz0WDlKfBl7eEtrhCPzh5RKSFL1kJXf+Ir5Ck3x8dvX9uNSj1r9nmFsynuXrn BH2i6LcVehTvL5HDfimGPvG1eejK1ehIEAdH/fCDfcBRIMgJuhe3Md6JsSXnS4qFXHvDZEb54KT pfA8MI/yy X-Google-Smtp-Source: AGHT+IFG3t+6eYWIBqQumNtzd0LjsrQHQfj8srEmNXOU52C9qSOeiZ1+WG+FS9NDyduW14S/fcb+QlENCKH7 X-Received: by 2002:a05:6214:20e5:b0:721:7a6a:b703 with SMTP id 6a1803df08f44-87c206395bemr399120166d6.53.1761347699891; Fri, 24 Oct 2025 16:14:59 -0700 (PDT) Received: from postal.iol.unh.edu (postal.iol.unh.edu. [2606:4100:3880:1234::84]) by smtp-relay.gmail.com with ESMTPS id 6a1803df08f44-87fc494949csm392566d6.15.2025.10.24.16.14.59 (version=TLS1_2 cipher=ECDHE-ECDSA-AES128-GCM-SHA256 bits=128/128); Fri, 24 Oct 2025 16:14:59 -0700 (PDT) X-Relaying-Domain: iol.unh.edu Date: Fri, 24 Oct 2025 16:14:59 -0700 (PDT) Message-ID: <68fc0873.050a0220.2eb64b.2127SMTPIN_ADDED_MISSING@mx.google.com> Received: from [172.21.0.3] (unknown [172.18.0.240]) by postal.iol.unh.edu (Postfix) with ESMTP id 91F056051830; Fri, 24 Oct 2025 19:14:59 -0400 (EDT) Subject: |SUCCESS| [GIT MASTER] b287e404643aeab5bb5db084c142789df187844e From: dpdklab@iol.unh.edu To: Test Report Cc: dpdk-test-reports@iol.unh.edu, Xueming Li , Christian Ehrhardt , Kevin Traynor , Luca Boccassi Content-Type: text/plain X-BeenThere: test-report@dpdk.org X-Mailman-Version: 2.1.29 Precedence: list List-Id: automatic DPDK test reports List-Unsubscribe: , List-Archive: List-Post: List-Help: List-Subscribe: , Errors-To: test-report-bounces@dpdk.org _Testing PASS_ Branch: tags/v24.11 b287e404643aeab5bb5db084c142789df187844e --> testing pass Upstream job id: Generic-DPDK-Compile-Meson#437372 Test environment and result as below: +-------------------------------+--------------------+-------------------+-------------------------+----------------------+-------------------+------------------+ | Environment | dpdk_meson_compile | dpdk_msvc_compile | dpdk_llvm_clang_compile | dpdk_mingw64_compile | dpdk_compile_spdk | dpdk_compile_ovs | +===============================+====================+===================+=========================+======================+===================+==================+ | FreeBSD 14.2 | PASS | SKIPPED | SKIPPED | SKIPPED | SKIPPED | SKIPPED | +-------------------------------+--------------------+-------------------+-------------------------+----------------------+-------------------+------------------+ | Ubuntu 20.04 | PASS | SKIPPED | SKIPPED | SKIPPED | SKIPPED | SKIPPED | +-------------------------------+--------------------+-------------------+-------------------------+----------------------+-------------------+------------------+ | CentOS Stream 9 | PASS | SKIPPED | SKIPPED | SKIPPED | PASS | SKIPPED | +-------------------------------+--------------------+-------------------+-------------------------+----------------------+-------------------+------------------+ | CentOS Stream 10 | PASS | SKIPPED | SKIPPED | SKIPPED | SKIPPED | SKIPPED | +-------------------------------+--------------------+-------------------+-------------------------+----------------------+-------------------+------------------+ | Debian GNU/Linux 12 | PASS | SKIPPED | SKIPPED | SKIPPED | PASS | SKIPPED | +-------------------------------+--------------------+-------------------+-------------------------+----------------------+-------------------+------------------+ | Fedora Linux 42 | PASS | SKIPPED | SKIPPED | SKIPPED | PASS | PASS | +-------------------------------+--------------------+-------------------+-------------------------+----------------------+-------------------+------------------+ | openSUSE Leap 15.6 | PASS | SKIPPED | SKIPPED | SKIPPED | SKIPPED | SKIPPED | +-------------------------------+--------------------+-------------------+-------------------------+----------------------+-------------------+------------------+ | Red Hat Enterprise Linux 8.10 | PASS | SKIPPED | SKIPPED | SKIPPED | SKIPPED | SKIPPED | +-------------------------------+--------------------+-------------------+-------------------------+----------------------+-------------------+------------------+ | Red Hat Enterprise Linux 9.5 | PASS | SKIPPED | SKIPPED | SKIPPED | SKIPPED | SKIPPED | +-------------------------------+--------------------+-------------------+-------------------------+----------------------+-------------------+------------------+ | Ubuntu 22.04 | PASS | SKIPPED | SKIPPED | SKIPPED | PASS | SKIPPED | +-------------------------------+--------------------+-------------------+-------------------------+----------------------+-------------------+------------------+ | Ubuntu 24.04 | PASS | SKIPPED | SKIPPED | SKIPPED | PASS | PASS | +-------------------------------+--------------------+-------------------+-------------------------+----------------------+-------------------+------------------+ | Alpine Linux 3.22.0 | PASS | SKIPPED | SKIPPED | SKIPPED | SKIPPED | SKIPPED | +-------------------------------+--------------------+-------------------+-------------------------+----------------------+-------------------+------------------+ | Windows Server 2022 | SKIPPED | PASS | PASS | PASS | SKIPPED | SKIPPED | +-------------------------------+--------------------+-------------------+-------------------------+----------------------+-------------------+------------------+ FreeBSD 14.2 Kernel: 14.2-RELEASE Compiler: clang 18.1.6 Ubuntu 20.04 Kernel: 4.19 Compiler: gcc gcc (Ubuntu 9.4.0-1ubuntu1~20.04.2) 9.4.0 CentOS Stream 9 Kernel: 5.15 Compiler: gcc gcc (GCC) 11.5.0 20240719 (Red Hat 11.5.0-11) CentOS Stream 10 Kernel: 5.15 Compiler: gcc gcc (GCC) 14.2.1 20250110 (Red Hat 14.2.1-8) Debian GNU/Linux 12 Kernel: 5.15 Compiler: gcc gcc (Debian 12.2.0-14+deb12u1) 12.2.0 Fedora Linux 42 Kernel: 5.15 Compiler: clang gcc (GCC) 15.2.1 20250808 (Red Hat 15.2.1-1) openSUSE Leap 15.6 Kernel: 5.15 Compiler: gcc gcc (SUSE Linux) 7.5.0 Red Hat Enterprise Linux 8.10 Kernel: 5.15 Compiler: gcc gcc (GCC) 8.5.0 20210514 (Red Hat 8.5.0-22) Red Hat Enterprise Linux 9.5 Kernel: 5.15 Compiler: gcc gcc (GCC) 11.5.0 20240719 (Red Hat 11.5.0-2) Ubuntu 22.04 Kernel: 5.15 Compiler: gcc gcc (Ubuntu 11.4.0-1ubuntu1~22.04) 11.4.0 Ubuntu 24.04 Kernel: 5.15 Compiler: gcc gcc (Ubuntu 13.3.0-6ubuntu2~24.04) 13.3.0 Alpine Linux 3.22.0 Kernel: 5.15 Compiler: gcc gcc (Alpine 14.2.0) 14.2.0 Windows Server 2022 Kernel: 10.0.20348.2031 Compiler: clang 15.0.7, gcc 14.1.0 (MinGW), and MSVC VS 19.39.33521 To view detailed results, visit: https://lab.dpdk.org/results/dashboard/tarballs/35326/ UNH-IOL DPDK Community Lab To manage your email subscriptions, visit: https://lab.dpdk.org/results/dashboard/preferences/subscriptions/