From mboxrd@z Thu Jan 1 00:00:00 1970 Return-Path: Received: from mails.dpdk.org (mails.dpdk.org [217.70.189.124]) by inbox.dpdk.org (Postfix) with ESMTP id 18AE5489C9 for ; Sat, 25 Oct 2025 01:23:06 +0200 (CEST) Received: from mails.dpdk.org (localhost [127.0.0.1]) by mails.dpdk.org (Postfix) with ESMTP id 15D9F4014F; Sat, 25 Oct 2025 01:23:06 +0200 (CEST) Received: from mail-io1-f100.google.com (mail-io1-f100.google.com [209.85.166.100]) by mails.dpdk.org (Postfix) with ESMTP id 7058D4014F for ; Sat, 25 Oct 2025 01:23:04 +0200 (CEST) Received: by mail-io1-f100.google.com with SMTP id ca18e2360f4ac-93e7ece3025so104463339f.1 for ; Fri, 24 Oct 2025 16:23:04 -0700 (PDT) DKIM-Signature: v=1; a=rsa-sha256; c=relaxed/relaxed; d=iol.unh.edu; s=unh-iol; t=1761348184; x=1761952984; darn=dpdk.org; h=references:in-reply-to:cc:to:from:subject:message-id:date:from:to :cc:subject:date:message-id:reply-to; bh=yVftPdV1tYvw/F/5ewIxfxZ7fwI9G1k9szXO5bQJvdM=; b=ckvCnZZps/9qAWzY/GMvrGqrE1al123PzXUPfRpnJvD6qhrQFKnC+AKv9/YuIDsMa7 riJuABEtI1SUphDDsBsbRrIrRfigHQu2q1FIP3DBcthlIHMj86QtncFXsHWlfl9nkWA8 XkE9iqruj/zVlppj8VAYoLuKYixd9XyS+nLLg= X-Google-DKIM-Signature: v=1; a=rsa-sha256; c=relaxed/relaxed; d=1e100.net; s=20230601; t=1761348184; x=1761952984; h=references:in-reply-to:cc:to:from:subject:message-id:date :x-gm-message-state:from:to:cc:subject:date:message-id:reply-to; bh=yVftPdV1tYvw/F/5ewIxfxZ7fwI9G1k9szXO5bQJvdM=; b=q9aNHx/LZ2C8fDslm5F8cjHU0LyOQ7kLTnF8n6TGz7wt9Hwyk7Rm7NRdesOu2esa80 SWHTkRgv9yDIJh7zr65XH/9mmPIPq2I1nACqLIMraIFZcO3rT0AKoFD+g42T56qxUr3E Dyr/fpgvqEfmHiUaOdNTzp8/srWRmOpIeq+gmUxXaR1Qze3OiO87TxV7y+5YNHeEObPq CXLPizIscH50KJXmIuO89nCIBiSvZRv+X+JgD46ezEtnFi+x5YxOt1418AFFFMr19z2v rgA4EDYMDYSxwTE1dqvxM25vxkXgsXfDhjzYTzW8bn94RI+rLeCwVvvwMZGjNBz8C8Jb swow== X-Gm-Message-State: AOJu0YwkIYhKokPGl/AGZBBhANO1ClvrWf1e8livyZSbyJijKtcewh+r ogQDGLZAWBaDSiv+ID09D7tkoFox9GlyUFI4sH6LbEY7FzLwJ+RqG+QY+Tryud66OIw/bg3K01R BWGEgM7fcKBlI+5d4GO/aVIcePTCIFxrun9yEwvlo2vm6 X-Gm-Gg: ASbGncsu8tA3rzZjOXr9/jW6JqrtFQXc8yuJgk2izrm1XMQI8tehI4ad3Xa4MZlRAl4 C4rcXInR7G+fnCKHggVLjfsLuSMtnFGb0Bhz1sEpeZ83ZpQfnHYITwAHzEW8LUfNdbvbkDeJrlJ NCNgZkXG0n6ovMpIafqNMjuUQZkQ6s5wkGcmrTw6h3PMzGnITi8Ow0fMpcn8cCgEIk5AaAHJCe5 FxVvaTOgPCdesuEQw5xE241ep4ClHTLnS7/fi8MBb3VpaAmgYI7n7aML+KXzxvW4z4dJwB6POje nDXfVNSZP622Hb5b43ipc52bqwfPxYI3pZG5MandzSfhlfHJdHaPE3Nm4p9pjt+Qa7H/plX7whd shEGiXBZLNzLyKZx0NQ2hW0NHNJOu+UM= X-Google-Smtp-Source: AGHT+IE6nBBXytsNxx50R9rQmicR5x6SEcWStmFFXEg81SdO8/OimZxe9AXCsBIhmOFNR1UtyC3tC3OSAh+n X-Received: by 2002:a05:6602:2c14:b0:940:36e0:ad2f with SMTP id ca18e2360f4ac-941eebd3261mr742781139f.7.1761348183763; Fri, 24 Oct 2025 16:23:03 -0700 (PDT) Received: from postal.iol.unh.edu (postal.iol.unh.edu. [132.177.123.84]) by smtp-relay.gmail.com with ESMTPS id 8926c6da1cb9f-5aea76ea688sm37583173.2.2025.10.24.16.23.03 (version=TLS1_2 cipher=ECDHE-ECDSA-AES128-GCM-SHA256 bits=128/128); Fri, 24 Oct 2025 16:23:03 -0700 (PDT) X-Relaying-Domain: iol.unh.edu Date: Fri, 24 Oct 2025 16:23:03 -0700 (PDT) Message-ID: <68fc0a57.050a0220.168b69.209eSMTPIN_ADDED_MISSING@mx.google.com> Received: from [172.21.0.2] (unknown [172.18.0.240]) by postal.iol.unh.edu (Postfix) with ESMTP id 5B26C6051830; Fri, 24 Oct 2025 19:23:03 -0400 (EDT) Subject: |SUCCESS| pw158108 [PATCH] mbuf: fix build failure if MBUF_HISTORY_D From: dpdklab@iol.unh.edu To: Test Report Cc: dpdk-test-reports@iol.unh.edu In-Reply-To: <20251024222946.323662-1-stephen@networkplumber.org> References: <20251024222946.323662-1-stephen@networkplumber.org> Content-Type: text/plain X-BeenThere: test-report@dpdk.org X-Mailman-Version: 2.1.29 Precedence: list List-Id: automatic DPDK test reports List-Unsubscribe: , List-Archive: List-Post: List-Help: List-Subscribe: , Errors-To: test-report-bounces@dpdk.org Test-Label: iol-compile-amd64-testing Test-Status: SUCCESS http://dpdk.org/patch/158108 _Testing PASS_ Submitter: Stephen Hemminger Date: Friday, October 24 2025 22:29:46 DPDK git baseline: Repo:dpdk Branch: master CommitID:90f838a042f3e1bd663aca16bcdfc4dcd14b47d5 158108 --> testing pass Upstream job id: Windows-Compile-DPDK-Native#31890 Test environment and result as below: +---------------------+-------------------------+-------------------+--------------------+----------------------+ | Environment | dpdk_llvm_clang_compile | dpdk_msvc_compile | dpdk_meson_compile | dpdk_mingw64_compile | +=====================+=========================+===================+====================+======================+ | Windows Server 2022 | PASS | PASS | SKIPPED | PASS | +---------------------+-------------------------+-------------------+--------------------+----------------------+ | FreeBSD 14.2 | SKIPPED | SKIPPED | PASS | SKIPPED | +---------------------+-------------------------+-------------------+--------------------+----------------------+ | Ubuntu 20.04 | SKIPPED | SKIPPED | PASS | SKIPPED | +---------------------+-------------------------+-------------------+--------------------+----------------------+ Windows Server 2022 Kernel: 10.0.20348.2031 Compiler: clang 15.0.7, gcc 14.1.0 (MinGW), and MSVC VS 19.39.33521 FreeBSD 14.2 Kernel: 14.2-RELEASE Compiler: clang 18.1.6 Ubuntu 20.04 Kernel: 4.19 Compiler: gcc gcc (Ubuntu 9.4.0-1ubuntu1~20.04.2) 9.4.0 To view detailed results, visit: https://lab.dpdk.org/results/dashboard/patchsets/34383/ UNH-IOL DPDK Community Lab To manage your email subscriptions, visit: https://lab.dpdk.org/results/dashboard/preferences/subscriptions/