From mboxrd@z Thu Jan 1 00:00:00 1970 Return-Path: Received: from mails.dpdk.org (mails.dpdk.org [217.70.189.124]) by inbox.dpdk.org (Postfix) with ESMTP id BAAB5489C9 for ; Sat, 25 Oct 2025 01:27:28 +0200 (CEST) Received: from mails.dpdk.org (localhost [127.0.0.1]) by mails.dpdk.org (Postfix) with ESMTP id B51914014F; Sat, 25 Oct 2025 01:27:28 +0200 (CEST) Received: from mail-pf1-f225.google.com (mail-pf1-f225.google.com [209.85.210.225]) by mails.dpdk.org (Postfix) with ESMTP id B578B4014F for ; Sat, 25 Oct 2025 01:27:26 +0200 (CEST) Received: by mail-pf1-f225.google.com with SMTP id d2e1a72fcca58-7a226a0798cso2238864b3a.2 for ; Fri, 24 Oct 2025 16:27:26 -0700 (PDT) DKIM-Signature: v=1; a=rsa-sha256; c=relaxed/relaxed; d=iol.unh.edu; s=unh-iol; t=1761348446; x=1761953246; darn=dpdk.org; h=references:in-reply-to:cc:to:from:subject:message-id:date:from:to :cc:subject:date:message-id:reply-to; bh=sF06e6g8Hg8/L9OyhWx4QIJaFhw0L0p8PPguzoIEEQg=; b=CYpembgZ2oMClKKIZi1IItbHrghxFWqzPsMA2hGDGZr70y0+4qT1wfmPZuDGMuR+Uv DQ4sylmd5jwomic6vuQf0Eou4VVyvGmO65rjH2irN9uqZcLwWQV5PHkhG2RK98b1MRUe YgsfMfEuHxnQXphsfpfPkHfpIwNHdzyfBhSq8= X-Google-DKIM-Signature: v=1; a=rsa-sha256; c=relaxed/relaxed; d=1e100.net; s=20230601; t=1761348446; x=1761953246; h=references:in-reply-to:cc:to:from:subject:message-id:date :x-gm-message-state:from:to:cc:subject:date:message-id:reply-to; bh=sF06e6g8Hg8/L9OyhWx4QIJaFhw0L0p8PPguzoIEEQg=; b=VJSbs7Ap5x6FBuW94J6pPKGilNyuu4XXduN4m8QsJcoxT5HeePPzdfPgvzj5Jf0JYB 5y2nxO8dHSmj4ti5Ca3eS0ha5W4ioudNyW4i2B7+RSO5nixLMdUAafEYQSWzWYU0S6L7 oMbx00zN1oD4wJCoAFt8Bn60KqcCjpTy+jwL1oyD7KQ5AYIrcPVecWqBOI/cMAwc+YKa PUinERoFr2f7TlAi807pIf/050o6Jq69dEzMMxOULsG55FUlAmP+VTZGjEwzAX/BmIT6 aFC8J5GNPpXfNxBWMBdq4OG13CQWFNODdxpUFyDJs3xYN4r9MgJ3XzonJeyRIA3JaxN9 p4Gw== X-Gm-Message-State: AOJu0YwhYbM7heAwkWrY6eD8b/AXap/9GaHLjJOOtvrjMBnpKNZ0sGne 6GTsJ2kSros+kDsP4jHgrkFZzEC5pbAmMXBqWcTNRMjuwmJzYB3XzCIGnF8EZaaLAYb4H6yiF6O STZpF8drNwUfyJRfRxmgfvHAyZAXTqBrEFIsoV5ck7Vp6+jA11VyPD55XvPxs X-Gm-Gg: ASbGncutGyRiNHqtAM9IAlnFk/xxQyBUCNoNDQnIN1G4JqPPvvMqR9dQdlHo7KyOCki Y6MsmoxPVRh0sXHqHoUO1xhZWIoQs5WNCLAq4vkDKHN/hkXMA9i6x8b/TGdC3vciF/9OjUVj/Y7 W1n9vj8Zs5AY61wu34XzJieJrRlNDQF4s07wlJp96qOUxePjR/0rE+lMw3ZliiFHuzFlLiA2vYK QMn8PPiei2oLutYrs3jYVrNVVV2LYnZewGuSlQYkteqjBB8Fwve//bpRNh5rhZrfttUUMFkH4w7 2MrufbsXuIGINFtIeLHPA2lQIwxFtUFLYPD+1Qqc480Ik+/wIdZAOJHYlCgUMVBNKXIWNc3T/X0 FLiJc0KJs X-Google-Smtp-Source: AGHT+IFiN3lfraVgVPJ6UMCehaq266oL7IHvwmXgisoI5JmrfprXDWawFkvjfZh92or+pcC16JXr37kwdqqA X-Received: by 2002:a05:6a20:2443:b0:301:daeb:5898 with SMTP id adf61e73a8af0-334a864ab42mr44984859637.58.1761348445903; Fri, 24 Oct 2025 16:27:25 -0700 (PDT) Received: from postal.iol.unh.edu (postal.iol.unh.edu. [2606:4100:3880:1234::84]) by smtp-relay.gmail.com with ESMTPS id 41be03b00d2f7-b712e178063sm24753a12.10.2025.10.24.16.27.25 (version=TLS1_2 cipher=ECDHE-ECDSA-AES128-GCM-SHA256 bits=128/128); Fri, 24 Oct 2025 16:27:25 -0700 (PDT) X-Relaying-Domain: iol.unh.edu Date: Fri, 24 Oct 2025 16:27:25 -0700 (PDT) Message-ID: <68fc0b5d.050a0220.37df9e.1499SMTPIN_ADDED_MISSING@mx.google.com> Received: from [172.21.0.2] (unknown [172.18.0.240]) by postal.iol.unh.edu (Postfix) with ESMTP id 281066051830; Fri, 24 Oct 2025 19:27:25 -0400 (EDT) Subject: |SUCCESS| pw158100-158107 [PATCH] [v5,8/8] doc: update documentation From: dpdklab@iol.unh.edu To: Test Report Cc: dpdk-test-reports@iol.unh.edu In-Reply-To: <20251024215456.282171-9-stephen@networkplumber.org> References: <20251024215456.282171-9-stephen@networkplumber.org> Content-Type: text/plain X-BeenThere: test-report@dpdk.org X-Mailman-Version: 2.1.29 Precedence: list List-Id: automatic DPDK test reports List-Unsubscribe: , List-Archive: List-Post: List-Help: List-Subscribe: , Errors-To: test-report-bounces@dpdk.org Test-Label: iol-unit-amd64-testing Test-Status: SUCCESS http://dpdk.org/patch/158107 _Testing PASS_ Submitter: Stephen Hemminger Date: Friday, October 24 2025 21:54:03 DPDK git baseline: Repo:dpdk Branch: master CommitID:90f838a042f3e1bd663aca16bcdfc4dcd14b47d5 158100-158107 --> testing pass Upstream job id: Generic-Unit-Test-DPDK#385252 Test environment and result as below: +-------------------------------+----------------+ | Environment | dpdk_unit_test | +===============================+================+ | Debian GNU/Linux 12 | PASS | +-------------------------------+----------------+ | CentOS Stream 10 | PASS | +-------------------------------+----------------+ | CentOS Stream 9 | PASS | +-------------------------------+----------------+ | Fedora Linux 40 | PASS | +-------------------------------+----------------+ | Red Hat Enterprise Linux 8.10 | PASS | +-------------------------------+----------------+ | Red Hat Enterprise Linux 9.5 | PASS | +-------------------------------+----------------+ | Fedora Linux 42 | PASS | +-------------------------------+----------------+ | Fedora Linux 41 | PASS | +-------------------------------+----------------+ | Windows Server 2022 | PASS | +-------------------------------+----------------+ | Ubuntu 20.04 | PASS | +-------------------------------+----------------+ | Ubuntu 22.04 | PASS | +-------------------------------+----------------+ | Ubuntu 24.04 | PASS | +-------------------------------+----------------+ Debian GNU/Linux 12 Kernel: 5.15 Compiler: gcc gcc (Debian 12.2.0-14+deb12u1) 12.2.0 CentOS Stream 10 Kernel: 5.15 Compiler: gcc gcc (GCC) 14.2.1 20250110 (Red Hat 14.2.1-8) CentOS Stream 9 Kernel: 5.15 Compiler: gcc gcc (GCC) 11.5.0 20240719 (Red Hat 11.5.0-11) Fedora Linux 40 Kernel: 5.15 Compiler: clang gcc (GCC) 14.2.1 20240912 (Red Hat 14.2.1-3) Red Hat Enterprise Linux 8.10 Kernel: 5.15 Compiler: gcc gcc (GCC) 8.5.0 20210514 (Red Hat 8.5.0-22) Red Hat Enterprise Linux 9.5 Kernel: 5.15 Compiler: gcc gcc (GCC) 11.5.0 20240719 (Red Hat 11.5.0-2) Fedora Linux 42 Kernel: 5.15 Compiler: gcc gcc (GCC) 15.2.1 20250808 (Red Hat 15.2.1-1) Fedora Linux 41 Kernel: 5.15 Compiler: clang gcc (GCC) 14.3.1 20250523 (Red Hat 14.3.1-1) Windows Server 2022 Kernel: 10.0.20348.2031 Compiler: clang 15.0.7, gcc 14.1.0 (MinGW), and MSVC VS 19.39.33521 Ubuntu 20.04 Kernel: 5.15 Compiler: gcc gcc (Ubuntu 9.4.0-1ubuntu1~20.04.2) 9.4.0 Ubuntu 22.04 Kernel: 5.15 Compiler: gcc gcc (Ubuntu 11.4.0-1ubuntu1~22.04) 11.4.0 Ubuntu 24.04 Kernel: 5.15 Compiler: gcc gcc (Ubuntu 13.3.0-6ubuntu2~24.04) 13.3.0 To view detailed results, visit: https://lab.dpdk.org/results/dashboard/patchsets/34382/ UNH-IOL DPDK Community Lab To manage your email subscriptions, visit: https://lab.dpdk.org/results/dashboard/preferences/subscriptions/