From mboxrd@z Thu Jan 1 00:00:00 1970 Return-Path: Received: from mails.dpdk.org (mails.dpdk.org [217.70.189.124]) by inbox.dpdk.org (Postfix) with ESMTP id 984B7489C9 for ; Sat, 25 Oct 2025 01:46:10 +0200 (CEST) Received: from mails.dpdk.org (localhost [127.0.0.1]) by mails.dpdk.org (Postfix) with ESMTP id 7D83340151; Sat, 25 Oct 2025 01:46:10 +0200 (CEST) Received: from mail-yw1-f226.google.com (mail-yw1-f226.google.com [209.85.128.226]) by mails.dpdk.org (Postfix) with ESMTP id DA4AC4014F for ; Sat, 25 Oct 2025 01:46:09 +0200 (CEST) Received: by mail-yw1-f226.google.com with SMTP id 00721157ae682-71d6014810fso25958137b3.0 for ; Fri, 24 Oct 2025 16:46:09 -0700 (PDT) DKIM-Signature: v=1; a=rsa-sha256; c=relaxed/relaxed; d=iol.unh.edu; s=unh-iol; t=1761349569; x=1761954369; darn=dpdk.org; h=references:in-reply-to:cc:to:from:subject:message-id:date:from:to :cc:subject:date:message-id:reply-to; bh=tiFf5x1lVZw4P6ITbgyE+yer4EQjFqaN90R6ggTExzM=; b=L88YYCV8oJU41BKgm7RkBX0XNHN50cPGR8JdAUe4Sz2+yR+fdQDHcuMXVqox8F6vJL 1BAx9oRfneZd69h31Erug0gP5Ix/NeqNixES6u4uuodHxuDU2ZDnFtHcmuJUNlihoLtK dfYVxEZVpiSYzezoIhxYwv348jg4FN8FA6rWQ= X-Google-DKIM-Signature: v=1; a=rsa-sha256; c=relaxed/relaxed; d=1e100.net; s=20230601; t=1761349569; x=1761954369; h=references:in-reply-to:cc:to:from:subject:message-id:date :x-gm-message-state:from:to:cc:subject:date:message-id:reply-to; bh=tiFf5x1lVZw4P6ITbgyE+yer4EQjFqaN90R6ggTExzM=; b=EBsGAHweleLyd8CxAd7eC5f0KIqGYDkgBWMHLZzNYioI04LhEZFJ2UhAoAA19AieEA DMhckJ0j20EVgV2RVzB0SaRIbEXi1nUYfGzBf5dryZK3v0+PBdUI8ijziluQQ2Vk+o9f +oZiAXzH9djmlnJQ75cgF1xXUM3ONvBBw4S4e/gtNdSOzUMbfqgBXV8HM29KK7BJD2SD IzWaJG/u3Dw7rcQTGte8IuOhuEHtkGY5VgQ4++q8Kv1IgSmF+ZbzRjDuT0NGNK9a0LXz wt+NKmeSlYyUedw82nOFEeLY5qmmbj4a+s7yRByukrXuSNKpcpmG1JtPefG/IDv2T4cD BC/Q== X-Gm-Message-State: AOJu0YyS03v0MCvhXqG5USKyAu8Y8TvWZJK1AfMeIXmvZDS9yOohj/VY k0P5+tsZOJCPswKA2UJ7X38wz1xmX+imVstd0sTwymGKazA2i9ZdY0HL9/JPaY8NECY6twL+pUo alDtn+TnQ5yAS6qVimjqhLUB1I+lKXHKbXeaYinItAwoHtm4fIvU0Dx67D06R X-Gm-Gg: ASbGncuIeFpiNEeoHtKawg8la6RgRTN+W6JrG/El5wMVAde8HzwBBKBSGiBUnvn9t/1 TuuNijQAjxclSZy4KiTgD/ALTZBCvJbxpk9iqHQB0X1nLLeDqNFI4O9a8Q7Wo8ncr7zcF+8J3FQ PsnWVMAhch090ierfFHYJ3cfy2bQ8k8gHFJmPSuTz1nDyQRecD/LNgLJMec/ssp7dZ5hHNQdQd+ MJTJLN9RoOIDk3MhKPKTYkLEkgb+oLr5NhPC8nOb6Fbwnj807BV29nmsDocVl1ZyR5mrN+kcEVU FNMletbbMmGJttgjlzrYSe0fIlAI4shRPavKXcMtldJbIgH8LletkUaFl2miJ29abzW5J8aI9FB VL2++BF8j X-Google-Smtp-Source: AGHT+IGedUFarAZVlMplHazJE1+/F/nvHVVu36QFB1/PmjoLHaVLjGJl6aZL70Gzlfa9xqAxJfQ7JpbYMQKR X-Received: by 2002:a05:690c:868e:10b0:784:f14d:6946 with SMTP id 00721157ae682-785cdca9e0amr69837147b3.55.1761349569242; Fri, 24 Oct 2025 16:46:09 -0700 (PDT) Received: from postal.iol.unh.edu (postal.iol.unh.edu. [2606:4100:3880:1234::84]) by smtp-relay.gmail.com with ESMTPS id 00721157ae682-785ed1de3bdsm295517b3.27.2025.10.24.16.46.09 (version=TLS1_2 cipher=ECDHE-ECDSA-AES128-GCM-SHA256 bits=128/128); Fri, 24 Oct 2025 16:46:09 -0700 (PDT) X-Relaying-Domain: iol.unh.edu Date: Fri, 24 Oct 2025 16:46:09 -0700 (PDT) Message-ID: <68fc0fc1.050a0220.cde6a.1935SMTPIN_ADDED_MISSING@mx.google.com> Received: from [172.21.0.4] (unknown [172.18.0.240]) by postal.iol.unh.edu (Postfix) with ESMTP id E8B9E6051830; Fri, 24 Oct 2025 19:46:08 -0400 (EDT) Subject: |SUCCESS| pw158057 [PATCH] [1/1] eal: correct memory ordering in MCS From: dpdklab@iol.unh.edu To: Test Report Cc: dpdk-test-reports@iol.unh.edu In-Reply-To: <20251023184724.1759497-1-wathsala.vithanage@arm.com> References: <20251023184724.1759497-1-wathsala.vithanage@arm.com> Content-Type: text/plain X-BeenThere: test-report@dpdk.org X-Mailman-Version: 2.1.29 Precedence: list List-Id: automatic DPDK test reports List-Unsubscribe: , List-Archive: List-Post: List-Help: List-Subscribe: , Errors-To: test-report-bounces@dpdk.org Test-Label: iol-compile-arm64-testing Test-Status: SUCCESS http://dpdk.org/patch/158057 _Testing PASS_ Submitter: Wathsala Vithanage Date: Thursday, October 23 2025 18:47:24 DPDK git baseline: Repo:dpdk Branch: master CommitID:8dc7bf943fb6fad7b30b3a494f2216c2c4cf64d7 158057 --> testing pass Upstream job id: Generic-DPDK-Compile-Meson#437248 Test environment and result as below: +------------------------------+--------------------+ | Environment | dpdk_meson_compile | +==============================+====================+ | Red Hat Enterprise Linux 9.5 | PASS | +------------------------------+--------------------+ | Ubuntu 20.04 | PASS | +------------------------------+--------------------+ | Debian GNU/Linux 12 | PASS | +------------------------------+--------------------+ | Fedora Linux 42 | PASS | +------------------------------+--------------------+ | Ubuntu 22.04 | PASS | +------------------------------+--------------------+ | CentOS Stream 10 | PASS | +------------------------------+--------------------+ | Ubuntu 24.04 | PASS | +------------------------------+--------------------+ | CentOS Stream 9 | PASS | +------------------------------+--------------------+ Red Hat Enterprise Linux 9.5 Kernel: 5.4 Compiler: gcc gcc (GCC) 11.5.0 20240719 (Red Hat 11.5.0-2) Ubuntu 20.04 Kernel: 5.15 Compiler: aarch64-linux-gnu-gcc gcc (Ubuntu 9.4.0-1ubuntu1~20.04.2) 9.4.0 Debian GNU/Linux 12 Kernel: 5.4 Compiler: gcc gcc (Debian 12.2.0-14+deb12u1) 12.2.0 Fedora Linux 42 Kernel: 5.4 Compiler: gcc gcc (GCC) 15.2.1 20250808 (Red Hat 15.2.1-1) Ubuntu 22.04 Kernel: 5.4 Compiler: gcc gcc (Ubuntu 11.4.0-1ubuntu1~22.04) 11.4.0 CentOS Stream 10 Kernel: 5.4 Compiler: gcc gcc (GCC) 14.2.1 20250110 (Red Hat 14.2.1-8) Ubuntu 24.04 Kernel: 5.4 Compiler: gcc gcc (Ubuntu 13.3.0-6ubuntu2~24.04) 13.3.0 CentOS Stream 9 Kernel: 5.4 Compiler: gcc gcc (GCC) 11.5.0 20240719 (Red Hat 11.5.0-11) To view detailed results, visit: https://lab.dpdk.org/results/dashboard/patchsets/34365/ UNH-IOL DPDK Community Lab To manage your email subscriptions, visit: https://lab.dpdk.org/results/dashboard/preferences/subscriptions/