From mboxrd@z Thu Jan 1 00:00:00 1970 Return-Path: Received: from mails.dpdk.org (mails.dpdk.org [217.70.189.124]) by inbox.dpdk.org (Postfix) with ESMTP id AD8DC489C9 for ; Sat, 25 Oct 2025 01:46:38 +0200 (CEST) Received: from mails.dpdk.org (localhost [127.0.0.1]) by mails.dpdk.org (Postfix) with ESMTP id A3A1F4014F; Sat, 25 Oct 2025 01:46:38 +0200 (CEST) Received: from mail-qk1-f226.google.com (mail-qk1-f226.google.com [209.85.222.226]) by mails.dpdk.org (Postfix) with ESMTP id 928EB4014F for ; Sat, 25 Oct 2025 01:46:34 +0200 (CEST) Received: by mail-qk1-f226.google.com with SMTP id af79cd13be357-89e7a7e0256so93348885a.2 for ; Fri, 24 Oct 2025 16:46:34 -0700 (PDT) DKIM-Signature: v=1; a=rsa-sha256; c=relaxed/relaxed; d=iol.unh.edu; s=unh-iol; t=1761349594; x=1761954394; darn=dpdk.org; h=references:in-reply-to:cc:to:from:subject:message-id:date:from:to :cc:subject:date:message-id:reply-to; bh=Ow2JSH2pU6Bj8UsN4lVTWTXTufJn99yXICNngzvjV1c=; b=QiOEoxYzPouxnPJIuHHczt8Qfw69N6Gy8UhzYLK27bK/dVkV6NLmKijqTlMP1rPL3q nUDnypg6Qy8Lv4WZs9iGyuH6EZOxK3k8Fdwk8JqjnQM2zuR/UNlWhcXpsxtX3f3dF9j2 9RytG4OUtWJZLL8hEpQlC6kCx93x1kmGC2L1M= X-Google-DKIM-Signature: v=1; a=rsa-sha256; c=relaxed/relaxed; d=1e100.net; s=20230601; t=1761349594; x=1761954394; h=references:in-reply-to:cc:to:from:subject:message-id:date :x-gm-message-state:from:to:cc:subject:date:message-id:reply-to; bh=Ow2JSH2pU6Bj8UsN4lVTWTXTufJn99yXICNngzvjV1c=; b=t7Y3y04oZhdc2um5QOlQ0fdedmq3ILp6O6sf32t4QHlkLuMlk/mZ+Rj1E1JcS0c7tY y3cP7yF0loq9CPGUAeGCmKUxMDJV1PFwHkPAtF9GRpSsTD3rmfG/I1SLsMoPqpdbkhqC FOGVPFiSyuJszPwaYLlUwFRSwheCFKieFQlIrftyPla2qnYOb3K+HEJE+VjJk7tomlHr Axl8KFte6y642olPRA4s2XJ/2vULuHUwxSxa46GNfkdLZYAQY/+fAwoYBxDr+VHV+t1N brF02pyS39xE3oJQd13rY3gG+0mQpVhIkfFOb729o+rHWBC0F+8lAdYbBehVXqmd1Zcl 0Jig== X-Gm-Message-State: AOJu0YyP0o7o2xElBWScO/T6qZNRVhCr0XvuVgb/su5uCAX9m17AN1e4 e6YFLUwhwxHPG+JEktWe4JUfKZYIeUnw4VL0AiB84xqeORn6sn0bNGf5/UzeD7VzTHbL+XPpMaf V5Kglo0h19pLKB5PK3SLRZK/pYtwOb/rgrremPkF+AMPB X-Gm-Gg: ASbGncv2NQsa1KCoQDqMeafn+RVF4JpXhSFPIpsWRJgYzNjVyWlGqGE4Y4U91DDY9yn cxUysvU6N9W2HwZ2kJpei3eQB0fOv+5VPniBQyBhIfungRxZ33oBxfzcxFmJXrsTxLkb0+Pzgrr CZOSENL8SM+TJ/vUMfsTpJm21hDynig9UTSXDJ1TslE1FbaPOjOTwZFTu9j1NiJI+9DYauLzFFn E6gr6IFPhgGrNIVDt+8h/9KyGllXI6DvAEpcQvocr9ZRLX7gN5Iqtz0tWy1KkTkfPxvGzncJGWZ Ala3vjGk5k9ut3UxrGdvYaV8JbMIUfNhNDoInWnzUaKf8afL9GwMzkU43t3bWvwzmbV7G8mdhHd o5cm2jzgBLVRIfBcHXL7MpJmZPPIDU+s= X-Google-Smtp-Source: AGHT+IHykXxkvymmjPLH6lairAdjQtZA7joTKzQyUWWzdLknIXQPKosoP7UUGaDNk0juE5stiK3C078fv6TM X-Received: by 2002:a05:620a:2956:b0:827:e9b0:2761 with SMTP id af79cd13be357-89070113a00mr3903111185a.49.1761349593898; Fri, 24 Oct 2025 16:46:33 -0700 (PDT) Received: from postal.iol.unh.edu (postal.iol.unh.edu. [132.177.123.84]) by smtp-relay.gmail.com with ESMTPS id af79cd13be357-89f2346532bsm4260485a.0.2025.10.24.16.46.33 (version=TLS1_2 cipher=ECDHE-ECDSA-AES128-GCM-SHA256 bits=128/128); Fri, 24 Oct 2025 16:46:33 -0700 (PDT) X-Relaying-Domain: iol.unh.edu Date: Fri, 24 Oct 2025 16:46:33 -0700 (PDT) Message-ID: <68fc0fd9.050a0220.26926e.2431SMTPIN_ADDED_MISSING@mx.google.com> Received: from [172.21.0.4] (unknown [172.18.0.240]) by postal.iol.unh.edu (Postfix) with ESMTP id A0A976051830; Fri, 24 Oct 2025 19:46:33 -0400 (EDT) Subject: |SUCCESS| pw158057 [PATCH] [1/1] eal: correct memory ordering in MCS From: dpdklab@iol.unh.edu To: Test Report Cc: dpdk-test-reports@iol.unh.edu In-Reply-To: <20251023184724.1759497-1-wathsala.vithanage@arm.com> References: <20251023184724.1759497-1-wathsala.vithanage@arm.com> Content-Type: text/plain X-BeenThere: test-report@dpdk.org X-Mailman-Version: 2.1.29 Precedence: list List-Id: automatic DPDK test reports List-Unsubscribe: , List-Archive: List-Post: List-Help: List-Subscribe: , Errors-To: test-report-bounces@dpdk.org Test-Label: iol-compile-arm64-testing Test-Status: SUCCESS http://dpdk.org/patch/158057 _Testing PASS_ Submitter: Wathsala Vithanage Date: Thursday, October 23 2025 18:47:24 DPDK git baseline: Repo:dpdk Branch: master CommitID:8dc7bf943fb6fad7b30b3a494f2216c2c4cf64d7 158057 --> testing pass Upstream job id: Generic-DPDK-Compile-Meson#437249 Test environment and result as below: +------------------------------+--------------------+ | Environment | dpdk_meson_compile | +==============================+====================+ | Red Hat Enterprise Linux 9.5 | PASS | +------------------------------+--------------------+ | Ubuntu 20.04 | PASS | +------------------------------+--------------------+ | Debian GNU/Linux 12 | PASS | +------------------------------+--------------------+ | Fedora Linux 42 | PASS | +------------------------------+--------------------+ | Ubuntu 22.04 | PASS | +------------------------------+--------------------+ | CentOS Stream 10 | PASS | +------------------------------+--------------------+ | Ubuntu 24.04 | PASS | +------------------------------+--------------------+ | CentOS Stream 9 | PASS | +------------------------------+--------------------+ Red Hat Enterprise Linux 9.5 Kernel: 5.4 Compiler: gcc gcc (GCC) 11.5.0 20240719 (Red Hat 11.5.0-2) Ubuntu 20.04 Kernel: 5.15 Compiler: aarch64-linux-gnu-gcc gcc (Ubuntu 9.4.0-1ubuntu1~20.04.2) 9.4.0 Debian GNU/Linux 12 Kernel: 5.4 Compiler: gcc gcc (Debian 12.2.0-14+deb12u1) 12.2.0 Fedora Linux 42 Kernel: 5.4 Compiler: gcc gcc (GCC) 15.2.1 20250808 (Red Hat 15.2.1-1) Ubuntu 22.04 Kernel: 5.4 Compiler: gcc gcc (Ubuntu 11.4.0-1ubuntu1~22.04) 11.4.0 CentOS Stream 10 Kernel: 5.4 Compiler: gcc gcc (GCC) 14.2.1 20250110 (Red Hat 14.2.1-8) Ubuntu 24.04 Kernel: 5.4 Compiler: gcc gcc (Ubuntu 13.3.0-6ubuntu2~24.04) 13.3.0 CentOS Stream 9 Kernel: 5.4 Compiler: gcc gcc (GCC) 11.5.0 20240719 (Red Hat 11.5.0-11) To view detailed results, visit: https://lab.dpdk.org/results/dashboard/patchsets/34365/ UNH-IOL DPDK Community Lab To manage your email subscriptions, visit: https://lab.dpdk.org/results/dashboard/preferences/subscriptions/