From mboxrd@z Thu Jan 1 00:00:00 1970 Return-Path: Received: from mails.dpdk.org (mails.dpdk.org [217.70.189.124]) by inbox.dpdk.org (Postfix) with ESMTP id 9E1AD489C9 for ; Sat, 25 Oct 2025 01:54:41 +0200 (CEST) Received: from mails.dpdk.org (localhost [127.0.0.1]) by mails.dpdk.org (Postfix) with ESMTP id 956174014F; Sat, 25 Oct 2025 01:54:41 +0200 (CEST) Received: from mail-io1-f97.google.com (mail-io1-f97.google.com [209.85.166.97]) by mails.dpdk.org (Postfix) with ESMTP id C88AD4014F for ; Sat, 25 Oct 2025 01:54:39 +0200 (CEST) Received: by mail-io1-f97.google.com with SMTP id ca18e2360f4ac-940d27610b8so95796539f.1 for ; Fri, 24 Oct 2025 16:54:39 -0700 (PDT) DKIM-Signature: v=1; a=rsa-sha256; c=relaxed/relaxed; d=iol.unh.edu; s=unh-iol; t=1761350079; x=1761954879; darn=dpdk.org; h=references:in-reply-to:cc:to:from:subject:message-id:date:from:to :cc:subject:date:message-id:reply-to; bh=/QvNBhpJiaFQAuENgoA17EB3oD8kiVBSXPux6GTRBGo=; b=RVyKb94zwHjf550EZhdTdVJr3DB+a0m6o+12aWEhZd6IgVyXiDXiwHesTaj/36NcIa q5xGp0qneEMFMQQ1az1VzaF3EibtX3+2PVe8W/IToykpbt5dVqWacLvDDdZcPKGN9rke cnFEaiCRM6Myhp97HLv936KpjrPNVaKkAeIds= X-Google-DKIM-Signature: v=1; a=rsa-sha256; c=relaxed/relaxed; d=1e100.net; s=20230601; t=1761350079; x=1761954879; h=references:in-reply-to:cc:to:from:subject:message-id:date :x-gm-message-state:from:to:cc:subject:date:message-id:reply-to; bh=/QvNBhpJiaFQAuENgoA17EB3oD8kiVBSXPux6GTRBGo=; b=Aa2vntQ7Ji6KSKGXOH0aQKTjxldZec0Fn1parf9Q5hyb/c9QjjnFSMaSSkjeaR00Hl T0mp03SNNhZOCC2AieWizrXPWokvDBwzw45wxqdtmHzMGh/aSelKsMRfZcAx+8hexF2m eEqVQff1BJDw0go0MK5Tv2xtsV4+fsgiX3iPdIb0ymr14t6iuAcKZZn34nYtLTtuSY7N Hy84XA92infHjuT3MUJzVZ8b4GltZErrDYRY3wgbW3fFYrO+ky/I3a4qqY3JMRQC14DT D2QwUYft+js9ozmJlEfVF8pTlzOOISGS8uFBLeFFEfZ32li7G7duDJiKox199ywCvKNI dAFg== X-Gm-Message-State: AOJu0Yz5QOPKeBC42toR1zLQNS3TRusvcEUowMFkfUYktC+RtjxqtzM3 ScOS4gMCEBbNU3TAF7yNoeLwL0iNm+0FZSQsAE85Iuwxsck1Kqpkdi/L+yInhhU5BhlVIiMcaxq ZRshyMatL2PI6RonPG4lBMmdV4JxhFPu1nzZBkXGKfmMk X-Gm-Gg: ASbGnctMAmL4do7NuwEjKo7XfQL40L+qtCuFBbduQFI0aZNnWTNpPz3RSKk4fntI2ho fDc3Bk2uoX4n7ps2FRxVXgIeF+2naxF4Exp9NLq63Qqxg1SS0QOJx3dj61sAjY9pU2gPewrrVrt BIToDO2hc038noj+XFM+bW6WPwq4M2OG75oxm7jnhOht9qRpkOV2Lt/jYEZXB+DCySwqj832PPO qCGmKa0zO+O4V3UlOzBXQetf8OmsC0biiMow3QDYi6WetakHMkbCr9Yddp/pwcs0zn1NJj+vuhe nU1XaSJZz8d0Lcej0nr48aD+gPuctAfALfVVOh/0WgNni/ZTe+ikD5fKFHK2K8Is725Ps61efbS HfGdZer7GRHuMZx6fw0pzsLLBzduA8cI= X-Google-Smtp-Source: AGHT+IGQS6Zylr0r9GkmoFbFBx/ckAtqeYLHU67u/6Qa99tUqgmUFa/4RSjh4VbUICyk+o0+ImEV/BCzTuaM X-Received: by 2002:a05:6e02:156c:b0:430:ad98:981f with SMTP id e9e14a558f8ab-430c524b96bmr392179345ab.4.1761350079066; Fri, 24 Oct 2025 16:54:39 -0700 (PDT) Received: from postal.iol.unh.edu (postal.iol.unh.edu. [132.177.123.84]) by smtp-relay.gmail.com with ESMTPS id 8926c6da1cb9f-5aea986786csm40302173.19.2025.10.24.16.54.38 (version=TLS1_2 cipher=ECDHE-ECDSA-AES128-GCM-SHA256 bits=128/128); Fri, 24 Oct 2025 16:54:39 -0700 (PDT) X-Relaying-Domain: iol.unh.edu Date: Fri, 24 Oct 2025 16:54:39 -0700 (PDT) Message-ID: <68fc11bf.050a0220.10f023.22b3SMTPIN_ADDED_MISSING@mx.google.com> Received: from [172.21.0.2] (unknown [172.18.0.240]) by postal.iol.unh.edu (Postfix) with ESMTP id AFE966051830; Fri, 24 Oct 2025 19:54:38 -0400 (EDT) Subject: |SUCCESS| pw158108 [PATCH] mbuf: fix build failure if MBUF_HISTORY_D From: dpdklab@iol.unh.edu To: Test Report Cc: dpdk-test-reports@iol.unh.edu In-Reply-To: <20251024222946.323662-1-stephen@networkplumber.org> References: <20251024222946.323662-1-stephen@networkplumber.org> Content-Type: text/plain X-BeenThere: test-report@dpdk.org X-Mailman-Version: 2.1.29 Precedence: list List-Id: automatic DPDK test reports List-Unsubscribe: , List-Archive: List-Post: List-Help: List-Subscribe: , Errors-To: test-report-bounces@dpdk.org Test-Label: iol-unit-amd64-testing Test-Status: SUCCESS http://dpdk.org/patch/158108 _Testing PASS_ Submitter: Stephen Hemminger Date: Friday, October 24 2025 22:29:46 DPDK git baseline: Repo:dpdk Branch: master CommitID:90f838a042f3e1bd663aca16bcdfc4dcd14b47d5 158108 --> testing pass Upstream job id: Generic-Unit-Test-DPDK#385285 Test environment and result as below: +-------------------------------+----------------+ | Environment | dpdk_unit_test | +===============================+================+ | CentOS Stream 10 | PASS | +-------------------------------+----------------+ | CentOS Stream 9 | PASS | +-------------------------------+----------------+ | Debian GNU/Linux 12 | PASS | +-------------------------------+----------------+ | Fedora Linux 40 | PASS | +-------------------------------+----------------+ | Fedora Linux 41 | PASS | +-------------------------------+----------------+ | Red Hat Enterprise Linux 9.5 | PASS | +-------------------------------+----------------+ | Fedora Linux 42 | PASS | +-------------------------------+----------------+ | Ubuntu 20.04 | PASS | +-------------------------------+----------------+ | Ubuntu 24.04 | PASS | +-------------------------------+----------------+ | Red Hat Enterprise Linux 8.10 | PASS | +-------------------------------+----------------+ | Ubuntu 22.04 | PASS | +-------------------------------+----------------+ | Windows Server 2022 | PASS | +-------------------------------+----------------+ CentOS Stream 10 Kernel: 5.15 Compiler: gcc gcc (GCC) 14.2.1 20250110 (Red Hat 14.2.1-8) CentOS Stream 9 Kernel: 5.15 Compiler: gcc gcc (GCC) 11.5.0 20240719 (Red Hat 11.5.0-11) Debian GNU/Linux 12 Kernel: 5.15 Compiler: gcc gcc (Debian 12.2.0-14+deb12u1) 12.2.0 Fedora Linux 40 Kernel: 5.15 Compiler: gcc gcc (GCC) 14.2.1 20240912 (Red Hat 14.2.1-3) Fedora Linux 41 Kernel: 5.15 Compiler: gcc gcc (GCC) 14.3.1 20250523 (Red Hat 14.3.1-1) Red Hat Enterprise Linux 9.5 Kernel: 5.15 Compiler: gcc gcc (GCC) 11.5.0 20240719 (Red Hat 11.5.0-2) Fedora Linux 42 Kernel: 5.15 Compiler: clang gcc (GCC) 15.2.1 20250808 (Red Hat 15.2.1-1) Ubuntu 20.04 Kernel: 5.15 Compiler: gcc gcc (Ubuntu 9.4.0-1ubuntu1~20.04.2) 9.4.0 Ubuntu 24.04 Kernel: 5.15 Compiler: gcc gcc (Ubuntu 13.3.0-6ubuntu2~24.04) 13.3.0 Red Hat Enterprise Linux 8.10 Kernel: 5.15 Compiler: gcc gcc (GCC) 8.5.0 20210514 (Red Hat 8.5.0-22) Ubuntu 22.04 Kernel: 5.15 Compiler: gcc gcc (Ubuntu 11.4.0-1ubuntu1~22.04) 11.4.0 Windows Server 2022 Kernel: 10.0.20348.2031 Compiler: clang 15.0.7, gcc 14.1.0 (MinGW), and MSVC VS 19.39.33521 To view detailed results, visit: https://lab.dpdk.org/results/dashboard/patchsets/34383/ UNH-IOL DPDK Community Lab To manage your email subscriptions, visit: https://lab.dpdk.org/results/dashboard/preferences/subscriptions/