From mboxrd@z Thu Jan 1 00:00:00 1970 Return-Path: Received: from mails.dpdk.org (mails.dpdk.org [217.70.189.124]) by inbox.dpdk.org (Postfix) with ESMTP id D84A2489CA for ; Sat, 25 Oct 2025 02:14:43 +0200 (CEST) Received: from mails.dpdk.org (localhost [127.0.0.1]) by mails.dpdk.org (Postfix) with ESMTP id D2BDC402E9; Sat, 25 Oct 2025 02:14:43 +0200 (CEST) Received: from mail-pj1-f98.google.com (mail-pj1-f98.google.com [209.85.216.98]) by mails.dpdk.org (Postfix) with ESMTP id 1E683402E4 for ; Sat, 25 Oct 2025 02:14:42 +0200 (CEST) Received: by mail-pj1-f98.google.com with SMTP id 98e67ed59e1d1-33b9dc8d517so2721851a91.0 for ; Fri, 24 Oct 2025 17:14:42 -0700 (PDT) DKIM-Signature: v=1; a=rsa-sha256; c=relaxed/relaxed; d=iol.unh.edu; s=unh-iol; t=1761351281; x=1761956081; darn=dpdk.org; h=cc:to:from:subject:message-id:date:from:to:cc:subject:date :message-id:reply-to; bh=ifNn4mU/C4N++mHTCtYVL5/6qR2aKBTjWycrMxlH9Wk=; b=NN+3JQbjdqT2/kPthOt4PaeoSp49s7FOSy1Y7dLBHT5Jec4Ifgq27HNV6S0Tu6KXsk FDJHDdQwHolOsRdu37dPHenT+Oh45AyOnWf8EFOwFQFyLuELa4NE1g1dlAcX/wSVuURt V/PgfhdvegQoSz7n/NGhoDsMkRxNJCMPW21tA= X-Google-DKIM-Signature: v=1; a=rsa-sha256; c=relaxed/relaxed; d=1e100.net; s=20230601; t=1761351281; x=1761956081; h=cc:to:from:subject:message-id:date:x-gm-message-state:from:to:cc :subject:date:message-id:reply-to; bh=ifNn4mU/C4N++mHTCtYVL5/6qR2aKBTjWycrMxlH9Wk=; b=TVY8L6BHfSu7ph55w9KnjFN02kUApb6qFjFhVsUDP3afAFLFH1kRba3akgPcDCFxkh R/d5TthVKfz2OA7+6qdk0AA8+yrZvPDhjlGDUu/yStahWLX+9kB4lMcpN/fkW7rw96SL PqywKCIfcGpF8K1pebMQwNxwceI37sEJfV4Q6fEehle5Ypkmgqp/clVThMVHDqT49ht4 CR7Dw5RcBsI/Ez/QnjiiqIukcSw/VpDOXXaR+Ou8q7pOJX3TJxbmZyvp8/zH2pnY8HZo 82WZieaBvlltyv8j+mqO+h8gjLkfAways4qO0VWmthgG7L+WDYgvJwCeHhMBOEGWT4DO 0Aqg== X-Gm-Message-State: AOJu0Yxs4GM3DpuaHIwOT6E7/UBWoUpQXL5iAOaUHWdglJbmEyQ8fVMX kvOeurF3NIhPPF8LnNOMGpPb5D+TQqmKkAOMMKVP4gK/X6MejUifKuCSAYtAawxSWUSge07gn6q nRGwAxoUfWURbzQ9x9mklkCcrNgq3PkDQDrO5oiqYMIIPO1jNtffF X-Gm-Gg: ASbGnctDW3jpWjvA6YWsSr8PZRiLHyzy6b6TFssL5g2k6E30WsWMqDxbTPBXAXJhQ9n 3bbMlt3ONV7YPgE69lY9qVi4gGou1yMd8WEdhv2GwcXXuVjmDfThXs6OA/B9gsqIKB+GqQO7zcm SVqeCtEEXQy9R9OTJL3NdGq0nYZjhZOsmsjF9v7nKzXuPVJpjlRGLrShueym9ZGPeX4CBWrSZOR 0oBNvKA0lBPWC9NRJUe2o67muZfq0NZmqVjVWe3qpByvlo0pVxilMiLv8BtS334J/th2RXo7MRU 5fJuaZgRpEJ5PunqaqEEZrBT0rZznzXT5v7yVkt24ngQBevsLfYeYDDGX/vaiwNiztCGaiFAI+F QkgVGdQnR X-Google-Smtp-Source: AGHT+IFD2S/4eIwI2PAFSmpKz0a2Iq6u19Y9D5HuLAvPTo2b5gXQiaV4gZkVgntEA67FiUYUzHie2XjOyrmc X-Received: by 2002:a17:90b:4d0b:b0:33d:a0fd:257b with SMTP id 98e67ed59e1d1-33da0fd264amr25822934a91.36.1761351281106; Fri, 24 Oct 2025 17:14:41 -0700 (PDT) Received: from postal.iol.unh.edu (postal.iol.unh.edu. [2606:4100:3880:1234::84]) by smtp-relay.gmail.com with ESMTPS id 98e67ed59e1d1-33fed7b292csm41585a91.3.2025.10.24.17.14.41 (version=TLS1_2 cipher=ECDHE-ECDSA-AES128-GCM-SHA256 bits=128/128); Fri, 24 Oct 2025 17:14:41 -0700 (PDT) X-Relaying-Domain: iol.unh.edu Date: Fri, 24 Oct 2025 17:14:41 -0700 (PDT) Message-ID: <68fc1671.170a0220.12fd3a.233bSMTPIN_ADDED_MISSING@mx.google.com> Received: from [172.21.0.2] (unknown [172.18.0.240]) by postal.iol.unh.edu (Postfix) with ESMTP id 64C396051830; Fri, 24 Oct 2025 20:14:40 -0400 (EDT) Subject: |SUCCESS| [GIT MASTER] 3b43ce3f4a54468e7ef65760c2fd7b4d6ee6d9fc From: dpdklab@iol.unh.edu To: Test Report Cc: dpdk-test-reports@iol.unh.edu, Xueming Li , Christian Ehrhardt , Kevin Traynor , Luca Boccassi Content-Type: text/plain X-BeenThere: test-report@dpdk.org X-Mailman-Version: 2.1.29 Precedence: list List-Id: automatic DPDK test reports List-Unsubscribe: , List-Archive: List-Post: List-Help: List-Subscribe: , Errors-To: test-report-bounces@dpdk.org _Testing PASS_ Branch: tags/v22.11 3b43ce3f4a54468e7ef65760c2fd7b4d6ee6d9fc --> testing pass Upstream job id: Generic-Unit-Test-DPDK#384771 Test environment and result as below: +-----------------+---------------------------+------------------------------+--------------+----------------+ | Environment | cryptodev_sw_zuc_autotest | cryptodev_sw_snow3g_autotest | lpm_autotest | dpdk_unit_test | +=================+===========================+==============================+==============+================+ | Debian 12 (arm) | PASS | PASS | SKIPPED | SKIPPED | +-----------------+---------------------------+------------------------------+--------------+----------------+ | Ubuntu 20.04 | SKIPPED | SKIPPED | PASS | SKIPPED | +-----------------+---------------------------+------------------------------+--------------+----------------+ | Ubuntu 22.04 | SKIPPED | SKIPPED | SKIPPED | PASS | +-----------------+---------------------------+------------------------------+--------------+----------------+ Debian 12 (arm) Kernel: Depends on container host Compiler: gcc (Debian 12.2.0-14) 12.2.0 Ubuntu 20.04 Kernel: 5.4 Compiler: gcc gcc (Ubuntu 9.4.0-1ubuntu1~20.04.2) 9.4.0 Ubuntu 22.04 Kernel: 5.15 Compiler: gcc gcc (Ubuntu 11.4.0-1ubuntu1~22.04.2) 11.4.0 To view detailed results, visit: https://lab.dpdk.org/results/dashboard/tarballs/35324/ UNH-IOL DPDK Community Lab To manage your email subscriptions, visit: https://lab.dpdk.org/results/dashboard/preferences/subscriptions/