From mboxrd@z Thu Jan 1 00:00:00 1970 Return-Path: Received: from mails.dpdk.org (mails.dpdk.org [217.70.189.124]) by inbox.dpdk.org (Postfix) with ESMTP id E6ED3489CA for ; Sat, 25 Oct 2025 02:14:57 +0200 (CEST) Received: from mails.dpdk.org (localhost [127.0.0.1]) by mails.dpdk.org (Postfix) with ESMTP id E11E2402E4; Sat, 25 Oct 2025 02:14:57 +0200 (CEST) Received: from mail-vs1-f97.google.com (mail-vs1-f97.google.com [209.85.217.97]) by mails.dpdk.org (Postfix) with ESMTP id 95B69402E9 for ; Sat, 25 Oct 2025 02:14:47 +0200 (CEST) Received: by mail-vs1-f97.google.com with SMTP id ada2fe7eead31-5d980e08e06so1684501137.0 for ; Fri, 24 Oct 2025 17:14:47 -0700 (PDT) DKIM-Signature: v=1; a=rsa-sha256; c=relaxed/relaxed; d=iol.unh.edu; s=unh-iol; t=1761351287; x=1761956087; darn=dpdk.org; h=cc:to:from:subject:message-id:date:from:to:cc:subject:date :message-id:reply-to; bh=p2lpovDZRnV8risnTgKgGHEDOs+We7/kCrZ1L6gk2pk=; b=aM3JyuR8Z+QtIfzSCLVeyO+RRfImOpaMWm384b8PghHCt72EMd4HyS/0+VseSXjWvq NFiEThh7yJSQHtmvQiFnBpviFsFvvOmximQs44CrYbi6lQXz+sn8FTGav2IlnqCE4nek yHqMQsDNC+7naqXovZg+KZ/eQ5ccSs2eZHarE= X-Google-DKIM-Signature: v=1; a=rsa-sha256; c=relaxed/relaxed; d=1e100.net; s=20230601; t=1761351287; x=1761956087; h=cc:to:from:subject:message-id:date:x-gm-message-state:from:to:cc :subject:date:message-id:reply-to; bh=p2lpovDZRnV8risnTgKgGHEDOs+We7/kCrZ1L6gk2pk=; b=lkGoUEDTh1V0KI6kvb8c1aVkj2H15ExoNDSkCUs8LsvbTchcn44D5DA1OK9MMJgcnV bJt6nxE1SAhSsF7HuB1n9WvNP0k+YT1FvGtNwHKbpmeaqcwPAHMffi4zWxtmFCVJHFxl vZlZkm808DvykhCF4ljljyz0pmIeQj7Z1nGwyAmkYKxtQS8douMWdtYvAx0C/MG3EnVD 2QOFqOp3jFD4PUnDbSLvPZJjyZyjCfw8q10+mxiSacDBzpuxFBa+wfdxYcjiRG6KCuwu hyBzO3OBUbDKRsfPR8Z1JdgtxOFkzhrfLzBSBllYq5Osr0qKfwVt/X52TF1EGTxExXks e7bw== X-Gm-Message-State: AOJu0YzLob/H9/y2nJXJjBWyGm+vfT1Q2ZN+WIQidJE8Jp3+er9Rnsgv B0WRjg7rIU940wGWyrDmtM134b2YrK9zYrhXLBSZSWyoXEytk5kXRhL7Ijj5Mjsn1wqomyhWQCk gZj85u20mOGma98vtxTCm6P6vEv8hM678drO0hR+X4ILJ55YsQT/2 X-Gm-Gg: ASbGncsAsD3SR1lCDNTkcaL9BlNtBvSRPv0g/HxdZ+/B20eo1OBwLG/7XOLJ3yFaI/+ dkDdZTSHF5tVuyfWTC0OBedr8URI0CDWEmEWac7GzeTL9uIWP8kJpzTnkmbqFDWdpWsnt38mkUx UGp+x9lzezrIo2JNbQSH/HYpxeonbA40jyZOSy96qQSeYWXZcwQeWd+ieWfxhUIdlF5t0kdCf8q LzDEPcS/zA5JwoCloJp7GaoLVLmX3oASIxSKLZonq33yYkNYfqxr004yN8RkHg4T+C2TXiiHg+D 4sNvmqo+Fr5Da3AFlhrFd1Z+/WU3VdJGAw+K8Rzat4I3kIK06lS2Xx6ul81ZgC94raPIaWpVt1F 3lqYXdtl1 X-Google-Smtp-Source: AGHT+IHvAHzjkzS7zmj47Mu8BbvXNY134RvnKaBJmBS4v7Ima2iHgoWK9x+N9SRpt5hV+nn94dba7La7Mz5+ X-Received: by 2002:a05:6102:3e8f:b0:5d5:f6ae:38e1 with SMTP id ada2fe7eead31-5d7dd6ba7e6mr9395949137.44.1761351286869; Fri, 24 Oct 2025 17:14:46 -0700 (PDT) Received: from postal.iol.unh.edu (postal.iol.unh.edu. [2606:4100:3880:1234::84]) by smtp-relay.gmail.com with ESMTPS id a1e0cc1a2514c-934c3fb35f3sm12257241.3.2025.10.24.17.14.46 (version=TLS1_2 cipher=ECDHE-ECDSA-AES128-GCM-SHA256 bits=128/128); Fri, 24 Oct 2025 17:14:46 -0700 (PDT) X-Relaying-Domain: iol.unh.edu Date: Fri, 24 Oct 2025 17:14:46 -0700 (PDT) Message-ID: <68fc1676.050a0220.1c1208.0a51SMTPIN_ADDED_MISSING@mx.google.com> Received: from [172.21.0.2] (unknown [172.18.0.240]) by postal.iol.unh.edu (Postfix) with ESMTP id 8C34A6051830; Fri, 24 Oct 2025 20:14:46 -0400 (EDT) Subject: |SUCCESS| [GIT MASTER] 3b43ce3f4a54468e7ef65760c2fd7b4d6ee6d9fc From: dpdklab@iol.unh.edu To: Test Report Cc: dpdk-test-reports@iol.unh.edu, Xueming Li , Christian Ehrhardt , Kevin Traynor , Luca Boccassi Content-Type: text/plain X-BeenThere: test-report@dpdk.org X-Mailman-Version: 2.1.29 Precedence: list List-Id: automatic DPDK test reports List-Unsubscribe: , List-Archive: List-Post: List-Help: List-Subscribe: , Errors-To: test-report-bounces@dpdk.org _Testing PASS_ Branch: tags/v22.11 3b43ce3f4a54468e7ef65760c2fd7b4d6ee6d9fc --> testing pass Upstream job id: Generic-Unit-Test-DPDK#384770 Test environment and result as below: +-----------------+---------------------------+------------------------------+--------------+----------------+ | Environment | cryptodev_sw_zuc_autotest | cryptodev_sw_snow3g_autotest | lpm_autotest | dpdk_unit_test | +=================+===========================+==============================+==============+================+ | Debian 12 (arm) | PASS | PASS | SKIPPED | SKIPPED | +-----------------+---------------------------+------------------------------+--------------+----------------+ | Ubuntu 20.04 | SKIPPED | SKIPPED | PASS | SKIPPED | +-----------------+---------------------------+------------------------------+--------------+----------------+ | Ubuntu 22.04 | SKIPPED | SKIPPED | SKIPPED | PASS | +-----------------+---------------------------+------------------------------+--------------+----------------+ Debian 12 (arm) Kernel: Depends on container host Compiler: gcc (Debian 12.2.0-14) 12.2.0 Ubuntu 20.04 Kernel: 5.4 Compiler: gcc gcc (Ubuntu 9.4.0-1ubuntu1~20.04.2) 9.4.0 Ubuntu 22.04 Kernel: 5.15 Compiler: gcc gcc (Ubuntu 11.4.0-1ubuntu1~22.04.2) 11.4.0 To view detailed results, visit: https://lab.dpdk.org/results/dashboard/tarballs/35324/ UNH-IOL DPDK Community Lab To manage your email subscriptions, visit: https://lab.dpdk.org/results/dashboard/preferences/subscriptions/