From mboxrd@z Thu Jan 1 00:00:00 1970 Return-Path: Received: from mails.dpdk.org (mails.dpdk.org [217.70.189.124]) by inbox.dpdk.org (Postfix) with ESMTP id 3BBEC489CA for ; Sat, 25 Oct 2025 02:17:20 +0200 (CEST) Received: from mails.dpdk.org (localhost [127.0.0.1]) by mails.dpdk.org (Postfix) with ESMTP id 348CA402E4; Sat, 25 Oct 2025 02:17:20 +0200 (CEST) Received: from mail-pl1-f228.google.com (mail-pl1-f228.google.com [209.85.214.228]) by mails.dpdk.org (Postfix) with ESMTP id A18A4402E4 for ; Sat, 25 Oct 2025 02:17:18 +0200 (CEST) Received: by mail-pl1-f228.google.com with SMTP id d9443c01a7336-290deb0e643so26793985ad.2 for ; Fri, 24 Oct 2025 17:17:18 -0700 (PDT) DKIM-Signature: v=1; a=rsa-sha256; c=relaxed/relaxed; d=iol.unh.edu; s=unh-iol; t=1761351438; x=1761956238; darn=dpdk.org; h=references:in-reply-to:cc:to:from:subject:message-id:date:from:to :cc:subject:date:message-id:reply-to; bh=U+pzM7NvrFJaovUzaGUOp+FbLprnTPMUSRIgPWLjHNc=; b=TbVc5yn7iHky0/ybH9w6EpA9Z0h/E/hz+t/IyjPWHTUFe4eW4ZrdtSKvpgaGPusMiq bCRtbeyCNM3MGLDvDkBgya401UrAuXGzAZNNVzVniOBnW3JeNs3iNzCJ4suKEPsdrrgK T0AOCAh3rgqmLsieFWkUjF2J453GaTA23quNk= X-Google-DKIM-Signature: v=1; a=rsa-sha256; c=relaxed/relaxed; d=1e100.net; s=20230601; t=1761351438; x=1761956238; h=references:in-reply-to:cc:to:from:subject:message-id:date :x-gm-message-state:from:to:cc:subject:date:message-id:reply-to; bh=U+pzM7NvrFJaovUzaGUOp+FbLprnTPMUSRIgPWLjHNc=; b=tzMJE3axrzMJXxl+XvfWnvgnG/aBtAKto9eT4hFzjBp3XqtHJ5zts1oG8+DKdGPh6+ sL8XvPQhzJAtNAOfqOauQn/Yf+NUCu+WvZu1sirV+r7/qVGp/UDBZ2J6zas6mLTJcUTq pksrqwlJ1+ncH+mN/wCTC9F2DiWMd8FZ0MkS16T4Ln6Wk5PqIXJNKq4tJdABiiVQLqfy 5it2doK3ohWqTaM8aTfPhrAZBCVebP24xe4XCdH1FMno//koj88SokZMJeRTZH5l7OKd 2k+x6hA5VOzflvqShO3e1P1w+ooQkryRxnkU/1WXNHTeReZMAfNAAtRpaWruWeJibV5k NmiA== X-Gm-Message-State: AOJu0YxzsXVEyaz/p5T3B8ewKvQl6CtpQzZ7Ng1C9QuVE9mQjvVOpDLU ai4QdwhuuOv4i+x6D9eT90PANpbinVgUgTRUXWvAJzQ++aai1qJxb1m9pw8mKE9N3IE/X+kvkim LonVIaPGtkvmzkHEXiSIK8XxbwesYUlSTrcjpOYrzfamX X-Gm-Gg: ASbGncvJ6+IcIhoN3/1kPpGigyf54ZetkLRMtWSI4yXIGCKD4O7xu7tE+/mIYqFKNsn /y9ChfwI3Tg02LRYSlwdcLrm1zFE/KWNHP3utDYAL+SgwMM5ZUaIVV3UsYjsRbD3Aysf9mBMdvz vtf9YOJn5MybgXvYqU2J2oMMNUIrOZEJT197iV5erNxUEFEfHHCjMGcxXYty65zQcemFB+NprV9 2PVfFlGP2bDmx8u2tdUHDmcQ99oJ3APAZOmwikQCuerD2tC/LGiCPEmuVva164WjzB7RYDzqt++ o2arsevOOMSpxqZLCtW7a+hhwdIv5a8H29P7ivrN04n8dA9SSa+78orWE/4TcL3AbSdUVwNc9hB Zynyp6vCrfBfv1kvSbemcqW754TFPH6Q= X-Google-Smtp-Source: AGHT+IEf+RUB1mcvokHDlfyxnP9/kcSdeZJsqYFBUZ4KLXyAD591GZc7GwQQQTEKO8bCJoWjkbmPHIDRHWBL X-Received: by 2002:a17:902:f545:b0:269:874c:4e48 with SMTP id d9443c01a7336-2946e243a6fmr104474765ad.47.1761351437774; Fri, 24 Oct 2025 17:17:17 -0700 (PDT) Received: from postal.iol.unh.edu (postal.iol.unh.edu. [132.177.123.84]) by smtp-relay.gmail.com with ESMTPS id d9443c01a7336-29498cf3082sm534975ad.11.2025.10.24.17.17.17 (version=TLS1_2 cipher=ECDHE-ECDSA-AES128-GCM-SHA256 bits=128/128); Fri, 24 Oct 2025 17:17:17 -0700 (PDT) X-Relaying-Domain: iol.unh.edu Date: Fri, 24 Oct 2025 17:17:17 -0700 (PDT) Message-ID: <68fc170d.170a0220.20a57e.2e9aSMTPIN_ADDED_MISSING@mx.google.com> Received: from [172.21.0.2] (unknown [172.18.0.240]) by postal.iol.unh.edu (Postfix) with ESMTP id 0F5226051830; Fri, 24 Oct 2025 20:17:17 -0400 (EDT) Subject: |SUCCESS| pw158081-158084 [PATCH] [v1,4/4] doc: add PTP IDPF documen From: dpdklab@iol.unh.edu To: Test Report Cc: dpdk-test-reports@iol.unh.edu, Bruce Richardson In-Reply-To: <20251024120840.420016-5-soumyadeep.hore@intel.com> References: <20251024120840.420016-5-soumyadeep.hore@intel.com> Content-Type: text/plain X-BeenThere: test-report@dpdk.org X-Mailman-Version: 2.1.29 Precedence: list List-Id: automatic DPDK test reports List-Unsubscribe: , List-Archive: List-Post: List-Help: List-Subscribe: , Errors-To: test-report-bounces@dpdk.org Test-Label: iol-compile-amd64-testing Test-Status: SUCCESS http://dpdk.org/patch/158084 _Testing PASS_ Submitter: Soumyadeep Hore Date: Friday, October 24 2025 12:08:40 DPDK git baseline: Repo:dpdk-next-net-intel Branch: master CommitID:6b997d6b9ffdbb4f8ecd14d1f217da69cdc783af 158081-158084 --> testing pass Upstream job id: Generic-DPDK-Compile-Meson#437396 Test environment and result as below: +---------------------+--------------------+-------------------------+-------------------+----------------------+ | Environment | dpdk_meson_compile | dpdk_llvm_clang_compile | dpdk_msvc_compile | dpdk_mingw64_compile | +=====================+====================+=========================+===================+======================+ | Ubuntu 20.04 | PASS | SKIPPED | SKIPPED | SKIPPED | +---------------------+--------------------+-------------------------+-------------------+----------------------+ | FreeBSD 14.2 | PASS | SKIPPED | SKIPPED | SKIPPED | +---------------------+--------------------+-------------------------+-------------------+----------------------+ | openSUSE Leap 15.6 | PASS | SKIPPED | SKIPPED | SKIPPED | +---------------------+--------------------+-------------------------+-------------------+----------------------+ | Windows Server 2022 | SKIPPED | PASS | PASS | PASS | +---------------------+--------------------+-------------------------+-------------------+----------------------+ Ubuntu 20.04 Kernel: 4.19 Compiler: gcc gcc (Ubuntu 9.4.0-1ubuntu1~20.04.2) 9.4.0 FreeBSD 14.2 Kernel: 14.2-RELEASE Compiler: clang 18.1.6 openSUSE Leap 15.6 Kernel: 5.15 Compiler: gcc gcc (SUSE Linux) 7.5.0 Windows Server 2022 Kernel: 10.0.20348.2031 Compiler: clang 15.0.7, gcc 14.1.0 (MinGW), and MSVC VS 19.39.33521 To view detailed results, visit: https://lab.dpdk.org/results/dashboard/patchsets/34373/ UNH-IOL DPDK Community Lab To manage your email subscriptions, visit: https://lab.dpdk.org/results/dashboard/preferences/subscriptions/