From mboxrd@z Thu Jan 1 00:00:00 1970 Return-Path: Received: from mails.dpdk.org (mails.dpdk.org [217.70.189.124]) by inbox.dpdk.org (Postfix) with ESMTP id 427D4489CA for ; Sat, 25 Oct 2025 02:25:49 +0200 (CEST) Received: from mails.dpdk.org (localhost [127.0.0.1]) by mails.dpdk.org (Postfix) with ESMTP id 2712240268; Sat, 25 Oct 2025 02:25:49 +0200 (CEST) Received: from mail-oa1-f99.google.com (mail-oa1-f99.google.com [209.85.160.99]) by mails.dpdk.org (Postfix) with ESMTP id 566AB40268 for ; Sat, 25 Oct 2025 02:25:48 +0200 (CEST) Received: by mail-oa1-f99.google.com with SMTP id 586e51a60fabf-3c9b5ce8297so1955099fac.0 for ; Fri, 24 Oct 2025 17:25:48 -0700 (PDT) DKIM-Signature: v=1; a=rsa-sha256; c=relaxed/relaxed; d=iol.unh.edu; s=unh-iol; t=1761351947; x=1761956747; darn=dpdk.org; h=references:in-reply-to:cc:to:from:subject:message-id:date:from:to :cc:subject:date:message-id:reply-to; bh=R9UNApLMZPW1IfI4/fWserv39Njr7iz96z1uO+8t7mI=; b=HczKVqxodFwrEC1dcR6zZ9LfQFhjyKHOBjtsXJ8Ci+JVOeRVIcYm+Ln8a5zPoMuHqG XaptvsW1+XpRGEkD9uagmbRrx46fBFdifUHJKVCoEWBCNxAFk+CtMOXqAFoKPuqTOzrJ Td6nsWUScw1nyd5BjgL7WW16tE3hAXmofXXC8= X-Google-DKIM-Signature: v=1; a=rsa-sha256; c=relaxed/relaxed; d=1e100.net; s=20230601; t=1761351947; x=1761956747; h=references:in-reply-to:cc:to:from:subject:message-id:date :x-gm-message-state:from:to:cc:subject:date:message-id:reply-to; bh=R9UNApLMZPW1IfI4/fWserv39Njr7iz96z1uO+8t7mI=; b=i2R2H29Y71ubY6uKX8UPmikdunRdaue572WOZZS3C7khEuQZeQBkZSS4ZMYpmWzhM6 NhCaGeGuwf2XjGyXZB2PJklZLaCYM9uzGWgF6aoqq4SXbCodkUJWWVpHtvJO8O+crQhN w/KOGeY7WGfuCT4l6104pnfknpYvTXeoK0Xthhl+ViPmCaMgMNNzfmxdOe4kj23g6eGR EnhuDNR+1G3o1UUA3Nn2m5l398drsB4wO/GlVX4BTp0OH52vnYt9uprQnfpAjSSOSIK5 BSQO1DMDOmmFuWKH4OxrtzOLZv+qmhNSaF9UooZLzMJatNn0Ipqp+or6c/rrvV6qCdpj KA+Q== X-Gm-Message-State: AOJu0YzpMopNNJqHOd1GxA/EzQBrAhLJleG8Z22XBR/ZgY+7D5KY3CIN UPhcvn40WDDHApNNfMiB7mGm+FYpdja78PLJTyt+N/L8/r0XRJlIgn+Q9PnDYmQC+zZ1UdVAnDi CujKGCP6dwuprsP9AT3nttJXpPmok7OumBznkBoSbHPrB X-Gm-Gg: ASbGncsKE6CzVOGm2SfJoLhcy29xC15ZNRt6CLkY2kOC5t5YL8BMe4lTQCZCEVXTu+I 2Ot3iijkkxv8AOy7IwEmTI2v/oEIdUG3oq0of2bR3cn82VF5vNSh1eBBV+8a7KvQxp3E0n4JQSs e0lVAeKCJnghX8bCR81SJsyMcCjGF443tZHz8zFpI47jBCNvBs6/W34jmvIrs7ktX66G+2OArOk 5RjgWHDmK3pOkB5FCRE9jsrE2aiZXo9cK4QAVTiB9WwuFhO931BSXEC1i+YOCul00w4TLG6oywT u23GzrB4whPkH+GOeusEwHAfTHfjRFYn8ztca2C4Yn7V/L5vKUUWY6oLptnsMAxTqQDiRmdB3jm C40hnylq+idL/thwV0nR5IRJGruHxD18= X-Google-Smtp-Source: AGHT+IEscvTdbrDcdao9VjxdW/e9tWAAtYJO4arADR8DVuLO/CnDcWddQcGSQJMQ273zHcbM5IB07g+FEVqa X-Received: by 2002:a05:6870:812b:b0:314:faa7:931b with SMTP id 586e51a60fabf-3d17338e846mr1749445fac.25.1761351947478; Fri, 24 Oct 2025 17:25:47 -0700 (PDT) Received: from postal.iol.unh.edu (postal.iol.unh.edu. [132.177.123.84]) by smtp-relay.gmail.com with ESMTPS id 586e51a60fabf-3d1e2e2f20bsm55282fac.8.2025.10.24.17.25.47 (version=TLS1_2 cipher=ECDHE-ECDSA-AES128-GCM-SHA256 bits=128/128); Fri, 24 Oct 2025 17:25:47 -0700 (PDT) X-Relaying-Domain: iol.unh.edu Date: Fri, 24 Oct 2025 17:25:47 -0700 (PDT) Message-ID: <68fc190b.050a0220.1cc7c1.2fadSMTPIN_ADDED_MISSING@mx.google.com> Received: from [172.21.0.2] (unknown [172.18.0.240]) by postal.iol.unh.edu (Postfix) with ESMTP id BDFF86051830; Fri, 24 Oct 2025 20:25:46 -0400 (EDT) Subject: |WARNING| pw158061-158069 [PATCH] [v11,9/9] lib/pmu: fix out-of-boun From: dpdklab@iol.unh.edu To: Test Report Cc: dpdk-test-reports@iol.unh.edu In-Reply-To: <20251024054830.933910-10-tduszynski@marvell.com> References: <20251024054830.933910-10-tduszynski@marvell.com> Content-Type: text/plain X-BeenThere: test-report@dpdk.org X-Mailman-Version: 2.1.29 Precedence: list List-Id: automatic DPDK test reports List-Unsubscribe: , List-Archive: List-Post: List-Help: List-Subscribe: , Errors-To: test-report-bounces@dpdk.org Test-Label: iol-compile-amd64-testing Test-Status: WARNING http://dpdk.org/patch/158069 _Testing issues_ Submitter: Tomasz Duszynski Date: Friday, October 24 2025 05:48:30 DPDK git baseline: Repo:dpdk Branch: master CommitID:6edcec237e31fcdb848cca6c151ee7a5bf057c28 158061-158069 --> testing issues Upstream job id: Generic-DPDK-Compile-Meson#437404 Test environment and result as below: +-------------------------------+--------------------+-------------------------+-------------------+----------------------+------------------+-------------------+ | Environment | dpdk_meson_compile | dpdk_llvm_clang_compile | dpdk_msvc_compile | dpdk_mingw64_compile | dpdk_compile_ovs | dpdk_compile_spdk | +===============================+====================+=========================+===================+======================+==================+===================+ | Ubuntu 20.04 | PASS | SKIPPED | SKIPPED | SKIPPED | SKIPPED | SKIPPED | +-------------------------------+--------------------+-------------------------+-------------------+----------------------+------------------+-------------------+ | FreeBSD 14.2 | PASS | SKIPPED | SKIPPED | SKIPPED | SKIPPED | SKIPPED | +-------------------------------+--------------------+-------------------------+-------------------+----------------------+------------------+-------------------+ | Fedora Linux 42 | PASS | SKIPPED | SKIPPED | SKIPPED | PASS | WARN | +-------------------------------+--------------------+-------------------------+-------------------+----------------------+------------------+-------------------+ | CentOS Stream 9 | PASS | SKIPPED | SKIPPED | SKIPPED | SKIPPED | WARN | +-------------------------------+--------------------+-------------------------+-------------------+----------------------+------------------+-------------------+ | CentOS Stream 10 | PASS | SKIPPED | SKIPPED | SKIPPED | SKIPPED | SKIPPED | +-------------------------------+--------------------+-------------------------+-------------------+----------------------+------------------+-------------------+ | Debian GNU/Linux 12 | PASS | SKIPPED | SKIPPED | SKIPPED | SKIPPED | WARN | +-------------------------------+--------------------+-------------------------+-------------------+----------------------+------------------+-------------------+ | openSUSE Leap 15.6 | PASS | SKIPPED | SKIPPED | SKIPPED | SKIPPED | SKIPPED | +-------------------------------+--------------------+-------------------------+-------------------+----------------------+------------------+-------------------+ | Red Hat Enterprise Linux 8.10 | PASS | SKIPPED | SKIPPED | SKIPPED | SKIPPED | SKIPPED | +-------------------------------+--------------------+-------------------------+-------------------+----------------------+------------------+-------------------+ | Red Hat Enterprise Linux 9.5 | PASS | SKIPPED | SKIPPED | SKIPPED | SKIPPED | SKIPPED | +-------------------------------+--------------------+-------------------------+-------------------+----------------------+------------------+-------------------+ | Ubuntu 22.04 | PASS | SKIPPED | SKIPPED | SKIPPED | SKIPPED | WARN | +-------------------------------+--------------------+-------------------------+-------------------+----------------------+------------------+-------------------+ | Ubuntu 24.04 | PASS | SKIPPED | SKIPPED | SKIPPED | PASS | WARN | +-------------------------------+--------------------+-------------------------+-------------------+----------------------+------------------+-------------------+ | Alpine Linux 3.22.0 | PASS | SKIPPED | SKIPPED | SKIPPED | SKIPPED | SKIPPED | +-------------------------------+--------------------+-------------------------+-------------------+----------------------+------------------+-------------------+ | Windows Server 2022 | SKIPPED | PASS | PASS | PASS | SKIPPED | SKIPPED | +-------------------------------+--------------------+-------------------------+-------------------+----------------------+------------------+-------------------+ ==== 20 line log output for Ubuntu 24.04 (dpdk_compile_spdk): ==== --- Failed to get log output --- ==== End log output ==== Ubuntu 20.04 Kernel: 4.19 Compiler: gcc gcc (Ubuntu 9.4.0-1ubuntu1~20.04.2) 9.4.0 FreeBSD 14.2 Kernel: 14.2-RELEASE Compiler: clang 18.1.6 Fedora Linux 42 Kernel: 5.15 Compiler: gcc gcc (GCC) 15.2.1 20250808 (Red Hat 15.2.1-1) CentOS Stream 9 Kernel: 5.15 Compiler: gcc gcc (GCC) 11.5.0 20240719 (Red Hat 11.5.0-11) CentOS Stream 10 Kernel: 5.15 Compiler: gcc gcc (GCC) 14.2.1 20250110 (Red Hat 14.2.1-8) Debian GNU/Linux 12 Kernel: 5.15 Compiler: gcc gcc (Debian 12.2.0-14+deb12u1) 12.2.0 openSUSE Leap 15.6 Kernel: 5.15 Compiler: gcc gcc (SUSE Linux) 7.5.0 Red Hat Enterprise Linux 8.10 Kernel: 5.15 Compiler: gcc gcc (GCC) 8.5.0 20210514 (Red Hat 8.5.0-22) Red Hat Enterprise Linux 9.5 Kernel: 5.15 Compiler: gcc gcc (GCC) 11.5.0 20240719 (Red Hat 11.5.0-2) Ubuntu 22.04 Kernel: 5.15 Compiler: gcc gcc (Ubuntu 11.4.0-1ubuntu1~22.04) 11.4.0 Ubuntu 24.04 Kernel: 5.15 Compiler: gcc gcc (Ubuntu 13.3.0-6ubuntu2~24.04) 13.3.0 Alpine Linux 3.22.0 Kernel: 5.15 Compiler: gcc gcc (Alpine 14.2.0) 14.2.0 Windows Server 2022 Kernel: 10.0.20348.2031 Compiler: clang 15.0.7, gcc 14.1.0 (MinGW), and MSVC VS 19.39.33521 To view detailed results, visit: https://lab.dpdk.org/results/dashboard/patchsets/34367/ UNH-IOL DPDK Community Lab To manage your email subscriptions, visit: https://lab.dpdk.org/results/dashboard/preferences/subscriptions/