From mboxrd@z Thu Jan 1 00:00:00 1970 Return-Path: Received: from mails.dpdk.org (mails.dpdk.org [217.70.189.124]) by inbox.dpdk.org (Postfix) with ESMTP id 8C355489CA for ; Sat, 25 Oct 2025 02:29:04 +0200 (CEST) Received: from mails.dpdk.org (localhost [127.0.0.1]) by mails.dpdk.org (Postfix) with ESMTP id 87AE940268; Sat, 25 Oct 2025 02:29:04 +0200 (CEST) Received: from mail-ua1-f98.google.com (mail-ua1-f98.google.com [209.85.222.98]) by mails.dpdk.org (Postfix) with ESMTP id AD3A040268 for ; Sat, 25 Oct 2025 02:29:00 +0200 (CEST) Received: by mail-ua1-f98.google.com with SMTP id a1e0cc1a2514c-9231a251c01so1350615241.1 for ; Fri, 24 Oct 2025 17:29:00 -0700 (PDT) DKIM-Signature: v=1; a=rsa-sha256; c=relaxed/relaxed; d=iol.unh.edu; s=unh-iol; t=1761352140; x=1761956940; darn=dpdk.org; h=references:in-reply-to:cc:to:from:subject:message-id:date:from:to :cc:subject:date:message-id:reply-to; bh=USJd2WnvE/dATpXDFfZUvKfeO4xEu4axp5QP7nmbiBU=; b=N7UdA9bvyy7An713S0F8OTKnvgw7LaswAdQTdNCEyX7O3mUHS3LNVs2Fz4+qbLEVCl mq4rDR2npCFA8AjpwruX25o3qE9W7h3FZpiZJpV7gD4n3CPQzo8nEiynzE99LxtQRP2h eMIVApegxiG7wh1WOHXgzyBexOjw0Q3F05PWc= X-Google-DKIM-Signature: v=1; a=rsa-sha256; c=relaxed/relaxed; d=1e100.net; s=20230601; t=1761352140; x=1761956940; h=references:in-reply-to:cc:to:from:subject:message-id:date :x-gm-message-state:from:to:cc:subject:date:message-id:reply-to; bh=USJd2WnvE/dATpXDFfZUvKfeO4xEu4axp5QP7nmbiBU=; b=UM2SA3+CBcZYAq9LGYZFG2RxURbX/T/od6yvwtKtEB5isoS8kVf3TghIJTRPW2wXGE DYWmEXzj6JFM89WRs5+ujCXjpfUBIHitcXhl32XMObIFm/sbvhU+aqrwOGiag6kVB61H kuRgEhPB55RMMf26kNAbO3r2cVFddm8HMHl056kpjOB5ncZ8USLAIhf2VIMoe8cFUDzd 1YjVdwHfpadQXT/Ma/amHl9Obw1SXDlt8XEjdehQkJmtK/P0jKnHLK8ZxY1jyVnbGqsB 5vYMhiNRzucsclqypEfp58yGcccrsXqMBuA9E5JkcCucpaMqioKJq6tMNSKlpmO0MXjh sDWw== X-Gm-Message-State: AOJu0YwH7Mz9wxDVIeBHXJFNUxcrBz3fwhE72NNJ+cbXubEnggVm7kd8 eKAL4b/Am3OLPtMmRB8pTSZmJmrv5QIoMRKRphgScPBR3rQrDeRCaDi2NIUSjCgSIfOZH1bE8Rk UWFv5HIkFbwJ+C3bosMTL7SVPJsmcG02542uouCx3pdnKiK6nCaQrjDGGQvcN X-Gm-Gg: ASbGncvd+iyPG1yhw6IJkKUIF9gj8KnDn59dE3kujLo04GzoRpI6MtS9bbIn3M12L3V xTTHxcQXPQwL5LHgGfLntdL9wd3O+rfnjNf+XaZKPaFiRmQw1NvqduGVeuC6uU/h8fq226w5pxI GnPy2hly9bBRGRUZoQTLBOq6Kdq8tcGPt7Z9gXFPxtwMZifR3IL9WimXf0i5nUYv5l9vFlI9s0z HrRjZPyKk64Y2WFTJds9GxqB7KBTc70ka3NnlvigyqqtoSWKYdwBe4U9hla9Duzr5maktsCcgP5 DLd2m6RiehkRnQuvh5VOd7JrYdRSoE9SMKXC4QxwF8q4+e5i9hQrkYpDJ3VQHXSDwAg5rVayjea 4fOeGaGbM X-Google-Smtp-Source: AGHT+IGL+/t0Mq9x1eI0NoulYlDtKL+Yw9zqdf8dSeC3X2+G4Qgod46LRhJF3WbY8GNYwA6K941V5YrQ3TN1 X-Received: by 2002:a05:6122:2193:b0:54c:da0:f711 with SMTP id 71dfb90a1353d-557bf034377mr2300358e0c.7.1761352140067; Fri, 24 Oct 2025 17:29:00 -0700 (PDT) Received: from postal.iol.unh.edu (postal.iol.unh.edu. [2606:4100:3880:1234::84]) by smtp-relay.gmail.com with ESMTPS id 71dfb90a1353d-557ddaef536sm65006e0c.2.2025.10.24.17.29.00 (version=TLS1_2 cipher=ECDHE-ECDSA-AES128-GCM-SHA256 bits=128/128); Fri, 24 Oct 2025 17:29:00 -0700 (PDT) X-Relaying-Domain: iol.unh.edu Date: Fri, 24 Oct 2025 17:29:00 -0700 (PDT) Message-ID: <68fc19cc.050a0220.c02b0.3a96SMTPIN_ADDED_MISSING@mx.google.com> Received: from [172.21.0.3] (unknown [172.18.0.240]) by postal.iol.unh.edu (Postfix) with ESMTP id BEE6A6051835; Fri, 24 Oct 2025 20:28:59 -0400 (EDT) Subject: |WARNING| pw158071-158076 [PATCH] [v6,6/6] net/dpaa: fix resource le From: dpdklab@iol.unh.edu To: Test Report Cc: dpdk-test-reports@iol.unh.edu, Stephen Hemminger In-Reply-To: <20251024061906.3535470-7-g.singh@nxp.com> References: <20251024061906.3535470-7-g.singh@nxp.com> Content-Type: text/plain X-BeenThere: test-report@dpdk.org X-Mailman-Version: 2.1.29 Precedence: list List-Id: automatic DPDK test reports List-Unsubscribe: , List-Archive: List-Post: List-Help: List-Subscribe: , Errors-To: test-report-bounces@dpdk.org Test-Label: iol-compile-amd64-testing Test-Status: WARNING http://dpdk.org/patch/158076 _Testing issues_ Submitter: Gagandeep Singh Date: Friday, October 24 2025 06:19:06 DPDK git baseline: Repo:dpdk-next-net Branch: master CommitID:44346a227d34322ca351f6550eea42581e8d1d27 158071-158076 --> testing issues Upstream job id: Generic-DPDK-Compile-Meson#437420 Test environment and result as below: +---------------------+--------------------+-------------------+-------------------------+----------------------+-------------------+ | Environment | dpdk_meson_compile | dpdk_msvc_compile | dpdk_llvm_clang_compile | dpdk_mingw64_compile | dpdk_compile_spdk | +=====================+====================+===================+=========================+======================+===================+ | FreeBSD 14.2 | PASS | SKIPPED | SKIPPED | SKIPPED | SKIPPED | +---------------------+--------------------+-------------------+-------------------------+----------------------+-------------------+ | Ubuntu 20.04 | PASS | SKIPPED | SKIPPED | SKIPPED | SKIPPED | +---------------------+--------------------+-------------------+-------------------------+----------------------+-------------------+ | CentOS Stream 9 | PASS | SKIPPED | SKIPPED | SKIPPED | WARN | +---------------------+--------------------+-------------------+-------------------------+----------------------+-------------------+ | CentOS Stream 10 | PEND | SKIPPED | SKIPPED | SKIPPED | SKIPPED | +---------------------+--------------------+-------------------+-------------------------+----------------------+-------------------+ | Windows Server 2022 | SKIPPED | PASS | PASS | PASS | SKIPPED | +---------------------+--------------------+-------------------+-------------------------+----------------------+-------------------+ ==== 20 line log output for CentOS Stream 9 (dpdk_compile_spdk): ==== --- Failed to get log output --- ==== End log output ==== FreeBSD 14.2 Kernel: 14.2-RELEASE Compiler: clang 18.1.6 Ubuntu 20.04 Kernel: 4.19 Compiler: gcc gcc (Ubuntu 9.4.0-1ubuntu1~20.04.2) 9.4.0 CentOS Stream 9 Kernel: 5.15 Compiler: gcc gcc (GCC) 11.5.0 20240719 (Red Hat 11.5.0-11) CentOS Stream 10 Kernel: 5.15 Compiler: gcc gcc (GCC) 14.2.1 20250110 (Red Hat 14.2.1-8) Windows Server 2022 Kernel: 10.0.20348.2031 Compiler: clang 15.0.7, gcc 14.1.0 (MinGW), and MSVC VS 19.39.33521 To view detailed results, visit: https://lab.dpdk.org/results/dashboard/patchsets/34369/ UNH-IOL DPDK Community Lab To manage your email subscriptions, visit: https://lab.dpdk.org/results/dashboard/preferences/subscriptions/