From mboxrd@z Thu Jan 1 00:00:00 1970 Return-Path: Received: from mails.dpdk.org (mails.dpdk.org [217.70.189.124]) by inbox.dpdk.org (Postfix) with ESMTP id A3D9B489CA for ; Sat, 25 Oct 2025 03:07:12 +0200 (CEST) Received: from mails.dpdk.org (localhost [127.0.0.1]) by mails.dpdk.org (Postfix) with ESMTP id 8734640268; Sat, 25 Oct 2025 03:07:12 +0200 (CEST) Received: from mail-pl1-f227.google.com (mail-pl1-f227.google.com [209.85.214.227]) by mails.dpdk.org (Postfix) with ESMTP id 3D4FA40268 for ; Sat, 25 Oct 2025 03:07:11 +0200 (CEST) Received: by mail-pl1-f227.google.com with SMTP id d9443c01a7336-26a0a694ea8so19482435ad.3 for ; Fri, 24 Oct 2025 18:07:11 -0700 (PDT) DKIM-Signature: v=1; a=rsa-sha256; c=relaxed/relaxed; d=iol.unh.edu; s=unh-iol; t=1761354430; x=1761959230; darn=dpdk.org; h=references:in-reply-to:cc:to:from:subject:message-id:date:from:to :cc:subject:date:message-id:reply-to; bh=Zzq5sYIV43ljTdznzcKGEyOV7J0TWuItj1YxhrSQWPo=; b=Tpx93QHYpWSarMxTdhHX/Br7eO8ygxhkSAglcMZKQP42S/Dgyx+qWQsbSfgEvy/hZn hD0L1lu8879GXE92PagxgiBc8omxhESl6auYlURjPyR+L25CynwGbwZOmldxu2J0ZEKd laxP/oXN5etu17Ke4EGsbYsS0577F/FncZsow= X-Google-DKIM-Signature: v=1; a=rsa-sha256; c=relaxed/relaxed; d=1e100.net; s=20230601; t=1761354430; x=1761959230; h=references:in-reply-to:cc:to:from:subject:message-id:date :x-gm-message-state:from:to:cc:subject:date:message-id:reply-to; bh=Zzq5sYIV43ljTdznzcKGEyOV7J0TWuItj1YxhrSQWPo=; b=FiB6irm2siO6zktoUC847WnRvSsg2fjzZuUfgVSnBU/nC7AV+BXaUunLvA4RRAHl/Z Uf7YRoa+WDuy7uPtlljOelPkDU/dlP2GVI8uI8nlnGNvMfT3LgPJqk4C7zEiRK/JNprF cdS9LpS1qjL1Bql0R/lfC3W0MTk6I36QWBOTloXho04QT83Sw6rUBZMtqLYwGJQXN8La aGzzI7xz21GfJmq83xOWdehlcEkMaskZqBlOOs6/aA/XfuMiyKJaZ2HTBg2+WJzwb1a0 u6a8+WVSGRX++2afbuxKzK6gW8fR3+knuNkxIDQa/fvFoffvNNHSoeQgtWA6XwFvSQy0 zvIQ== X-Gm-Message-State: AOJu0YyLS1AzOhtaL70OMQRsUuHGCxDaWxxl4LYt89VvOqNyMHU2vkPw jqXmBODFRVk/pLVgyWEBH5LD76HTESTjOl7Av8ohkdFO+mECd5BvIXyx+M48njTkcq0fKNdJLoS 3o9hHQ17GgVFtkcleIwQJS4SKR8kN3Y3FsInzH48TLzyw7wiStLV66qL0SSxr X-Gm-Gg: ASbGncsWjOwZNcsgBsiJWG1n0VBAioMMRxWLw7PNES6CBU4tU6XLuupBayuN4Wundza Gd9t7M98pwaxAc7mKko1Yj+D4xwo00R59vgRJbGmw+l8Peh5X9z1ugfcjzNGMS+qsP4fQbPP3TB gZQ+agEJY4oCuIPL2IQavpblOxobhSKglDZ9gZd/4bC8vTMEyHXXNvw/qc0RFOfEOYJDbX8qH1V 5YJWy50fApZyC3cFg2VUARaGOa1Orw5PisOvKsg5SGRf8IO7rtuyhBfg2GoVWtGu6FlB5QgPuTM EhZGCBukiQs/NW2LNQYPJC3MjcZfOq/kocWOS80ABNy3zl9TrE3pcv//Xad+wtqDu+gsSN6lRpB Yv3JVcRFG X-Google-Smtp-Source: AGHT+IGv7Lm4aog29TUHUR521J0ptRLwZWKFohs9mMG/ypOiPehgplvwK9qL82VWOijF+XPi/1jXN0dMO/sj X-Received: by 2002:a17:902:f547:b0:24b:164d:4e61 with SMTP id d9443c01a7336-290c9ca2aa2mr374900905ad.13.1761354430254; Fri, 24 Oct 2025 18:07:10 -0700 (PDT) Received: from postal.iol.unh.edu (postal.iol.unh.edu. [2606:4100:3880:1234::84]) by smtp-relay.gmail.com with ESMTPS id d9443c01a7336-29498d0ab3bsm661035ad.23.2025.10.24.18.07.10 (version=TLS1_2 cipher=ECDHE-ECDSA-AES128-GCM-SHA256 bits=128/128); Fri, 24 Oct 2025 18:07:10 -0700 (PDT) X-Relaying-Domain: iol.unh.edu Date: Fri, 24 Oct 2025 18:07:10 -0700 (PDT) Message-ID: <68fc22be.170a0220.377a57.382bSMTPIN_ADDED_MISSING@mx.google.com> Received: from [172.21.0.2] (unknown [172.18.0.240]) by postal.iol.unh.edu (Postfix) with ESMTP id 710B66051830; Fri, 24 Oct 2025 21:07:09 -0400 (EDT) Subject: |WARNING| pw158071-158076 [PATCH] [v6,6/6] net/dpaa: fix resource le From: dpdklab@iol.unh.edu To: Test Report Cc: dpdk-test-reports@iol.unh.edu, Stephen Hemminger In-Reply-To: <20251024061906.3535470-7-g.singh@nxp.com> References: <20251024061906.3535470-7-g.singh@nxp.com> Content-Type: text/plain X-BeenThere: test-report@dpdk.org X-Mailman-Version: 2.1.29 Precedence: list List-Id: automatic DPDK test reports List-Unsubscribe: , List-Archive: List-Post: List-Help: List-Subscribe: , Errors-To: test-report-bounces@dpdk.org Test-Label: iol-compile-amd64-testing Test-Status: WARNING http://dpdk.org/patch/158076 _Testing issues_ Submitter: Gagandeep Singh Date: Friday, October 24 2025 06:19:06 DPDK git baseline: Repo:dpdk-next-net Branch: master CommitID:44346a227d34322ca351f6550eea42581e8d1d27 158071-158076 --> testing issues Upstream job id: Generic-DPDK-Compile-Meson#437443 Test environment and result as below: +-------------------------------+--------------------+-------------------+-------------------------+----------------------+-------------------+------------------+ | Environment | dpdk_meson_compile | dpdk_msvc_compile | dpdk_llvm_clang_compile | dpdk_mingw64_compile | dpdk_compile_spdk | dpdk_compile_ovs | +===============================+====================+===================+=========================+======================+===================+==================+ | FreeBSD 14.2 | PASS | SKIPPED | SKIPPED | SKIPPED | SKIPPED | SKIPPED | +-------------------------------+--------------------+-------------------+-------------------------+----------------------+-------------------+------------------+ | Ubuntu 20.04 | PASS | SKIPPED | SKIPPED | SKIPPED | SKIPPED | SKIPPED | +-------------------------------+--------------------+-------------------+-------------------------+----------------------+-------------------+------------------+ | CentOS Stream 9 | PASS | SKIPPED | SKIPPED | SKIPPED | WARN | SKIPPED | +-------------------------------+--------------------+-------------------+-------------------------+----------------------+-------------------+------------------+ | CentOS Stream 10 | PASS | SKIPPED | SKIPPED | SKIPPED | SKIPPED | SKIPPED | +-------------------------------+--------------------+-------------------+-------------------------+----------------------+-------------------+------------------+ | Debian GNU/Linux 12 | PASS | SKIPPED | SKIPPED | SKIPPED | WARN | SKIPPED | +-------------------------------+--------------------+-------------------+-------------------------+----------------------+-------------------+------------------+ | Fedora Linux 42 | PASS | SKIPPED | SKIPPED | SKIPPED | WARN | PASS | +-------------------------------+--------------------+-------------------+-------------------------+----------------------+-------------------+------------------+ | openSUSE Leap 15.6 | PASS | SKIPPED | SKIPPED | SKIPPED | SKIPPED | SKIPPED | +-------------------------------+--------------------+-------------------+-------------------------+----------------------+-------------------+------------------+ | Red Hat Enterprise Linux 8.10 | PASS | SKIPPED | SKIPPED | SKIPPED | SKIPPED | SKIPPED | +-------------------------------+--------------------+-------------------+-------------------------+----------------------+-------------------+------------------+ | Red Hat Enterprise Linux 9.5 | PASS | SKIPPED | SKIPPED | SKIPPED | SKIPPED | SKIPPED | +-------------------------------+--------------------+-------------------+-------------------------+----------------------+-------------------+------------------+ | Ubuntu 22.04 | PASS | SKIPPED | SKIPPED | SKIPPED | WARN | SKIPPED | +-------------------------------+--------------------+-------------------+-------------------------+----------------------+-------------------+------------------+ | Ubuntu 24.04 | PASS | SKIPPED | SKIPPED | SKIPPED | WARN | PASS | +-------------------------------+--------------------+-------------------+-------------------------+----------------------+-------------------+------------------+ | Windows Server 2022 | SKIPPED | PASS | PASS | PASS | SKIPPED | SKIPPED | +-------------------------------+--------------------+-------------------+-------------------------+----------------------+-------------------+------------------+ ==== 20 line log output for Ubuntu 24.04 (dpdk_compile_spdk): ==== --- Failed to get log output --- ==== End log output ==== FreeBSD 14.2 Kernel: 14.2-RELEASE Compiler: clang 18.1.6 Ubuntu 20.04 Kernel: 4.19 Compiler: gcc gcc (Ubuntu 9.4.0-1ubuntu1~20.04.2) 9.4.0 CentOS Stream 9 Kernel: 5.15 Compiler: gcc gcc (GCC) 11.5.0 20240719 (Red Hat 11.5.0-11) CentOS Stream 10 Kernel: 5.15 Compiler: gcc gcc (GCC) 14.2.1 20250110 (Red Hat 14.2.1-8) Debian GNU/Linux 12 Kernel: 5.15 Compiler: gcc gcc (Debian 12.2.0-14+deb12u1) 12.2.0 Fedora Linux 42 Kernel: 5.15 Compiler: clang gcc (GCC) 15.2.1 20250808 (Red Hat 15.2.1-1) openSUSE Leap 15.6 Kernel: 5.15 Compiler: gcc gcc (SUSE Linux) 7.5.0 Red Hat Enterprise Linux 8.10 Kernel: 5.15 Compiler: gcc gcc (GCC) 8.5.0 20210514 (Red Hat 8.5.0-22) Red Hat Enterprise Linux 9.5 Kernel: 5.15 Compiler: gcc gcc (GCC) 11.5.0 20240719 (Red Hat 11.5.0-2) Ubuntu 22.04 Kernel: 5.15 Compiler: gcc gcc (Ubuntu 11.4.0-1ubuntu1~22.04) 11.4.0 Ubuntu 24.04 Kernel: 5.15 Compiler: gcc gcc (Ubuntu 13.3.0-6ubuntu2~24.04) 13.3.0 Windows Server 2022 Kernel: 10.0.20348.2031 Compiler: clang 15.0.7, gcc 14.1.0 (MinGW), and MSVC VS 19.39.33521 To view detailed results, visit: https://lab.dpdk.org/results/dashboard/patchsets/34369/ UNH-IOL DPDK Community Lab To manage your email subscriptions, visit: https://lab.dpdk.org/results/dashboard/preferences/subscriptions/