From mboxrd@z Thu Jan 1 00:00:00 1970 Return-Path: Received: from mails.dpdk.org (mails.dpdk.org [217.70.189.124]) by inbox.dpdk.org (Postfix) with ESMTP id A0BD9489CA for ; Sat, 25 Oct 2025 03:52:05 +0200 (CEST) Received: from mails.dpdk.org (localhost [127.0.0.1]) by mails.dpdk.org (Postfix) with ESMTP id 79ABD40268; Sat, 25 Oct 2025 03:52:05 +0200 (CEST) Received: from mail-ua1-f100.google.com (mail-ua1-f100.google.com [209.85.222.100]) by mails.dpdk.org (Postfix) with ESMTP id 5B67140268 for ; Sat, 25 Oct 2025 03:52:04 +0200 (CEST) Received: by mail-ua1-f100.google.com with SMTP id a1e0cc1a2514c-89018ea5625so1181250241.0 for ; Fri, 24 Oct 2025 18:52:04 -0700 (PDT) DKIM-Signature: v=1; a=rsa-sha256; c=relaxed/relaxed; d=iol.unh.edu; s=unh-iol; t=1761357123; x=1761961923; darn=dpdk.org; h=references:in-reply-to:cc:to:from:subject:message-id:date:from:to :cc:subject:date:message-id:reply-to; bh=udVK4jP5NRboiGEtYZvesFwRsGnG36LKcX3DE8wESdI=; b=fvnxIkyy0dRUJ2aTQC6hlt6e+rPnd8erDe5D35Bp0SM9Pogy0aY2IDsHp2xydRGxsF 331w/yPmfkCfM0emyxIsOAjWfBa9jenw4rft6IduA9e2VQV4P7M6EsxXJluobAttqhWa yWWVXL/M+ZdUTOzvDQLD1q2+BxVGLLEVCd7Gk= X-Google-DKIM-Signature: v=1; a=rsa-sha256; c=relaxed/relaxed; d=1e100.net; s=20230601; t=1761357123; x=1761961923; h=references:in-reply-to:cc:to:from:subject:message-id:date :x-gm-message-state:from:to:cc:subject:date:message-id:reply-to; bh=udVK4jP5NRboiGEtYZvesFwRsGnG36LKcX3DE8wESdI=; b=sOGHxqK5H0ZgQn7FtBR6j1n9RFOZPlLHHWWXPclbiAVZ6KI+ZnWoJB9KB5JqXhvE3G rDqldwajnav/kQo4bW+88qcqTq95mmatGFcaH3n2bYhMAcE6gDBG+b2+JZKrRDAcZkSE yjedClrgph8566WafxegGKvc/eHlXDccw2aR5ozuz8XRZQ3K6NYzmzUxJpj5XBwBcgno gGeoHIxbSt1wVIS7tt6t7tMkowOtbuBNj5BKpRHDKrYjlfEck+jUbaFm+/0YytUtEwWt QFz2V3v5yDUSfwBO7oK6RFfHxEQcYENqVmZnvm+Eijqnp/m1DpIfvU+3fhEI2C4pN0Co Mycg== X-Gm-Message-State: AOJu0YxU6l7oxVMps1khKO5YmEt2Gr3AINz5yQF3NQTda3/8LDzVVHb3 SRkmiwjEmb3jm24I8xh4CmXcRJwM6QZEJu3md564xQLr6180JorazuZgLcyMuuGzwGhl+p8LPDr nbHfDGA0cxbmYzh7HdtwdGMnLnBpIN9h6cHJDDjvoX6xu/CRe+1porAMy5kBG X-Gm-Gg: ASbGncvdreNrBIR3fJrjWv34p+JmAsbSlxi+jL+3kT/sfeEButxsiw85l1D6tw2+Huu I0qF+G+FVxiwcqDOj9XXEjlrZD52vf6WP6XEfxmv5LtQvrJP+/3LTOLlNKzmPKot6Gg/LnwpIIr sYlGr4Q5BntPUoV8zvJszLe4/mhnhbAIFOGhQAYR2MXdlQRKk+xoIZrY7ZRNG/SNm+U9VZ08Cvk KvCyJINZrQZGtpZfotllfhtDCSReQL2xjpWm3UJ2S/zFb1XK5PnfJEFohWmlzEIFvnQO/+4gjYP 1HzWSd338tpgTdfxseJlFOFCwG5c1kpy9+uLXc2jEBRrVbePLM04eDa3baftU7+evB9AZVClsQR myw/0Xob5 X-Google-Smtp-Source: AGHT+IENQlRyKV6TW8sBNH1T6xsRkPXZ9fBQ61zXrOJypdEyylO5faboD6HZ+aLcHgOYOxUVySsl/uTCshh9 X-Received: by 2002:a05:6102:1497:b0:521:b9f2:a5ca with SMTP id ada2fe7eead31-5db2e4786abmr2806081137.13.1761357123468; Fri, 24 Oct 2025 18:52:03 -0700 (PDT) Received: from postal.iol.unh.edu (postal.iol.unh.edu. [2606:4100:3880:1234::84]) by smtp-relay.gmail.com with ESMTPS id ada2fe7eead31-5db4e5e277dsm77872137.3.2025.10.24.18.52.03 (version=TLS1_2 cipher=ECDHE-ECDSA-AES128-GCM-SHA256 bits=128/128); Fri, 24 Oct 2025 18:52:03 -0700 (PDT) X-Relaying-Domain: iol.unh.edu Date: Fri, 24 Oct 2025 18:52:03 -0700 (PDT) Message-ID: <68fc2d43.050a0220.1d8978.41bfSMTPIN_ADDED_MISSING@mx.google.com> Received: from [172.21.0.2] (unknown [172.18.0.240]) by postal.iol.unh.edu (Postfix) with ESMTP id 1E2416051830; Fri, 24 Oct 2025 21:52:03 -0400 (EDT) Subject: |WARNING| pw158071-158076 [PATCH] [v6,6/6] net/dpaa: fix resource le From: dpdklab@iol.unh.edu To: Test Report Cc: dpdk-test-reports@iol.unh.edu, Stephen Hemminger In-Reply-To: <20251024061906.3535470-7-g.singh@nxp.com> References: <20251024061906.3535470-7-g.singh@nxp.com> Content-Type: text/plain X-BeenThere: test-report@dpdk.org X-Mailman-Version: 2.1.29 Precedence: list List-Id: automatic DPDK test reports List-Unsubscribe: , List-Archive: List-Post: List-Help: List-Subscribe: , Errors-To: test-report-bounces@dpdk.org Test-Label: iol-compile-amd64-testing Test-Status: WARNING http://dpdk.org/patch/158076 _Testing issues_ Submitter: Gagandeep Singh Date: Friday, October 24 2025 06:19:06 DPDK git baseline: Repo:dpdk-next-net Branch: master CommitID:44346a227d34322ca351f6550eea42581e8d1d27 158071-158076 --> testing issues Upstream job id: Generic-DPDK-Compile-Meson#437449 Test environment and result as below: +-------------------------------+--------------------+-------------------+-------------------------+----------------------+-------------------+------------------+ | Environment | dpdk_meson_compile | dpdk_msvc_compile | dpdk_llvm_clang_compile | dpdk_mingw64_compile | dpdk_compile_spdk | dpdk_compile_ovs | +===============================+====================+===================+=========================+======================+===================+==================+ | FreeBSD 14.2 | PASS | SKIPPED | SKIPPED | SKIPPED | SKIPPED | SKIPPED | +-------------------------------+--------------------+-------------------+-------------------------+----------------------+-------------------+------------------+ | Ubuntu 20.04 | PASS | SKIPPED | SKIPPED | SKIPPED | SKIPPED | SKIPPED | +-------------------------------+--------------------+-------------------+-------------------------+----------------------+-------------------+------------------+ | CentOS Stream 9 | PASS | SKIPPED | SKIPPED | SKIPPED | WARN | SKIPPED | +-------------------------------+--------------------+-------------------+-------------------------+----------------------+-------------------+------------------+ | CentOS Stream 10 | PASS | SKIPPED | SKIPPED | SKIPPED | SKIPPED | SKIPPED | +-------------------------------+--------------------+-------------------+-------------------------+----------------------+-------------------+------------------+ | Debian GNU/Linux 12 | PASS | SKIPPED | SKIPPED | SKIPPED | WARN | SKIPPED | +-------------------------------+--------------------+-------------------+-------------------------+----------------------+-------------------+------------------+ | Fedora Linux 42 | PASS | SKIPPED | SKIPPED | SKIPPED | WARN | PASS | +-------------------------------+--------------------+-------------------+-------------------------+----------------------+-------------------+------------------+ | openSUSE Leap 15.6 | PASS | SKIPPED | SKIPPED | SKIPPED | SKIPPED | SKIPPED | +-------------------------------+--------------------+-------------------+-------------------------+----------------------+-------------------+------------------+ | Red Hat Enterprise Linux 8.10 | PASS | SKIPPED | SKIPPED | SKIPPED | SKIPPED | SKIPPED | +-------------------------------+--------------------+-------------------+-------------------------+----------------------+-------------------+------------------+ | Red Hat Enterprise Linux 9.5 | PASS | SKIPPED | SKIPPED | SKIPPED | SKIPPED | SKIPPED | +-------------------------------+--------------------+-------------------+-------------------------+----------------------+-------------------+------------------+ | Ubuntu 22.04 | PASS | SKIPPED | SKIPPED | SKIPPED | WARN | SKIPPED | +-------------------------------+--------------------+-------------------+-------------------------+----------------------+-------------------+------------------+ | Ubuntu 24.04 | PASS | SKIPPED | SKIPPED | SKIPPED | WARN | PASS | +-------------------------------+--------------------+-------------------+-------------------------+----------------------+-------------------+------------------+ | Alpine Linux 3.22.0 | PASS | SKIPPED | SKIPPED | SKIPPED | SKIPPED | SKIPPED | +-------------------------------+--------------------+-------------------+-------------------------+----------------------+-------------------+------------------+ | Windows Server 2022 | SKIPPED | PASS | PASS | PASS | SKIPPED | SKIPPED | +-------------------------------+--------------------+-------------------+-------------------------+----------------------+-------------------+------------------+ ==== 20 line log output for Ubuntu 24.04 (dpdk_compile_spdk): ==== --- Failed to get log output --- ==== End log output ==== FreeBSD 14.2 Kernel: 14.2-RELEASE Compiler: clang 18.1.6 Ubuntu 20.04 Kernel: 4.19 Compiler: gcc gcc (Ubuntu 9.4.0-1ubuntu1~20.04.2) 9.4.0 CentOS Stream 9 Kernel: 5.15 Compiler: gcc gcc (GCC) 11.5.0 20240719 (Red Hat 11.5.0-11) CentOS Stream 10 Kernel: 5.15 Compiler: gcc gcc (GCC) 14.2.1 20250110 (Red Hat 14.2.1-8) Debian GNU/Linux 12 Kernel: 5.15 Compiler: gcc gcc (Debian 12.2.0-14+deb12u1) 12.2.0 Fedora Linux 42 Kernel: 5.15 Compiler: clang gcc (GCC) 15.2.1 20250808 (Red Hat 15.2.1-1) openSUSE Leap 15.6 Kernel: 5.15 Compiler: gcc gcc (SUSE Linux) 7.5.0 Red Hat Enterprise Linux 8.10 Kernel: 5.15 Compiler: gcc gcc (GCC) 8.5.0 20210514 (Red Hat 8.5.0-22) Red Hat Enterprise Linux 9.5 Kernel: 5.15 Compiler: gcc gcc (GCC) 11.5.0 20240719 (Red Hat 11.5.0-2) Ubuntu 22.04 Kernel: 5.15 Compiler: gcc gcc (Ubuntu 11.4.0-1ubuntu1~22.04) 11.4.0 Ubuntu 24.04 Kernel: 5.15 Compiler: gcc gcc (Ubuntu 13.3.0-6ubuntu2~24.04) 13.3.0 Alpine Linux 3.22.0 Kernel: 5.15 Compiler: gcc gcc (Alpine 14.2.0) 14.2.0 Windows Server 2022 Kernel: 10.0.20348.2031 Compiler: clang 15.0.7, gcc 14.1.0 (MinGW), and MSVC VS 19.39.33521 To view detailed results, visit: https://lab.dpdk.org/results/dashboard/patchsets/34369/ UNH-IOL DPDK Community Lab To manage your email subscriptions, visit: https://lab.dpdk.org/results/dashboard/preferences/subscriptions/