From mboxrd@z Thu Jan 1 00:00:00 1970 Return-Path: Received: from mails.dpdk.org (mails.dpdk.org [217.70.189.124]) by inbox.dpdk.org (Postfix) with ESMTP id 23B7A489CB for ; Sat, 25 Oct 2025 04:40:03 +0200 (CEST) Received: from mails.dpdk.org (localhost [127.0.0.1]) by mails.dpdk.org (Postfix) with ESMTP id 9B0D440268; Sat, 25 Oct 2025 04:40:02 +0200 (CEST) Received: from mail-pg1-f228.google.com (mail-pg1-f228.google.com [209.85.215.228]) by mails.dpdk.org (Postfix) with ESMTP id EE87940156 for ; Sat, 25 Oct 2025 04:40:00 +0200 (CEST) Received: by mail-pg1-f228.google.com with SMTP id 41be03b00d2f7-b6a225b7e9eso2005427a12.0 for ; Fri, 24 Oct 2025 19:40:00 -0700 (PDT) DKIM-Signature: v=1; a=rsa-sha256; c=relaxed/relaxed; d=iol.unh.edu; s=unh-iol; t=1761360000; x=1761964800; darn=dpdk.org; h=cc:to:from:subject:message-id:date:from:to:cc:subject:date :message-id:reply-to; bh=Z3Yt4lKZuLyfdAu8o2myfletgjvIM2GgQunPUmO4EUY=; b=FHAihs62l34RuQT6ib4n47BS4akzZtGWnz1wHi8t9KMhyCilLK0X1DPa1jhedK2fp4 LBcDAcJUtMjk5/spQy29HP3ogz761P1x4t5vJt0pe5tLpDH9YtwrSrXHltJuvd/zI6Oy 7vjCS7xtMn+VP3fID3Cmw+qjbTIr1lq+D9ufA= X-Google-DKIM-Signature: v=1; a=rsa-sha256; c=relaxed/relaxed; d=1e100.net; s=20230601; t=1761360000; x=1761964800; h=cc:to:from:subject:message-id:date:x-gm-message-state:from:to:cc :subject:date:message-id:reply-to; bh=Z3Yt4lKZuLyfdAu8o2myfletgjvIM2GgQunPUmO4EUY=; b=D+wu4RnxntU3bvvBa+7rAM59DXmREvxOMvx/U1kqL3+wXgyi2bVlVvF1XXzIjjzLmX q3OeF8loihdfJYA/8nY5e6bzyQHayn5z1WLhtv3+Mc5Z4j6ZEl9Mfi2nAFigqVYOXrK8 fmJr1QPvC+63A/1NjTBXBya1yO8mu6JGXXBQDt74WfkQJxosx7Q+riqPCmjkYnriP+TJ n9sw0eBASZz7rkRdnnrld6xcH5MxkexMU7SiBUiQVu4+3oQYODfGlMvKsv+MWNLSxX9E MWqC/PS+jASjFWx6ZLnupYrgwQX0brOGq6AVoNrRdUAo/PppO8a9zspJcN6T0dJWnzRW FxlA== X-Gm-Message-State: AOJu0YyMUet9MOeV9Uo4h8LlawB9ThrSehIl8qAC7w09Y0hgo/8FkS3q GdRH135ryJgNyvfCtKjBRGsJH7g9/RbTiVeU0KTyfc2zZUSIhV4nQtdeHYhC/pfTPi1ER38cODp ayUOpO/auI+wgwNBuefiZJSThs8NhnUWWancY+UtXr6uuZB60wj6uhkWvOx99 X-Gm-Gg: ASbGnctOC7XQBb8dw15SvEDLs/Ow3M1NFNbNpTZJY9dgheL9ydUme2vs8jwjokSIUvx ouG6UYunqRAXUImS5lk65Re7V0/QQPs9y85dIyYbNtxidI2BvRgtQzNzUdQ04solz6Dx+x4P+jZ Nd+V3/CgD+zsFydBNleDTLf5Rvi9WwgQBhDlW1TkgJ0JLXm7cmgr/sF7j7QVjlR/gCi+i0YHgyY iAIwx+G5681gsQ+0bg201mR7NFPuS74gSAH5CbqsukbP03xBvrTYS6SU99B24c1hE2a4fo3dJOD mGxlsiFxILIvpZt/y8AXFiZ2ZLXE56q6BDhWIEMOKBxV9kkH8ncHie+iFTyr6KuvUt4Bz1U1KyJ pE3EzL99W X-Google-Smtp-Source: AGHT+IGKkDixjwweNE1X4vXOjzXdMRKP3+LkcEEzEyMgCbQSUBCjdkODQnSc8sU6jV5UGRQ8dnvW7hxZd9Bz X-Received: by 2002:a17:902:f68b:b0:271:479d:3ddc with SMTP id d9443c01a7336-2948b975804mr53222505ad.15.1761359999973; Fri, 24 Oct 2025 19:39:59 -0700 (PDT) Received: from postal.iol.unh.edu (postal.iol.unh.edu. [2606:4100:3880:1234::84]) by smtp-relay.gmail.com with ESMTPS id d9443c01a7336-29498e50e3fsm790805ad.66.2025.10.24.19.39.59 (version=TLS1_2 cipher=ECDHE-ECDSA-AES128-GCM-SHA256 bits=128/128); Fri, 24 Oct 2025 19:39:59 -0700 (PDT) X-Relaying-Domain: iol.unh.edu Date: Fri, 24 Oct 2025 19:39:59 -0700 (PDT) Message-ID: <68fc387f.170a0220.3acf84.4183SMTPIN_ADDED_MISSING@mx.google.com> Received: from [172.21.0.2] (unknown [172.18.0.240]) by postal.iol.unh.edu (Postfix) with ESMTP id 171DD60003E7; Fri, 24 Oct 2025 22:39:59 -0400 (EDT) Subject: |SUCCESS| [GIT MASTER] 6edcec237e31fcdb848cca6c151ee7a5bf057c28 From: dpdklab@iol.unh.edu To: Test Report Cc: dpdk-test-reports@iol.unh.edu Content-Type: text/plain X-BeenThere: test-report@dpdk.org X-Mailman-Version: 2.1.29 Precedence: list List-Id: automatic DPDK test reports List-Unsubscribe: , List-Archive: List-Post: List-Help: List-Subscribe: , Errors-To: test-report-bounces@dpdk.org _Testing PASS_ Branch: dpdk 6edcec237e31fcdb848cca6c151ee7a5bf057c28 --> testing pass Upstream job id: Generic-DPDK-Compile-Meson#437317 Test environment and result as below: +------------------------------+--------------------+ | Environment | dpdk_meson_compile | +==============================+====================+ | Red Hat Enterprise Linux 9.5 | PASS | +------------------------------+--------------------+ | Ubuntu 20.04 | PASS | +------------------------------+--------------------+ | Debian GNU/Linux 12 | PASS | +------------------------------+--------------------+ | Fedora Linux 42 | PASS | +------------------------------+--------------------+ | Ubuntu 22.04 | PASS | +------------------------------+--------------------+ | Ubuntu 24.04 | PASS | +------------------------------+--------------------+ | CentOS Stream 9 | PASS | +------------------------------+--------------------+ | CentOS Stream 10 | PASS | +------------------------------+--------------------+ Red Hat Enterprise Linux 9.5 Kernel: 5.4 Compiler: gcc gcc (GCC) 11.5.0 20240719 (Red Hat 11.5.0-2) Ubuntu 20.04 Kernel: 5.15 Compiler: aarch64-linux-gnu-gcc gcc (Ubuntu 9.4.0-1ubuntu1~20.04.2) 9.4.0 Debian GNU/Linux 12 Kernel: 5.4 Compiler: gcc gcc (Debian 12.2.0-14+deb12u1) 12.2.0 Fedora Linux 42 Kernel: 5.4 Compiler: gcc gcc (GCC) 15.2.1 20250808 (Red Hat 15.2.1-1) Ubuntu 22.04 Kernel: 5.4 Compiler: gcc gcc (Ubuntu 11.4.0-1ubuntu1~22.04) 11.4.0 Ubuntu 24.04 Kernel: 5.4 Compiler: gcc gcc (Ubuntu 13.3.0-6ubuntu2~24.04) 13.3.0 CentOS Stream 9 Kernel: 5.4 Compiler: gcc gcc (GCC) 11.5.0 20240719 (Red Hat 11.5.0-11) CentOS Stream 10 Kernel: 5.4 Compiler: gcc gcc (GCC) 14.2.1 20250110 (Red Hat 14.2.1-8) To view detailed results, visit: https://lab.dpdk.org/results/dashboard/tarballs/35323/ UNH-IOL DPDK Community Lab To manage your email subscriptions, visit: https://lab.dpdk.org/results/dashboard/preferences/subscriptions/