From mboxrd@z Thu Jan 1 00:00:00 1970 Return-Path: Received: from mails.dpdk.org (mails.dpdk.org [217.70.189.124]) by inbox.dpdk.org (Postfix) with ESMTP id BB07D489CC for ; Sat, 25 Oct 2025 06:25:33 +0200 (CEST) Received: from mails.dpdk.org (localhost [127.0.0.1]) by mails.dpdk.org (Postfix) with ESMTP id 9355240156; Sat, 25 Oct 2025 06:25:33 +0200 (CEST) Received: from mail-qv1-f98.google.com (mail-qv1-f98.google.com [209.85.219.98]) by mails.dpdk.org (Postfix) with ESMTP id C80E240156 for ; Sat, 25 Oct 2025 06:25:32 +0200 (CEST) Received: by mail-qv1-f98.google.com with SMTP id 6a1803df08f44-87c217f4aaaso32009766d6.0 for ; Fri, 24 Oct 2025 21:25:32 -0700 (PDT) DKIM-Signature: v=1; a=rsa-sha256; c=relaxed/relaxed; d=iol.unh.edu; s=unh-iol; t=1761366332; x=1761971132; darn=dpdk.org; h=cc:to:from:subject:message-id:date:from:to:cc:subject:date :message-id:reply-to; bh=MA+KYedApZHElM6v6ZeXVRYxhUeHeh1cbYmr9PzmeL8=; b=enaICyhfe8csETEPyp45StYz2ag0Gx8mqdI2nqwlo7UWvzg3mEBVb5O7Fbx/ZamS8Q lQ2OjLnqWzbjLSZOL8yFmJYDnUEHcqS6a5PnswzBPm1i8E4N6zdlB81JBmUkZ8T/qIZd jlkAgQsOOOzvtTRSkm/IsozSWeXHEIN/+zv10= X-Google-DKIM-Signature: v=1; a=rsa-sha256; c=relaxed/relaxed; d=1e100.net; s=20230601; t=1761366332; x=1761971132; h=cc:to:from:subject:message-id:date:x-gm-message-state:from:to:cc :subject:date:message-id:reply-to; bh=MA+KYedApZHElM6v6ZeXVRYxhUeHeh1cbYmr9PzmeL8=; b=dMy2MhqdrJJhVXWjMbaailue6XrOuu0Ja9jeBhuL9/QKqKfSjOOVQpjqHYX75osRwB BIp84fzfbNAaxENudaYrNF2uqRo4T8uSO+Z552FgbQoqV7RdmIL9BmbO2hM6RxPn/+F+ pkN6r01syONEojpNrwNEOs/H+dyz0j6GVx0pQN2KvySz3WdWq3m5NBQGcJnPNkC+4MX7 dgNC+Ehi9MJi9M+oaUt7KmW72zjAuiwnKzmuYDW+rj3N/PkOHT8azfqNNPwC7WmD/ZYQ aVyD9XM+cD2eMkxE0IusnLacrK8zXOVuEWr4n68M74HExuvM4SvgzCS1gaiDsNrUqrSk pm1g== X-Gm-Message-State: AOJu0Yy8PExmbk34/cAjcwN91Je2BqZjywq5jGM2wGFfMu1vi9YQUX73 OYcdV5h/5qYDiJIfu4grZBxFEpWFnMBXJIM5Hgh6iH2/upS116TLxxbqq9d/aw/8GRgTQBJbI4O rCNEQun4SL5P6n/v5KncGBbx0Go3+b12tqzcd X-Gm-Gg: ASbGncsiF5sdiQJvjTfhT04tkquA5ROjdQXay5/1aMN4jI1cUG9k2+BLs40NW7CL/su EGGRWHt5fZJ6Dc5PnfVq5qyBV5H1tr6bXB7pH+9JZuJCqnO0OSAFysOE3j/wyvjAFsskQFgezWq PcBg2i8ew427VWw5SN0SqKGVKNwJQVM4H41HKE3Gho6RnNhe2cvlSE5BbE+EqPonsxzm4IQXoy0 iyjkgxi5Q8BP4Oumj9ZZO+jJuv0d6tdRhv7Tfhxk/+wF3X3Et6Nx5kUBKm7K+vJYQd4PYrKctWG oAvYpPs/D+dvHNSnZnJQbJ5NqGLxURU+v7WZ4/GDXoL0gFWnhBIoX7QTrQBFo+IJctZcmsaxgwX ZDXWWKqKMPNhwY1rrdHaldM0s8yhcotA= X-Google-Smtp-Source: AGHT+IGy4XbE/qWZAccs0PHM2TMXEridc9ovS6p9L3Ntecj2m+TqF2wm2YRb/IM3GtxtH6EpGdv6+wzaDIt6 X-Received: by 2002:a05:6214:1ccc:b0:80a:7bd3:e61f with SMTP id 6a1803df08f44-87c2062dc23mr344831456d6.52.1761366332103; Fri, 24 Oct 2025 21:25:32 -0700 (PDT) Received: from postal.iol.unh.edu (postal.iol.unh.edu. [132.177.123.84]) by smtp-relay.gmail.com with ESMTPS id 6a1803df08f44-87fc49a681csm1015266d6.27.2025.10.24.21.25.32 (version=TLS1_2 cipher=ECDHE-ECDSA-AES128-GCM-SHA256 bits=128/128); Fri, 24 Oct 2025 21:25:32 -0700 (PDT) X-Relaying-Domain: iol.unh.edu Date: Fri, 24 Oct 2025 21:25:32 -0700 (PDT) Message-ID: <68fc513c.d40a0220.107f97.545cSMTPIN_ADDED_MISSING@mx.google.com> Received: from [172.21.0.2] (unknown [172.18.0.240]) by postal.iol.unh.edu (Postfix) with ESMTP id CCA5D6050A61; Sat, 25 Oct 2025 00:25:31 -0400 (EDT) Subject: |SUCCESS| [GIT MASTER] 3b43ce3f4a54468e7ef65760c2fd7b4d6ee6d9fc From: dpdklab@iol.unh.edu To: Test Report Cc: dpdk-test-reports@iol.unh.edu, Xueming Li , Christian Ehrhardt , Kevin Traynor , Luca Boccassi Content-Type: text/plain X-BeenThere: test-report@dpdk.org X-Mailman-Version: 2.1.29 Precedence: list List-Id: automatic DPDK test reports List-Unsubscribe: , List-Archive: List-Post: List-Help: List-Subscribe: , Errors-To: test-report-bounces@dpdk.org _Testing PASS_ Branch: tags/v22.11 3b43ce3f4a54468e7ef65760c2fd7b4d6ee6d9fc --> testing pass Upstream job id: Generic-VM-DPDK-Compile-Meson#39257 Test environment and result as below: +---------------------+--------------------+-------------------------+----------------------+ | Environment | dpdk_meson_compile | dpdk_llvm_clang_compile | dpdk_mingw64_compile | +=====================+====================+=========================+======================+ | Ubuntu 20.04 | PASS | SKIPPED | SKIPPED | +---------------------+--------------------+-------------------------+----------------------+ | FreeBSD 14.2 | PASS | SKIPPED | SKIPPED | +---------------------+--------------------+-------------------------+----------------------+ | Windows Server 2022 | SKIPPED | PASS | PASS | +---------------------+--------------------+-------------------------+----------------------+ Ubuntu 20.04 Kernel: 4.19 Compiler: gcc gcc (Ubuntu 9.4.0-1ubuntu1~20.04.2) 9.4.0 FreeBSD 14.2 Kernel: 14.2-RELEASE Compiler: clang 18.1.6 Windows Server 2022 Kernel: 10.0.20348.2031 Compiler: clang 15.0.7, gcc 14.1.0 (MinGW), and MSVC VS 19.39.33521 To view detailed results, visit: https://lab.dpdk.org/results/dashboard/tarballs/35342/ UNH-IOL DPDK Community Lab To manage your email subscriptions, visit: https://lab.dpdk.org/results/dashboard/preferences/subscriptions/