From mboxrd@z Thu Jan 1 00:00:00 1970 Return-Path: Received: from mails.dpdk.org (mails.dpdk.org [217.70.189.124]) by inbox.dpdk.org (Postfix) with ESMTP id A922C489CC for ; Sat, 25 Oct 2025 06:25:48 +0200 (CEST) Received: from mails.dpdk.org (localhost [127.0.0.1]) by mails.dpdk.org (Postfix) with ESMTP id A379740156; Sat, 25 Oct 2025 06:25:48 +0200 (CEST) Received: from mail-yw1-f226.google.com (mail-yw1-f226.google.com [209.85.128.226]) by mails.dpdk.org (Postfix) with ESMTP id E2D0340156 for ; Sat, 25 Oct 2025 06:25:45 +0200 (CEST) Received: by mail-yw1-f226.google.com with SMTP id 00721157ae682-78488cdc20aso35687797b3.1 for ; Fri, 24 Oct 2025 21:25:45 -0700 (PDT) DKIM-Signature: v=1; a=rsa-sha256; c=relaxed/relaxed; d=iol.unh.edu; s=unh-iol; t=1761366345; x=1761971145; darn=dpdk.org; h=cc:to:from:subject:message-id:date:from:to:cc:subject:date :message-id:reply-to; bh=JKsHsDtOsZpa4X90BFCQBjnkwYduq8QxYB7VJ5muK4I=; b=EwO8d2AdX3bPmMzaL+Pvv4qnDO6saaQk3AyoNsCjPUKh5hvsJXrLy0hmrOImEiwyDA gDvC6t9kWJ18MFVG01sDf38/d0veh7axoM8jj8HrQpP6SsN44l8MnBvl4BWzVnVqmxLe IHwWSaZULGdZutIQGSdW3+aG4IyOgmx3i6eh0= X-Google-DKIM-Signature: v=1; a=rsa-sha256; c=relaxed/relaxed; d=1e100.net; s=20230601; t=1761366345; x=1761971145; h=cc:to:from:subject:message-id:date:x-gm-message-state:from:to:cc :subject:date:message-id:reply-to; bh=JKsHsDtOsZpa4X90BFCQBjnkwYduq8QxYB7VJ5muK4I=; b=YLCD6HjyG6JkY/T5vdQb1JHRI1/lEW8QDWsASNwnqL0OrKvfNNUj5HtIwb9wVYWTwf a1/QiaLAZsJDwFV6YhCUmyYwliLpWoz7SVCbKrIRYc9+FWukoQQWSFgA0TQQItpaaCf6 NlQd2/VGKhPBYWrDJzVDv+aOZzUiI7IQcSxSuQa6dW2frGiLUU0d4GABezLjBUM//4xb UvhFUkq1ZYCn25szTbANcBdMyyQBj6EP3ZuPK2eSElpwjhorTQxeIoJlkM/nCs4Ljr4a 4oj0vH+2yjVPZrlnyI2Wvs4dcw6W8tPw1qTnP3AjimoaqsOHZ0IX7ScYj/z0qmT//5nj oOcg== X-Gm-Message-State: AOJu0YxXmdMDCKfgjRhKGDwi4PjhMcfEy3zJNVS6LTwsS7fAKmce8rB1 c/T+GNqt3890d1hTHt7+OwS4E8639BMwrIYL2B9mRYSrbxICBQMUHxV5Kcx1x2px/cpVOJYfYNR WcfgPWv/dLw/dUMbxBRbj6/O/97v8K95RAulS X-Gm-Gg: ASbGncvvQWChZ3BTNMAHV9IJ7y/2qQjysCeWDgudFp/YKVVMsR5wGYEIzuKcHv/6Vbx 1phMy5YU45g67fwCKDz9xvn6AdnBDIlsK9A+OFVF1wVxVHv8Ihd9/H7eSfSO80HeWllsRA/tH5y Veuq27Vf5JbKsdevV6GBUoZNAmIg0rgjDyFdQT3MzxWi8fCffcxguXjzP4XbEbqe+hbF1ABt6TZ nZYAo9X3usiYGqS7AvPR5+GffGFgKuXMOxskuDFiimelMrzYkHOdrHJLNBZsk8DEALcCQFqC6F9 4OAHkA3zhPS7bKIB5IbVHrE2nZ5TLILRSSN4RSOVL9SukJJUyAZtuNOL190WvATm00dENPOX0aE KYSCH5v0I+0GhVR0Q4WuZAH2hdffuKf4= X-Google-Smtp-Source: AGHT+IEQ7c0KKdcxlxApvGnELjm5k2reDQkUh5vTeJ51QWXJ3IFA7h5RQOs85f+JTYtmGR3bz6CloEozEcoy X-Received: by 2002:a05:690c:4982:b0:784:8153:c61a with SMTP id 00721157ae682-7848153cf5fmr238455817b3.34.1761366345287; Fri, 24 Oct 2025 21:25:45 -0700 (PDT) Received: from postal.iol.unh.edu (postal.iol.unh.edu. [132.177.123.84]) by smtp-relay.gmail.com with ESMTPS id 00721157ae682-785ed176480sm645737b3.10.2025.10.24.21.25.45 (version=TLS1_2 cipher=ECDHE-ECDSA-AES128-GCM-SHA256 bits=128/128); Fri, 24 Oct 2025 21:25:45 -0700 (PDT) X-Relaying-Domain: iol.unh.edu Date: Fri, 24 Oct 2025 21:25:45 -0700 (PDT) Message-ID: <68fc5149.050a0220.29dffb.42cfSMTPIN_ADDED_MISSING@mx.google.com> Received: from [172.21.0.2] (unknown [172.18.0.240]) by postal.iol.unh.edu (Postfix) with ESMTP id C5AD66050A61; Sat, 25 Oct 2025 00:25:44 -0400 (EDT) Subject: |SUCCESS| [GIT MASTER] b287e404643aeab5bb5db084c142789df187844e From: dpdklab@iol.unh.edu To: Test Report Cc: dpdk-test-reports@iol.unh.edu, Xueming Li , Christian Ehrhardt , Kevin Traynor , Luca Boccassi Content-Type: text/plain X-BeenThere: test-report@dpdk.org X-Mailman-Version: 2.1.29 Precedence: list List-Id: automatic DPDK test reports List-Unsubscribe: , List-Archive: List-Post: List-Help: List-Subscribe: , Errors-To: test-report-bounces@dpdk.org _Testing PASS_ Branch: tags/v24.11 b287e404643aeab5bb5db084c142789df187844e --> testing pass Upstream job id: Generic-VM-DPDK-Compile-Meson#39259 Test environment and result as below: +---------------------+-------------------+--------------------+-------------------------+----------------------+ | Environment | dpdk_msvc_compile | dpdk_meson_compile | dpdk_llvm_clang_compile | dpdk_mingw64_compile | +=====================+===================+====================+=========================+======================+ | Windows Server 2022 | PASS | SKIPPED | PASS | PASS | +---------------------+-------------------+--------------------+-------------------------+----------------------+ | FreeBSD 14.2 | SKIPPED | PASS | SKIPPED | SKIPPED | +---------------------+-------------------+--------------------+-------------------------+----------------------+ | Ubuntu 20.04 | SKIPPED | PASS | SKIPPED | SKIPPED | +---------------------+-------------------+--------------------+-------------------------+----------------------+ Windows Server 2022 Kernel: 10.0.20348.2031 Compiler: clang 15.0.7, gcc 14.1.0 (MinGW), and MSVC VS 19.39.33521 FreeBSD 14.2 Kernel: 14.2-RELEASE Compiler: clang 18.1.6 Ubuntu 20.04 Kernel: 4.19 Compiler: gcc gcc (Ubuntu 9.4.0-1ubuntu1~20.04.2) 9.4.0 To view detailed results, visit: https://lab.dpdk.org/results/dashboard/tarballs/35344/ UNH-IOL DPDK Community Lab To manage your email subscriptions, visit: https://lab.dpdk.org/results/dashboard/preferences/subscriptions/