From mboxrd@z Thu Jan 1 00:00:00 1970 Return-Path: Received: from mails.dpdk.org (mails.dpdk.org [217.70.189.124]) by inbox.dpdk.org (Postfix) with ESMTP id 9199F489CC for ; Sat, 25 Oct 2025 07:49:03 +0200 (CEST) Received: from mails.dpdk.org (localhost [127.0.0.1]) by mails.dpdk.org (Postfix) with ESMTP id 6A2CA40156; Sat, 25 Oct 2025 07:49:03 +0200 (CEST) Received: from mail-qv1-f97.google.com (mail-qv1-f97.google.com [209.85.219.97]) by mails.dpdk.org (Postfix) with ESMTP id CA47240156 for ; Sat, 25 Oct 2025 07:49:01 +0200 (CEST) Received: by mail-qv1-f97.google.com with SMTP id 6a1803df08f44-81efcad9c90so31924796d6.0 for ; Fri, 24 Oct 2025 22:49:01 -0700 (PDT) DKIM-Signature: v=1; a=rsa-sha256; c=relaxed/relaxed; d=iol.unh.edu; s=unh-iol; t=1761371340; x=1761976140; darn=dpdk.org; h=cc:to:from:subject:message-id:date:from:to:cc:subject:date :message-id:reply-to; bh=FbWgBT9oh9fzeCKUvD0XxtbXorlimmoPLEJ+jixcMzQ=; b=Y7VM+6IiuPKoenYdBIkqhR2qwVRYOWY2UvuFeSR+C8KQ/NFJgaTO097+WDVtMb9p/W 0NFo3hkWyHIflRRU/Ev6MdmT4Y1OnBx0IHKNpCKPfcDGq/xOgUnK89G5UCufBhnjZKkU EuMKog9Ibdyz8+iNLtp53/wEkQoK+CEQ9zqAk= X-Google-DKIM-Signature: v=1; a=rsa-sha256; c=relaxed/relaxed; d=1e100.net; s=20230601; t=1761371340; x=1761976140; h=cc:to:from:subject:message-id:date:x-gm-message-state:from:to:cc :subject:date:message-id:reply-to; bh=FbWgBT9oh9fzeCKUvD0XxtbXorlimmoPLEJ+jixcMzQ=; b=rElFFqOtEnFIW6vDjdKGBe+rdAUa6s7VTft2tVGuZpRlDHA4P8e01If1EgADG9Ua9q DRQdkC8CVaOTS/VtZVubRcQ0hS5Ug1HVs5celoKpqOkZWMV/mrX03Z7RQ/CZSDUfjo18 tJPOzevSSVQ9Rj73yXei4e1eIBbsEdf4XhZEiTxGXe0XtAY3BL7q4RSSw8iFZ88P0m9j hTruK5EZ0n501jO0ThEwau9Vl8mBSkQFf9YY9YZCMC67u0upctHZrG15B4fG7uAczv8X wev4+ucTh6PUfa5zGnl+SJSRAdhH4kxROIjiPs+GpmvQnHUFR9ImUYut+5WmYLSY2MML I7YA== X-Gm-Message-State: AOJu0Yzg+BjAs02YBTsW1zK90ZhAZQnTy2f6GMAWlzEkX6vJXGd9cVFf 4l9qnp9FDsUQKdAcow8atKbE/2Q68THlmSf6W221bS4SSvRHDyRX6FEgnMdI7KzsXZfr43jZcFo 78eDbEopkLkhWjiOR/jIr27T19iqMu5PCTs9R X-Gm-Gg: ASbGncsFOq+oBSzOCCgXH5IpLBhwgg4obGqTg1QN6AN2vKIVTYGQghuhLSozeOod2tx clIGdSAa/gUeRyEQFUFCFcZfW8pg4LZA2NGYyOAnTuV0YIY75bTK2pPLVFNB8rGw3bgkkycsZq3 +wx6LpFBZH2lH3WdjT3N/xkqEnmVfDQj1icqe878EyrIwjEL4Qp3VlfGP9IyTclZbq94ZxG/z3e UlomqkHClrYTrNOcZSX3AreQnsbjmHwucjIRSxmSSOvw6zj3yUV5N/4wqi7oVXnZVDjlYuInO3o N6oMR3sWL8qGYy6O18IA/PJeIrfXhzDcUdFXdSMjds6a2H/49gAm0GRnZTIfAkHTPXWLzwkSH8w lM2Az6i2+yT2ykKzc8N60FF8Nm/j+B4U= X-Google-Smtp-Source: AGHT+IGdxm5OqC9qvu+FjMRL3en+ygTj8A/ac++BICX/oQ+wk0BJZXY9feBfb8+RnH5uWRc/CjOb/aJG1SzX X-Received: by 2002:a05:622a:1b8b:b0:4e8:acea:6c86 with SMTP id d75a77b69052e-4e8acea7076mr312919061cf.14.1761371340626; Fri, 24 Oct 2025 22:49:00 -0700 (PDT) Received: from postal.iol.unh.edu (postal.iol.unh.edu. [132.177.123.84]) by smtp-relay.gmail.com with ESMTPS id 6a1803df08f44-87fc48dbc14sm1239886d6.6.2025.10.24.22.49.00 (version=TLS1_2 cipher=ECDHE-ECDSA-AES128-GCM-SHA256 bits=128/128); Fri, 24 Oct 2025 22:49:00 -0700 (PDT) X-Relaying-Domain: iol.unh.edu Date: Fri, 24 Oct 2025 22:49:00 -0700 (PDT) Message-ID: <68fc64cc.050a0220.298b87.666aSMTPIN_ADDED_MISSING@mx.google.com> Received: from [172.21.0.2] (unknown [172.18.0.240]) by postal.iol.unh.edu (Postfix) with ESMTP id 283B36051830; Sat, 25 Oct 2025 01:49:00 -0400 (EDT) Subject: |SUCCESS| [GIT MASTER] b287e404643aeab5bb5db084c142789df187844e From: dpdklab@iol.unh.edu To: Test Report Cc: dpdk-test-reports@iol.unh.edu, Xueming Li , Christian Ehrhardt , Kevin Traynor , Luca Boccassi Content-Type: text/plain X-BeenThere: test-report@dpdk.org X-Mailman-Version: 2.1.29 Precedence: list List-Id: automatic DPDK test reports List-Unsubscribe: , List-Archive: List-Post: List-Help: List-Subscribe: , Errors-To: test-report-bounces@dpdk.org _Testing PASS_ Branch: tags/v24.11 b287e404643aeab5bb5db084c142789df187844e --> testing pass Upstream job id: Generic-Unit-Test-DPDK#385339 Test environment and result as below: +-------------------------------+----------------+ | Environment | dpdk_unit_test | +===============================+================+ | Fedora Linux 40 | PASS | +-------------------------------+----------------+ | CentOS Stream 9 | PASS | +-------------------------------+----------------+ | Fedora Linux 41 | PASS | +-------------------------------+----------------+ | CentOS Stream 10 | PASS | +-------------------------------+----------------+ | Debian GNU/Linux 12 | PASS | +-------------------------------+----------------+ | Red Hat Enterprise Linux 9.5 | PASS | +-------------------------------+----------------+ | Ubuntu 24.04 | PASS | +-------------------------------+----------------+ | Ubuntu 20.04 | PASS | +-------------------------------+----------------+ | Fedora Linux 42 | PASS | +-------------------------------+----------------+ | Ubuntu 22.04 | PASS | +-------------------------------+----------------+ | Red Hat Enterprise Linux 8.10 | PASS | +-------------------------------+----------------+ | Windows Server 2022 | PASS | +-------------------------------+----------------+ Fedora Linux 40 Kernel: 5.15 Compiler: gcc gcc (GCC) 14.2.1 20240912 (Red Hat 14.2.1-3) CentOS Stream 9 Kernel: 5.15 Compiler: gcc gcc (GCC) 11.5.0 20240719 (Red Hat 11.5.0-11) Fedora Linux 41 Kernel: 5.15 Compiler: gcc gcc (GCC) 14.3.1 20250523 (Red Hat 14.3.1-1) CentOS Stream 10 Kernel: 5.15 Compiler: gcc gcc (GCC) 14.2.1 20250110 (Red Hat 14.2.1-8) Debian GNU/Linux 12 Kernel: 5.15 Compiler: gcc gcc (Debian 12.2.0-14+deb12u1) 12.2.0 Red Hat Enterprise Linux 9.5 Kernel: 5.15 Compiler: gcc gcc (GCC) 11.5.0 20240719 (Red Hat 11.5.0-2) Ubuntu 24.04 Kernel: 5.15 Compiler: gcc gcc (Ubuntu 13.3.0-6ubuntu2~24.04) 13.3.0 Ubuntu 20.04 Kernel: 5.15 Compiler: gcc gcc (Ubuntu 9.4.0-1ubuntu1~20.04.2) 9.4.0 Fedora Linux 42 Kernel: 5.15 Compiler: gcc gcc (GCC) 15.2.1 20250808 (Red Hat 15.2.1-1) Ubuntu 22.04 Kernel: 5.15 Compiler: gcc gcc (Ubuntu 11.4.0-1ubuntu1~22.04) 11.4.0 Red Hat Enterprise Linux 8.10 Kernel: 5.15 Compiler: gcc gcc (GCC) 8.5.0 20210514 (Red Hat 8.5.0-22) Windows Server 2022 Kernel: 10.0.20348.2031 Compiler: clang 15.0.7, gcc 14.1.0 (MinGW), and MSVC VS 19.39.33521 To view detailed results, visit: https://lab.dpdk.org/results/dashboard/tarballs/35344/ UNH-IOL DPDK Community Lab To manage your email subscriptions, visit: https://lab.dpdk.org/results/dashboard/preferences/subscriptions/