From mboxrd@z Thu Jan 1 00:00:00 1970 Return-Path: Received: from mails.dpdk.org (mails.dpdk.org [217.70.189.124]) by inbox.dpdk.org (Postfix) with ESMTP id AE8D6489CF for ; Sat, 25 Oct 2025 09:55:10 +0200 (CEST) Received: from mails.dpdk.org (localhost [127.0.0.1]) by mails.dpdk.org (Postfix) with ESMTP id 86AB140156; Sat, 25 Oct 2025 09:55:10 +0200 (CEST) Received: from mail-pf1-f226.google.com (mail-pf1-f226.google.com [209.85.210.226]) by mails.dpdk.org (Postfix) with ESMTP id 6594440156 for ; Sat, 25 Oct 2025 09:55:08 +0200 (CEST) Received: by mail-pf1-f226.google.com with SMTP id d2e1a72fcca58-794e300e20dso3563548b3a.1 for ; Sat, 25 Oct 2025 00:55:08 -0700 (PDT) DKIM-Signature: v=1; a=rsa-sha256; c=relaxed/relaxed; d=iol.unh.edu; s=unh-iol; t=1761378907; x=1761983707; darn=dpdk.org; h=cc:to:from:subject:message-id:date:from:to:cc:subject:date :message-id:reply-to; bh=p/g/9T4blFbZDu+EYRAoyLRJ5TP6j1YFzx3wBGiDbPc=; b=dzVfrqNCeLxXjacbQBclJH2ShgJWte9VbJFmhXphW8UzyPAwMURNsJGz+CUg6k0HAQ Rz8zVDUZYxrvLbktoffv228zdf6scGcvPJCVHozseAXGlQwbFscQfS8wAdlhCXQ8fEce QAqjkH/6sZTrppcklsUlrujxFZUs1nLWO1tmU= X-Google-DKIM-Signature: v=1; a=rsa-sha256; c=relaxed/relaxed; d=1e100.net; s=20230601; t=1761378907; x=1761983707; h=cc:to:from:subject:message-id:date:x-gm-message-state:from:to:cc :subject:date:message-id:reply-to; bh=p/g/9T4blFbZDu+EYRAoyLRJ5TP6j1YFzx3wBGiDbPc=; b=A8IUk3l7Vf9RZE6zt8wdgCzcPvVGNgQq5r7y9YgTdvzD2uYeWYaP+H9XLxzuEMX7aL 6zQDSRoqIh+AfTBb5uWZruNnxR/gss23rRokDYGgFajQU+F9aOi/GsnTEFxg1zj1MOHW D0AnMIVfYrrR7qOEovKGv0bhrQseanUg0RGYjJyf1a+4dmGvl6EZ3AQ94WOWnceS+0gh Df/TroZLSMdgeT5TR/8ZP7Y7GNsuaAB6uRYTsuTdGZA6sY7i5+xKROfL29L30WBzmawU zsaU/OEGdVagRqSIUZVS2QbYbNS3Dq+rCmisQd8UjKmubn9cJ7nB7RKTNHFt2Ufh2eU0 avVQ== X-Gm-Message-State: AOJu0YwtLIgbO5S7vMYF/Ce7d6fl667opeCaL2YJb056xAgZFt5MEJex y6VQNfQfkM2nGYY1Tbvg9A5R9U/4ZVqcV76U0hsHyF5hoYbsqJ9KCLf+ClDoLwvnZmSSdJm52Cz qF3viFV7T7MaC6Y7h51DnYeH1AZHxxm7o6nV7 X-Gm-Gg: ASbGncs+cFnKD6PlA1BQP9E2pLeUW097cbitRt42qVyYswKNIZTH/e602JXkqMuludD GNFD34TCi24+uh3JA2q4xWBO93mbABNoF30JamZzBqEHqELd8DHk6fVqSG4jkG5k3tN7KwSXhwt xV61+2OtP3sxKReAKXb3YpI+XB5i5UBDyFSPtjdwCZsRh157eAwDIJcqDkaAoZqqqMYVeATWPEH jAllAXWz2HF4ZuysHYHVB3YQtYR8Ih8a6REvKU2kTgiNu6HRSr2LR3yD2rVSWJ6eUkr7NyKKbQn TWWLGz16FG4Y0Ef7VTmfIWgVA8+itLZvTI0nFqfLL7kpmva+G0s59/PbVgAL4lgY/whwxq/N+mW 0eCWCrcMXjwjCplrN9HF1RslIxWuzx10= X-Google-Smtp-Source: AGHT+IGbflfSYnJW3al8CgIavlV3wVqk3shyvRz167aSPjL35DwTLCjZpgGRFb/avnvS1N8wH1LZU+Ds0gJT X-Received: by 2002:a05:6a20:258a:b0:32d:b741:a201 with SMTP id adf61e73a8af0-33db4ee554fmr6229829637.20.1761378907502; Sat, 25 Oct 2025 00:55:07 -0700 (PDT) Received: from postal.iol.unh.edu (postal.iol.unh.edu. [132.177.123.84]) by smtp-relay.gmail.com with ESMTPS id 41be03b00d2f7-b73b68d86basm36334a12.14.2025.10.25.00.55.07 (version=TLS1_2 cipher=ECDHE-ECDSA-AES128-GCM-SHA256 bits=128/128); Sat, 25 Oct 2025 00:55:07 -0700 (PDT) X-Relaying-Domain: iol.unh.edu Date: Sat, 25 Oct 2025 00:55:07 -0700 (PDT) Message-ID: <68fc825b.050a0220.3891bf.194eSMTPIN_ADDED_MISSING@mx.google.com> Received: from [172.21.0.2] (unknown [172.18.0.240]) by postal.iol.unh.edu (Postfix) with ESMTP id B7D1460003F4; Sat, 25 Oct 2025 03:55:06 -0400 (EDT) Subject: |SUCCESS| [GIT MASTER] 3b43ce3f4a54468e7ef65760c2fd7b4d6ee6d9fc From: dpdklab@iol.unh.edu To: Test Report Cc: dpdk-test-reports@iol.unh.edu, Xueming Li , Christian Ehrhardt , Kevin Traynor , Luca Boccassi Content-Type: text/plain X-BeenThere: test-report@dpdk.org X-Mailman-Version: 2.1.29 Precedence: list List-Id: automatic DPDK test reports List-Unsubscribe: , List-Archive: List-Post: List-Help: List-Subscribe: , Errors-To: test-report-bounces@dpdk.org _Testing PASS_ Branch: tags/v22.11 3b43ce3f4a54468e7ef65760c2fd7b4d6ee6d9fc --> testing pass Upstream job id: Generic-DPDK-Compile-Meson#437342 Test environment and result as below: +------------------------------+--------------------+ | Environment | dpdk_meson_compile | +==============================+====================+ | Red Hat Enterprise Linux 9.5 | PASS | +------------------------------+--------------------+ | Ubuntu 20.04 | PASS | +------------------------------+--------------------+ | Debian GNU/Linux 12 | PASS | +------------------------------+--------------------+ | Fedora Linux 42 | PASS | +------------------------------+--------------------+ | Ubuntu 22.04 | PASS | +------------------------------+--------------------+ | Ubuntu 24.04 | PASS | +------------------------------+--------------------+ | CentOS Stream 9 | PASS | +------------------------------+--------------------+ | CentOS Stream 10 | PASS | +------------------------------+--------------------+ Red Hat Enterprise Linux 9.5 Kernel: 5.4 Compiler: gcc gcc (GCC) 11.5.0 20240719 (Red Hat 11.5.0-2) Ubuntu 20.04 Kernel: 5.15 Compiler: aarch64-linux-gnu-gcc gcc (Ubuntu 9.4.0-1ubuntu1~20.04.2) 9.4.0 Debian GNU/Linux 12 Kernel: 5.4 Compiler: gcc gcc (Debian 12.2.0-14+deb12u1) 12.2.0 Fedora Linux 42 Kernel: 5.4 Compiler: gcc gcc (GCC) 15.2.1 20250808 (Red Hat 15.2.1-1) Ubuntu 22.04 Kernel: 5.4 Compiler: gcc gcc (Ubuntu 11.4.0-1ubuntu1~22.04) 11.4.0 Ubuntu 24.04 Kernel: 5.4 Compiler: gcc gcc (Ubuntu 13.3.0-6ubuntu2~24.04) 13.3.0 CentOS Stream 9 Kernel: 5.4 Compiler: gcc gcc (GCC) 11.5.0 20240719 (Red Hat 11.5.0-11) CentOS Stream 10 Kernel: 5.4 Compiler: gcc gcc (GCC) 14.2.1 20250110 (Red Hat 14.2.1-8) To view detailed results, visit: https://lab.dpdk.org/results/dashboard/tarballs/35324/ UNH-IOL DPDK Community Lab To manage your email subscriptions, visit: https://lab.dpdk.org/results/dashboard/preferences/subscriptions/