From mboxrd@z Thu Jan 1 00:00:00 1970 Return-Path: Received: from mails.dpdk.org (mails.dpdk.org [217.70.189.124]) by inbox.dpdk.org (Postfix) with ESMTP id 9CA74489CF for ; Sat, 25 Oct 2025 09:55:25 +0200 (CEST) Received: from mails.dpdk.org (localhost [127.0.0.1]) by mails.dpdk.org (Postfix) with ESMTP id 96C7340156; Sat, 25 Oct 2025 09:55:25 +0200 (CEST) Received: from mail-yx1-f99.google.com (mail-yx1-f99.google.com [74.125.224.99]) by mails.dpdk.org (Postfix) with ESMTP id D271840156 for ; Sat, 25 Oct 2025 09:55:21 +0200 (CEST) Received: by mail-yx1-f99.google.com with SMTP id 956f58d0204a3-63e3804362cso2766187d50.2 for ; Sat, 25 Oct 2025 00:55:21 -0700 (PDT) DKIM-Signature: v=1; a=rsa-sha256; c=relaxed/relaxed; d=iol.unh.edu; s=unh-iol; t=1761378921; x=1761983721; darn=dpdk.org; h=cc:to:from:subject:message-id:date:from:to:cc:subject:date :message-id:reply-to; bh=4PUscX47GSJckai08zCDSYNxScQxovnQNC1Q77eAWu4=; b=cEw1DV+HVi0JT66muCqu5RnDtbewaSK21eofTL8xMsIksMP9Aac/R0rXppoUGZ61hZ u1aVg4L1VDOyDMJo5euKGgw/HmvmZa2gI3c1UFzr2WwOppzswXecNx9LZPnjt9gAdGjK 0Bqmv+0/6U9UviET/8+Rc/SXv3e+MaYe3GUUc= X-Google-DKIM-Signature: v=1; a=rsa-sha256; c=relaxed/relaxed; d=1e100.net; s=20230601; t=1761378921; x=1761983721; h=cc:to:from:subject:message-id:date:x-gm-message-state:from:to:cc :subject:date:message-id:reply-to; bh=4PUscX47GSJckai08zCDSYNxScQxovnQNC1Q77eAWu4=; b=H16pYVR3pMJ7Pu3L2M8YWtv2lKygX7MSRdUVRNOuTd8r3FBcxBJoAwe0xM4dxbL+5q EL+npDYdM+x0t3UMXC20zHUdaNap7E1iZ5TgIrfL3Pzjcd72NDAktIJI//HefCxXPp7G DrCQO7ad9rSIRdjUoPmkpdEXMpSQ+a6hUGLuJ8CJFI/h/txw19quYr0QqeD2nA4wLBhv U8KhBz3W9mTV9u1Uyn6ebm9gAg6gvI31973voMMPeYMYEuXGB56oxIPJThhfGKyXaknx YSCv+9U8kPz6sIwvmbK1zJYieiqL0izf0D4xeSLs+eWPwG+JYH0G7HhvoBmz3ZrDQMsH SxIA== X-Gm-Message-State: AOJu0Yw4+VTxxPf1i4A2mQHWyo/VnPFX0XsHVDqzQwn70MHYONZoqh3I tGuk391kfyrm26VwdGi2IbYz1Aa+RlwrsZ3scGL0Ev8eLSqe3I0EhrI7L8E7Cv2eSldUnNIj9yD m0yvWU/MUa2uI0M534jodzKTphX91x0170Rak X-Gm-Gg: ASbGncs5fSNkIFcsWa7UfPKUCeURfQsHA/AKUNVO3vs3JpfY/A8eR7oFh0tACSXHgBx qjw9YbDpc6N7uYZBOB69P392o2Rpn5usANvLPGXHwkh4FETi+WEgRLMkHBLCRY1NRBwV30asY7y o3gXAhxgbvuf7rq5Ti3tMT33CtxdBwdRr1rAyas2NWKTUndxs65Xl68DcC1HKxgTbp6/c8mxwPo qi4WBs2R6mrempvrNlffD8F/VAaA3t1kF3jDuMtqrJnbQDHkCziN7Q9Tr36asSfWYt+R1sHiQWi KZrQiFjNqnUw1f+/xo9JGbYf+zfNnULgreUh747iiTz1b8i8ESO7bJI1/Sow/Qw5YyefVuUZK0q 3e7+IbG9t0ccF7PYsdBew+eNRRvr1WU8= X-Google-Smtp-Source: AGHT+IG2mNFZvNgI8iaSjNsxY6q8YfY0MycJ/SrPwN2mwjyjZ7S4g4t4TbgNeVitr7+AgerYaCEwW0BbRrfa X-Received: by 2002:a05:690c:8d09:b0:784:a6c9:79dc with SMTP id 00721157ae682-784a6c987abmr264442677b3.70.1761378921143; Sat, 25 Oct 2025 00:55:21 -0700 (PDT) Received: from postal.iol.unh.edu (postal.iol.unh.edu. [132.177.123.84]) by smtp-relay.gmail.com with ESMTPS id 956f58d0204a3-63f4c471471sm108698d50.14.2025.10.25.00.55.21 (version=TLS1_2 cipher=ECDHE-ECDSA-AES128-GCM-SHA256 bits=128/128); Sat, 25 Oct 2025 00:55:21 -0700 (PDT) X-Relaying-Domain: iol.unh.edu Date: Sat, 25 Oct 2025 00:55:21 -0700 (PDT) Message-ID: <68fc8269.530a0220.3bfbf6.56e8SMTPIN_ADDED_MISSING@mx.google.com> Received: from [172.21.0.4] (unknown [172.18.0.240]) by postal.iol.unh.edu (Postfix) with ESMTP id DAFA06051830; Sat, 25 Oct 2025 03:55:20 -0400 (EDT) Subject: |SUCCESS| [GIT MASTER] 3b43ce3f4a54468e7ef65760c2fd7b4d6ee6d9fc From: dpdklab@iol.unh.edu To: Test Report Cc: dpdk-test-reports@iol.unh.edu, Xueming Li , Christian Ehrhardt , Kevin Traynor , Luca Boccassi Content-Type: text/plain X-BeenThere: test-report@dpdk.org X-Mailman-Version: 2.1.29 Precedence: list List-Id: automatic DPDK test reports List-Unsubscribe: , List-Archive: List-Post: List-Help: List-Subscribe: , Errors-To: test-report-bounces@dpdk.org _Testing PASS_ Branch: tags/v22.11 3b43ce3f4a54468e7ef65760c2fd7b4d6ee6d9fc --> testing pass Upstream job id: Generic-DPDK-Compile-Meson#437343 Test environment and result as below: +------------------------------+--------------------+ | Environment | dpdk_meson_compile | +==============================+====================+ | Red Hat Enterprise Linux 9.5 | PASS | +------------------------------+--------------------+ | Ubuntu 20.04 | PASS | +------------------------------+--------------------+ | Debian GNU/Linux 12 | PASS | +------------------------------+--------------------+ | Fedora Linux 42 | PASS | +------------------------------+--------------------+ | Ubuntu 22.04 | PASS | +------------------------------+--------------------+ | Ubuntu 24.04 | PASS | +------------------------------+--------------------+ | CentOS Stream 9 | PASS | +------------------------------+--------------------+ | CentOS Stream 10 | PASS | +------------------------------+--------------------+ Red Hat Enterprise Linux 9.5 Kernel: 5.4 Compiler: gcc gcc (GCC) 11.5.0 20240719 (Red Hat 11.5.0-2) Ubuntu 20.04 Kernel: 5.15 Compiler: aarch64-linux-gnu-gcc gcc (Ubuntu 9.4.0-1ubuntu1~20.04.2) 9.4.0 Debian GNU/Linux 12 Kernel: 5.4 Compiler: gcc gcc (Debian 12.2.0-14+deb12u1) 12.2.0 Fedora Linux 42 Kernel: 5.4 Compiler: gcc gcc (GCC) 15.2.1 20250808 (Red Hat 15.2.1-1) Ubuntu 22.04 Kernel: 5.4 Compiler: gcc gcc (Ubuntu 11.4.0-1ubuntu1~22.04) 11.4.0 Ubuntu 24.04 Kernel: 5.4 Compiler: gcc gcc (Ubuntu 13.3.0-6ubuntu2~24.04) 13.3.0 CentOS Stream 9 Kernel: 5.4 Compiler: gcc gcc (GCC) 11.5.0 20240719 (Red Hat 11.5.0-11) CentOS Stream 10 Kernel: 5.4 Compiler: gcc gcc (GCC) 14.2.1 20250110 (Red Hat 14.2.1-8) To view detailed results, visit: https://lab.dpdk.org/results/dashboard/tarballs/35324/ UNH-IOL DPDK Community Lab To manage your email subscriptions, visit: https://lab.dpdk.org/results/dashboard/preferences/subscriptions/