From mboxrd@z Thu Jan 1 00:00:00 1970 Return-Path: Received: from mails.dpdk.org (mails.dpdk.org [217.70.189.124]) by inbox.dpdk.org (Postfix) with ESMTP id BADDF489D1 for ; Sat, 25 Oct 2025 10:05:22 +0200 (CEST) Received: from mails.dpdk.org (localhost [127.0.0.1]) by mails.dpdk.org (Postfix) with ESMTP id B421340156; Sat, 25 Oct 2025 10:05:22 +0200 (CEST) Received: from mail-oa1-f99.google.com (mail-oa1-f99.google.com [209.85.160.99]) by mails.dpdk.org (Postfix) with ESMTP id 1EF2F40156 for ; Sat, 25 Oct 2025 10:05:21 +0200 (CEST) Received: by mail-oa1-f99.google.com with SMTP id 586e51a60fabf-3c94deb7c7cso1529466fac.2 for ; Sat, 25 Oct 2025 01:05:21 -0700 (PDT) DKIM-Signature: v=1; a=rsa-sha256; c=relaxed/relaxed; d=iol.unh.edu; s=unh-iol; t=1761379520; x=1761984320; darn=dpdk.org; h=references:in-reply-to:cc:to:from:subject:message-id:date:from:to :cc:subject:date:message-id:reply-to; bh=5ErHH2+G5bkGUmA6lQnYRgRDnDE6Yn6mkf4aiK3+lks=; b=dOSxKE79ke2Bbar+9LMmMtMfQVJpZMI6IhhqzpDeiLpJdq+QCNnTQUJMjpMxktewLH ri5QjI9TkUbON69ec+JoAZWnVN4RzAJWtQDd2Pkj4RsiLjE8qRGa6C9yQL33osb9Sqvy Mq4SiVOTHt/Bpnd62xy7rLMGVRJhj68bbX63E= X-Google-DKIM-Signature: v=1; a=rsa-sha256; c=relaxed/relaxed; d=1e100.net; s=20230601; t=1761379520; x=1761984320; h=references:in-reply-to:cc:to:from:subject:message-id:date :x-gm-message-state:from:to:cc:subject:date:message-id:reply-to; bh=5ErHH2+G5bkGUmA6lQnYRgRDnDE6Yn6mkf4aiK3+lks=; b=DAZGBJCYbwtv7ibQAEOA9jNkkLgfFJfrGPEBtdMSKjcsuz6jEc+USz6HWaNsy+I6rb ihr8mNFA6vJ4BRN9OYkuMMwgE5DdIrY0pX/V+2L7CbGMeoerDVVIYFO5FYLBr95xr+gW gfYpYr8Zos7re5QLDShdrAU9zym50lls1rVmPn1VUQRHnZNVldCXbmS7OneMJCDgiyoe 2CGrCwAQkFTisP27Jzi+eaqTxKJU+kx9qoqkYZVcEHUO3reiqgm5t4bbEXsa3X4RmJAM U2aF/INh5ou+aT+0zzPomJscxEaZn3Dp335E80VmYPzltt+aNZVwsnOtDRzpYNmf6eZd y1KA== X-Gm-Message-State: AOJu0YzMkW3AGF18VXzjTG8b6v9q5ExMiFMEMhO283RRTaoC8EGfEt/7 +9/+O0sPxmT4ULPa+aFyh0d/FmwM1judjzOCiIebFKluaB+DWWTwlRdcs4zJS6UYxxTRLEvFSPs ihF0L1hYpiQCT+YYRsqg2yByJvXuiLLlZAvkhDlF95pda X-Gm-Gg: ASbGncs+wV1OYTziFtr+le6ypS4UgvAqX6Bflnz91ez71nk/dIEummA88hmW8bmHv5U 53MSPG4dRGWREIAPBe64OY5iezz3CAxL1JTaQKtjoRDPwHq1E/SiZXMT8jjmOot/xu3neL9mpIs tCeVUYAG26XzOB4usT8iVG56aBkUm9n/CSaZLrBdsZrmytJF6B5yOujbcnY6BmeyRz/X3n4pBTc 3p0HZPOvdXAJfMmZPsVMGJIi96KOtmU8B76ZLlWPXwpbybc7iuERzczE+StgCHIF505lUSCYowK 5TzoXTSiE85Ps0TUaGBSm5Yu4z76ne3rp8+GoGriYWWtSHn5Rlvj/VP1Yb/yvhoRSDP6MgU1Wih Cnvovd0bsvzkpGkeeUe6ctGdlxksC/Eo= X-Google-Smtp-Source: AGHT+IFbWKbgSOknp1+rITaJB+b7BZFm7OqAcChlqGhG8UkNIQuVVJe5cHBLJx9ON4lQyx0/Vj7p+KzFMUd9 X-Received: by 2002:a05:6871:893:b0:322:2712:c89d with SMTP id 586e51a60fabf-3c98cf3a2d3mr12441964fac.11.1761379520240; Sat, 25 Oct 2025 01:05:20 -0700 (PDT) Received: from postal.iol.unh.edu (postal.iol.unh.edu. [132.177.123.84]) by smtp-relay.gmail.com with ESMTPS id 586e51a60fabf-3d1e3553124sm128545fac.15.2025.10.25.01.05.20 (version=TLS1_2 cipher=ECDHE-ECDSA-AES128-GCM-SHA256 bits=128/128); Sat, 25 Oct 2025 01:05:20 -0700 (PDT) X-Relaying-Domain: iol.unh.edu Date: Sat, 25 Oct 2025 01:05:20 -0700 (PDT) Message-ID: <68fc84c0.050a0220.2698d0.66beSMTPIN_ADDED_MISSING@mx.google.com> Received: from [172.21.0.2] (unknown [172.18.0.240]) by postal.iol.unh.edu (Postfix) with ESMTP id BF4E86051830; Sat, 25 Oct 2025 04:05:19 -0400 (EDT) Subject: |WARNING| pw158077 [PATCH] [v6,1/1] eal/riscv: optimize rte_memcpy w From: dpdklab@iol.unh.edu To: Test Report Cc: dpdk-test-reports@iol.unh.edu In-Reply-To: <20251024072734.1573077-2-chen.qiguo@zte.com.cn> References: <20251024072734.1573077-2-chen.qiguo@zte.com.cn> Content-Type: text/plain X-BeenThere: test-report@dpdk.org X-Mailman-Version: 2.1.29 Precedence: list List-Id: automatic DPDK test reports List-Unsubscribe: , List-Archive: List-Post: List-Help: List-Subscribe: , Errors-To: test-report-bounces@dpdk.org Test-Label: iol-compile-amd64-testing Test-Status: WARNING http://dpdk.org/patch/158077 _Testing issues_ Submitter: Qiguo Chen Date: Friday, October 24 2025 07:27:34 DPDK git baseline: Repo:dpdk Branch: master CommitID:6edcec237e31fcdb848cca6c151ee7a5bf057c28 158077 --> testing issues Upstream job id: Generic-DPDK-Compile-Meson#437466 Test environment and result as below: +-------------------------------+--------------------+-------------------------+-------------------+----------------------+-------------------+------------------+ | Environment | dpdk_meson_compile | dpdk_llvm_clang_compile | dpdk_msvc_compile | dpdk_mingw64_compile | dpdk_compile_spdk | dpdk_compile_ovs | +===============================+====================+=========================+===================+======================+===================+==================+ | Ubuntu 20.04 | PEND | SKIPPED | SKIPPED | SKIPPED | SKIPPED | SKIPPED | +-------------------------------+--------------------+-------------------------+-------------------+----------------------+-------------------+------------------+ | FreeBSD 14.2 | PASS | SKIPPED | SKIPPED | SKIPPED | SKIPPED | SKIPPED | +-------------------------------+--------------------+-------------------------+-------------------+----------------------+-------------------+------------------+ | CentOS Stream 9 | PEND | SKIPPED | SKIPPED | SKIPPED | PEND | SKIPPED | +-------------------------------+--------------------+-------------------------+-------------------+----------------------+-------------------+------------------+ | CentOS Stream 10 | PASS | SKIPPED | SKIPPED | SKIPPED | SKIPPED | SKIPPED | +-------------------------------+--------------------+-------------------------+-------------------+----------------------+-------------------+------------------+ | Debian GNU/Linux 12 | PASS | SKIPPED | SKIPPED | SKIPPED | WARN | SKIPPED | +-------------------------------+--------------------+-------------------------+-------------------+----------------------+-------------------+------------------+ | Fedora Linux 42 | PEND | SKIPPED | SKIPPED | SKIPPED | PEND | PEND | +-------------------------------+--------------------+-------------------------+-------------------+----------------------+-------------------+------------------+ | openSUSE Leap 15.6 | PASS | SKIPPED | SKIPPED | SKIPPED | SKIPPED | SKIPPED | +-------------------------------+--------------------+-------------------------+-------------------+----------------------+-------------------+------------------+ | Red Hat Enterprise Linux 8.10 | PASS | SKIPPED | SKIPPED | SKIPPED | SKIPPED | SKIPPED | +-------------------------------+--------------------+-------------------------+-------------------+----------------------+-------------------+------------------+ | Red Hat Enterprise Linux 9.5 | PASS | SKIPPED | SKIPPED | SKIPPED | SKIPPED | SKIPPED | +-------------------------------+--------------------+-------------------------+-------------------+----------------------+-------------------+------------------+ | Ubuntu 22.04 | PEND | SKIPPED | SKIPPED | SKIPPED | PEND | SKIPPED | +-------------------------------+--------------------+-------------------------+-------------------+----------------------+-------------------+------------------+ | Ubuntu 24.04 | PEND | SKIPPED | SKIPPED | SKIPPED | PEND | PEND | +-------------------------------+--------------------+-------------------------+-------------------+----------------------+-------------------+------------------+ | Alpine Linux 3.22.0 | PEND | SKIPPED | SKIPPED | SKIPPED | SKIPPED | SKIPPED | +-------------------------------+--------------------+-------------------------+-------------------+----------------------+-------------------+------------------+ | Windows Server 2022 | SKIPPED | PASS | PASS | PASS | SKIPPED | SKIPPED | +-------------------------------+--------------------+-------------------------+-------------------+----------------------+-------------------+------------------+ ==== 20 line log output for Debian GNU/Linux 12 (dpdk_compile_spdk): ==== --- Failed to get log output --- ==== End log output ==== Ubuntu 20.04 Kernel: 4.19 Compiler: gcc gcc (Ubuntu 9.4.0-1ubuntu1~20.04.2) 9.4.0 FreeBSD 14.2 Kernel: 14.2-RELEASE Compiler: clang 18.1.6 CentOS Stream 9 Kernel: 5.15 Compiler: gcc gcc (GCC) 11.5.0 20240719 (Red Hat 11.5.0-11) CentOS Stream 10 Kernel: 5.15 Compiler: gcc gcc (GCC) 14.2.1 20250110 (Red Hat 14.2.1-8) Debian GNU/Linux 12 Kernel: 5.15 Compiler: gcc gcc (Debian 12.2.0-14+deb12u1) 12.2.0 Fedora Linux 42 Kernel: 5.15 Compiler: clang gcc (GCC) 15.2.1 20250808 (Red Hat 15.2.1-1) openSUSE Leap 15.6 Kernel: 5.15 Compiler: gcc gcc (SUSE Linux) 7.5.0 Red Hat Enterprise Linux 8.10 Kernel: 5.15 Compiler: gcc gcc (GCC) 8.5.0 20210514 (Red Hat 8.5.0-22) Red Hat Enterprise Linux 9.5 Kernel: 5.15 Compiler: gcc gcc (GCC) 11.5.0 20240719 (Red Hat 11.5.0-2) Ubuntu 22.04 Kernel: 5.15 Compiler: gcc gcc (Ubuntu 11.4.0-1ubuntu1~22.04) 11.4.0 Ubuntu 24.04 Kernel: 5.15 Compiler: gcc gcc (Ubuntu 13.3.0-6ubuntu2~24.04) 13.3.0 Alpine Linux 3.22.0 Kernel: 5.15 Compiler: gcc gcc (Alpine 14.2.0) 14.2.0 Windows Server 2022 Kernel: 10.0.20348.2031 Compiler: clang 15.0.7, gcc 14.1.0 (MinGW), and MSVC VS 19.39.33521 To view detailed results, visit: https://lab.dpdk.org/results/dashboard/patchsets/34370/ UNH-IOL DPDK Community Lab To manage your email subscriptions, visit: https://lab.dpdk.org/results/dashboard/preferences/subscriptions/