From mboxrd@z Thu Jan 1 00:00:00 1970 Return-Path: Received: from mails.dpdk.org (mails.dpdk.org [217.70.189.124]) by inbox.dpdk.org (Postfix) with ESMTP id 390C5489D1 for ; Sat, 25 Oct 2025 10:34:59 +0200 (CEST) Received: from mails.dpdk.org (localhost [127.0.0.1]) by mails.dpdk.org (Postfix) with ESMTP id 1751F40156; Sat, 25 Oct 2025 10:34:59 +0200 (CEST) Received: from mail-il1-f227.google.com (mail-il1-f227.google.com [209.85.166.227]) by mails.dpdk.org (Postfix) with ESMTP id B16B140156 for ; Sat, 25 Oct 2025 10:34:57 +0200 (CEST) Received: by mail-il1-f227.google.com with SMTP id e9e14a558f8ab-430d4cf258fso11434655ab.0 for ; Sat, 25 Oct 2025 01:34:57 -0700 (PDT) DKIM-Signature: v=1; a=rsa-sha256; c=relaxed/relaxed; d=iol.unh.edu; s=unh-iol; t=1761381297; x=1761986097; darn=dpdk.org; h=references:in-reply-to:cc:to:from:subject:message-id:date:from:to :cc:subject:date:message-id:reply-to; bh=gMH6Ps2rP2uvK82L5/hAnHBsMcyD31fJxM3k3bcVSRw=; b=P9Y5M9OWGBXK7ASzskOHqXUkACzOeDWdqR7uauuXpqlVT9jth3xZkEmBDe84Db6TsU GY8uKDJkoW2xAO5RysnaelovdnhkKQOzoBSGyLZLAHzgSiD9n8fZidlMCai5oL2oESiA QiXM1MNgIPX+jkfZreOlW+6TSfDpFhLbeuLKo= X-Google-DKIM-Signature: v=1; a=rsa-sha256; c=relaxed/relaxed; d=1e100.net; s=20230601; t=1761381297; x=1761986097; h=references:in-reply-to:cc:to:from:subject:message-id:date :x-gm-message-state:from:to:cc:subject:date:message-id:reply-to; bh=gMH6Ps2rP2uvK82L5/hAnHBsMcyD31fJxM3k3bcVSRw=; b=w5dXG7z7WOM3c3KwBATZ9oZCaSEK5HyYUDaJAfKLgMHVDSx1OxS6SqCfs4x6n5oGtq x4DulkqLt3MCO16jB7Vpuq74pSCAihFEyTraGzf8iSo7Le1Q5tWGD1gkYGz0F2PH7pxG YkNZnLNw/6acR8hURHdCE7zHDdPOLnIy1cDc8D7KuPUJ2TzQTfRCVIDLNCazVGnEAyHn kyqaQuPzI0Xn27C9Df0o1lgXAXQ2aoWw6/qTGxJhiXVXkxMf3zPVzgnG5cpiDrKLEruG XZBnsCr0oPzQLMlF7H06leBHMb2TaOD+d8hqxY/mQ9+VAYgqMWMRDBjBu0TAFTK1IUVA E+yA== X-Gm-Message-State: AOJu0YwLz8P1XM0rOMKTJM2+05NNrKcCOA5o5nxctcTbcmUF5r/XsB7w sRgsS1Yoqf+xj5ndk6/XDhI+NTH3y6OkJ9noxtecgNIGQ2L7qQWTjEI+BxBecnxfWZZNc9E4r+c dI3wOSAfWiZuNPe52Yw07SffwGlW+GzBnsxVa+L3n8lc/iatFvC+tNc/g+sHu X-Gm-Gg: ASbGncs8kSfuCQixkdzLsW0IRQ3uABT+Fv0VZdYLgxtNzIrlaZZNXG353UiykzaV/rX BE3FSUf7FeJw5mN97doAimvIhkDOwUrikW7ctxA83g3xZLv04Cg4n6Brlmx9+nAbM7deZT05Hyq d83pzWIP/EcSm0wMtnPlPwnTDIxYRp2UPhGZldVVn24uJCfYVtjSImXGPQiWHdzhsyo+tGk5JsX ifDDedtYOvC7c79cr/3ky+Rl2Htv7TuEIFd4qAtObqpETTCUuTjWLxSQvABx10OpffjWP05l2FY kpHS23CEw71xTwB/Ap2yBr8AoSFF9jm1oQlStcHCjIEUmMMGpTqIZ8FALuG8p8bMm94VxSLSmU8 qbjU09GsK X-Google-Smtp-Source: AGHT+IETBjNjbZihswamnv9YG4D00yPFuSPBx7olvnMnnsQz5ZEsX14isrH5dufR2LjvTg25nMVW82NSWykB X-Received: by 2002:a05:6e02:2509:b0:430:c491:583b with SMTP id e9e14a558f8ab-431ebe05d1cmr71259565ab.14.1761381297019; Sat, 25 Oct 2025 01:34:57 -0700 (PDT) Received: from postal.iol.unh.edu (postal.iol.unh.edu. [2606:4100:3880:1234::84]) by smtp-relay.gmail.com with ESMTPS id e9e14a558f8ab-431f689a18fsm1286485ab.28.2025.10.25.01.34.56 (version=TLS1_2 cipher=ECDHE-ECDSA-AES128-GCM-SHA256 bits=128/128); Sat, 25 Oct 2025 01:34:57 -0700 (PDT) X-Relaying-Domain: iol.unh.edu Date: Sat, 25 Oct 2025 01:34:57 -0700 (PDT) Message-ID: <68fc8bb1.050a0220.28ef38.6572SMTPIN_ADDED_MISSING@mx.google.com> Received: from [172.21.0.2] (unknown [172.18.0.240]) by postal.iol.unh.edu (Postfix) with ESMTP id 9557C6051830; Sat, 25 Oct 2025 04:34:56 -0400 (EDT) Subject: |WARNING| pw158077 [PATCH] [v6,1/1] eal/riscv: optimize rte_memcpy w From: dpdklab@iol.unh.edu To: Test Report Cc: dpdk-test-reports@iol.unh.edu In-Reply-To: <20251024072734.1573077-2-chen.qiguo@zte.com.cn> References: <20251024072734.1573077-2-chen.qiguo@zte.com.cn> Content-Type: text/plain X-BeenThere: test-report@dpdk.org X-Mailman-Version: 2.1.29 Precedence: list List-Id: automatic DPDK test reports List-Unsubscribe: , List-Archive: List-Post: List-Help: List-Subscribe: , Errors-To: test-report-bounces@dpdk.org Test-Label: iol-compile-amd64-testing Test-Status: WARNING http://dpdk.org/patch/158077 _Testing issues_ Submitter: Qiguo Chen Date: Friday, October 24 2025 07:27:34 DPDK git baseline: Repo:dpdk Branch: master CommitID:6edcec237e31fcdb848cca6c151ee7a5bf057c28 158077 --> testing issues Upstream job id: Generic-DPDK-Compile-Meson#437475 Test environment and result as below: +-------------------------------+--------------------+-------------------------+-------------------+----------------------+-------------------+------------------+ | Environment | dpdk_meson_compile | dpdk_llvm_clang_compile | dpdk_msvc_compile | dpdk_mingw64_compile | dpdk_compile_spdk | dpdk_compile_ovs | +===============================+====================+=========================+===================+======================+===================+==================+ | Ubuntu 20.04 | PASS | SKIPPED | SKIPPED | SKIPPED | SKIPPED | SKIPPED | +-------------------------------+--------------------+-------------------------+-------------------+----------------------+-------------------+------------------+ | FreeBSD 14.2 | PASS | SKIPPED | SKIPPED | SKIPPED | SKIPPED | SKIPPED | +-------------------------------+--------------------+-------------------------+-------------------+----------------------+-------------------+------------------+ | CentOS Stream 9 | PASS | SKIPPED | SKIPPED | SKIPPED | WARN | SKIPPED | +-------------------------------+--------------------+-------------------------+-------------------+----------------------+-------------------+------------------+ | CentOS Stream 10 | PASS | SKIPPED | SKIPPED | SKIPPED | SKIPPED | SKIPPED | +-------------------------------+--------------------+-------------------------+-------------------+----------------------+-------------------+------------------+ | Debian GNU/Linux 12 | PASS | SKIPPED | SKIPPED | SKIPPED | WARN | SKIPPED | +-------------------------------+--------------------+-------------------------+-------------------+----------------------+-------------------+------------------+ | Fedora Linux 42 | PASS | SKIPPED | SKIPPED | SKIPPED | WARN | PASS | +-------------------------------+--------------------+-------------------------+-------------------+----------------------+-------------------+------------------+ | openSUSE Leap 15.6 | PASS | SKIPPED | SKIPPED | SKIPPED | SKIPPED | SKIPPED | +-------------------------------+--------------------+-------------------------+-------------------+----------------------+-------------------+------------------+ | Red Hat Enterprise Linux 8.10 | PASS | SKIPPED | SKIPPED | SKIPPED | SKIPPED | SKIPPED | +-------------------------------+--------------------+-------------------------+-------------------+----------------------+-------------------+------------------+ | Red Hat Enterprise Linux 9.5 | PASS | SKIPPED | SKIPPED | SKIPPED | SKIPPED | SKIPPED | +-------------------------------+--------------------+-------------------------+-------------------+----------------------+-------------------+------------------+ | Ubuntu 22.04 | PASS | SKIPPED | SKIPPED | SKIPPED | WARN | SKIPPED | +-------------------------------+--------------------+-------------------------+-------------------+----------------------+-------------------+------------------+ | Ubuntu 24.04 | PASS | SKIPPED | SKIPPED | SKIPPED | WARN | PASS | +-------------------------------+--------------------+-------------------------+-------------------+----------------------+-------------------+------------------+ | Alpine Linux 3.22.0 | PASS | SKIPPED | SKIPPED | SKIPPED | SKIPPED | SKIPPED | +-------------------------------+--------------------+-------------------------+-------------------+----------------------+-------------------+------------------+ | Windows Server 2022 | SKIPPED | PASS | PASS | PASS | SKIPPED | SKIPPED | +-------------------------------+--------------------+-------------------------+-------------------+----------------------+-------------------+------------------+ ==== 20 line log output for Ubuntu 24.04 (dpdk_compile_spdk): ==== --- Failed to get log output --- ==== End log output ==== Ubuntu 20.04 Kernel: 4.19 Compiler: gcc gcc (Ubuntu 9.4.0-1ubuntu1~20.04.2) 9.4.0 FreeBSD 14.2 Kernel: 14.2-RELEASE Compiler: clang 18.1.6 CentOS Stream 9 Kernel: 5.15 Compiler: gcc gcc (GCC) 11.5.0 20240719 (Red Hat 11.5.0-11) CentOS Stream 10 Kernel: 5.15 Compiler: gcc gcc (GCC) 14.2.1 20250110 (Red Hat 14.2.1-8) Debian GNU/Linux 12 Kernel: 5.15 Compiler: gcc gcc (Debian 12.2.0-14+deb12u1) 12.2.0 Fedora Linux 42 Kernel: 5.15 Compiler: clang gcc (GCC) 15.2.1 20250808 (Red Hat 15.2.1-1) openSUSE Leap 15.6 Kernel: 5.15 Compiler: gcc gcc (SUSE Linux) 7.5.0 Red Hat Enterprise Linux 8.10 Kernel: 5.15 Compiler: gcc gcc (GCC) 8.5.0 20210514 (Red Hat 8.5.0-22) Red Hat Enterprise Linux 9.5 Kernel: 5.15 Compiler: gcc gcc (GCC) 11.5.0 20240719 (Red Hat 11.5.0-2) Ubuntu 22.04 Kernel: 5.15 Compiler: gcc gcc (Ubuntu 11.4.0-1ubuntu1~22.04) 11.4.0 Ubuntu 24.04 Kernel: 5.15 Compiler: gcc gcc (Ubuntu 13.3.0-6ubuntu2~24.04) 13.3.0 Alpine Linux 3.22.0 Kernel: 5.15 Compiler: gcc gcc (Alpine 14.2.0) 14.2.0 Windows Server 2022 Kernel: 10.0.20348.2031 Compiler: clang 15.0.7, gcc 14.1.0 (MinGW), and MSVC VS 19.39.33521 To view detailed results, visit: https://lab.dpdk.org/results/dashboard/patchsets/34370/ UNH-IOL DPDK Community Lab To manage your email subscriptions, visit: https://lab.dpdk.org/results/dashboard/preferences/subscriptions/