From mboxrd@z Thu Jan 1 00:00:00 1970 Return-Path: Received: from mails.dpdk.org (mails.dpdk.org [217.70.189.124]) by inbox.dpdk.org (Postfix) with ESMTP id 20D94489D1 for ; Sat, 25 Oct 2025 11:47:02 +0200 (CEST) Received: from mails.dpdk.org (localhost [127.0.0.1]) by mails.dpdk.org (Postfix) with ESMTP id 1C0E540156; Sat, 25 Oct 2025 11:47:02 +0200 (CEST) Received: from mail-qt1-f226.google.com (mail-qt1-f226.google.com [209.85.160.226]) by mails.dpdk.org (Postfix) with ESMTP id D876840156 for ; Sat, 25 Oct 2025 11:47:00 +0200 (CEST) Received: by mail-qt1-f226.google.com with SMTP id d75a77b69052e-4e8b334bff3so28143151cf.2 for ; Sat, 25 Oct 2025 02:47:00 -0700 (PDT) DKIM-Signature: v=1; a=rsa-sha256; c=relaxed/relaxed; d=iol.unh.edu; s=unh-iol; t=1761385620; x=1761990420; darn=dpdk.org; h=cc:to:from:subject:message-id:date:from:to:cc:subject:date :message-id:reply-to; bh=URWCbDYjWK/SxWrkjszwYehXQzgc1Vw2swnUSOUgUrs=; b=bHPdbWYsKAmJv5F4aIsMQrVfKh5uRbqvwca+/zuuAJsq0Iyd2TwkD1yQsEQaCwj6Q0 /wtERV3p2rCuEmV42ksrOqNDT3S/DSTVpa1q9mI21l52J2sAFHCOdtPaxwlhZNUM80WG 7DObi1/IpPn5zpY81S+MEVEfyWsIDfwfSHfsQ= X-Google-DKIM-Signature: v=1; a=rsa-sha256; c=relaxed/relaxed; d=1e100.net; s=20230601; t=1761385620; x=1761990420; h=cc:to:from:subject:message-id:date:x-gm-message-state:from:to:cc :subject:date:message-id:reply-to; bh=URWCbDYjWK/SxWrkjszwYehXQzgc1Vw2swnUSOUgUrs=; b=Cl8cwkCcoHJT/SLN4vujPXSVd+KFZG1mBr5Ue/A3cUrRpFZ99W9PuWgzrvDrVBSBFW XWPheGy0E5c/2CPzPQLELFYryjpjgKibvAb6XHFxyq5qaFIc35MwE7TACKtVygm5HRxH qHmB7HAZlhAEgqEkaaJGeMKuZx0LXcf4azJiEzNybBBLDyhlfmuxV7g7/JDB13pu0TH3 mW3Tqq7o57NBEDudNn8fhu3qiyaMWyJA/fM2Rghm8fWv8buBeruPWPVO939QBmxxy9YR 8d1OJGCdNlDeNNNCUkDKi6C7Gk6I6tHI3SIqcTefS/rL0s4LQzJHfk+FgrC7PC0u4F2n mb5g== X-Gm-Message-State: AOJu0YzLXNqV16RXfCfs2XjXkgS7WZYOR7ER9/PozGWHk8P6Kf/DyDOU bQpfjh6CGfww3r+96OLnoK/mOs1sDLFEW6PBIQiGhQ0ku51kHec4mKKz52qlaTM/GkHDwAti1Pq ccT3ivmT/K4djmd5wtLKhtKD9TB1NcSXWychj0t4X5RGp6mSfEOZf X-Gm-Gg: ASbGnctp/D1yE+291BWDAMsc4G4rfhcN9wg+mmE+EaH2gjdpVQaw+c6IeMxfQfNPqz/ i36I60UN4igQabKAWeJil8xwBAOEG1nsjMu+ZMM2zraQOTv8xi7vRKAcrlihfp2/i5pTjzT53yE IhCShMi8DzWaHV0EQ2q6TMWJe5U/0VjM8C8gEfVBls3JG/uJV56wjyXqs96gOZgcgwjfhcvx9Aw Wll4tesMQhx+Rfh4hifWcPxgZkJodWiW9KQzezFGlXb7g5+HrRHsWt5rH6LqI5V0BWoxzwbJg8a j+NTIftxOKvmB6pLqxvtH8Rbof+rfjorTRRP7hSy1fQBhbuBpyw/XdW+T42gEU0uvt7Y3gStFQb 6tyROJiiK X-Google-Smtp-Source: AGHT+IFD98L3qgYR0QAi98K+8e6nHnDur9KatpUyhgMiFEqrU1szuJrckOp/Rq3VQxm1x0b+VkYYf/VrcqG8 X-Received: by 2002:a05:622a:901a:b0:4eb:a017:9218 with SMTP id d75a77b69052e-4eba01797b3mr43498051cf.39.1761385620148; Sat, 25 Oct 2025 02:47:00 -0700 (PDT) Received: from postal.iol.unh.edu (postal.iol.unh.edu. [2606:4100:3880:1234::84]) by smtp-relay.gmail.com with ESMTPS id 6a1803df08f44-87fc4984e7esm1718776d6.24.2025.10.25.02.47.00 (version=TLS1_2 cipher=ECDHE-ECDSA-AES128-GCM-SHA256 bits=128/128); Sat, 25 Oct 2025 02:47:00 -0700 (PDT) X-Relaying-Domain: iol.unh.edu Date: Sat, 25 Oct 2025 02:47:00 -0700 (PDT) Message-ID: <68fc9c94.050a0220.3164a3.87b8SMTPIN_ADDED_MISSING@mx.google.com> Received: from [172.21.0.5] (unknown [172.18.0.240]) by postal.iol.unh.edu (Postfix) with ESMTP id D02B160003F4; Sat, 25 Oct 2025 05:46:59 -0400 (EDT) Subject: |SUCCESS| [GIT MASTER] b287e404643aeab5bb5db084c142789df187844e From: dpdklab@iol.unh.edu To: Test Report Cc: dpdk-test-reports@iol.unh.edu, Xueming Li , Christian Ehrhardt , Kevin Traynor , Luca Boccassi Content-Type: text/plain X-BeenThere: test-report@dpdk.org X-Mailman-Version: 2.1.29 Precedence: list List-Id: automatic DPDK test reports List-Unsubscribe: , List-Archive: List-Post: List-Help: List-Subscribe: , Errors-To: test-report-bounces@dpdk.org _Testing PASS_ Branch: tags/v24.11 b287e404643aeab5bb5db084c142789df187844e --> testing pass Upstream job id: Generic-DPDK-Compile-Meson#437385 Test environment and result as below: +------------------------------+--------------------+ | Environment | dpdk_meson_compile | +==============================+====================+ | Red Hat Enterprise Linux 9.5 | PASS | +------------------------------+--------------------+ | Ubuntu 20.04 | PASS | +------------------------------+--------------------+ | Debian GNU/Linux 12 | PASS | +------------------------------+--------------------+ | Fedora Linux 42 | PASS | +------------------------------+--------------------+ | Ubuntu 22.04 | PASS | +------------------------------+--------------------+ | Ubuntu 24.04 | PASS | +------------------------------+--------------------+ | CentOS Stream 9 | PASS | +------------------------------+--------------------+ | CentOS Stream 10 | PASS | +------------------------------+--------------------+ Red Hat Enterprise Linux 9.5 Kernel: 5.4 Compiler: gcc gcc (GCC) 11.5.0 20240719 (Red Hat 11.5.0-2) Ubuntu 20.04 Kernel: 5.15 Compiler: aarch64-linux-gnu-gcc gcc (Ubuntu 9.4.0-1ubuntu1~20.04.2) 9.4.0 Debian GNU/Linux 12 Kernel: 5.4 Compiler: gcc gcc (Debian 12.2.0-14+deb12u1) 12.2.0 Fedora Linux 42 Kernel: 5.4 Compiler: gcc gcc (GCC) 15.2.1 20250808 (Red Hat 15.2.1-1) Ubuntu 22.04 Kernel: 5.4 Compiler: gcc gcc (Ubuntu 11.4.0-1ubuntu1~22.04) 11.4.0 Ubuntu 24.04 Kernel: 5.4 Compiler: gcc gcc (Ubuntu 13.3.0-6ubuntu2~24.04) 13.3.0 CentOS Stream 9 Kernel: 5.4 Compiler: gcc gcc (GCC) 11.5.0 20240719 (Red Hat 11.5.0-11) CentOS Stream 10 Kernel: 5.4 Compiler: gcc gcc (GCC) 14.2.1 20250110 (Red Hat 14.2.1-8) To view detailed results, visit: https://lab.dpdk.org/results/dashboard/tarballs/35326/ UNH-IOL DPDK Community Lab To manage your email subscriptions, visit: https://lab.dpdk.org/results/dashboard/preferences/subscriptions/