From mboxrd@z Thu Jan 1 00:00:00 1970 Return-Path: Received: from mails.dpdk.org (mails.dpdk.org [217.70.189.124]) by inbox.dpdk.org (Postfix) with ESMTP id 2EEB5489D1 for ; Sat, 25 Oct 2025 11:47:17 +0200 (CEST) Received: from mails.dpdk.org (localhost [127.0.0.1]) by mails.dpdk.org (Postfix) with ESMTP id 2916540156; Sat, 25 Oct 2025 11:47:17 +0200 (CEST) Received: from mail-oa1-f97.google.com (mail-oa1-f97.google.com [209.85.160.97]) by mails.dpdk.org (Postfix) with ESMTP id B708840156 for ; Sat, 25 Oct 2025 11:47:11 +0200 (CEST) Received: by mail-oa1-f97.google.com with SMTP id 586e51a60fabf-3c99a6a2afeso1718835fac.1 for ; Sat, 25 Oct 2025 02:47:11 -0700 (PDT) DKIM-Signature: v=1; a=rsa-sha256; c=relaxed/relaxed; d=iol.unh.edu; s=unh-iol; t=1761385631; x=1761990431; darn=dpdk.org; h=cc:to:from:subject:message-id:date:from:to:cc:subject:date :message-id:reply-to; bh=N33n9uuBiUrIZhmDq1394LlkV0qu8Wxv8yTLWIv/dQI=; b=eU3AO90YDdrNyvV8sa9bR72P+j4/83IegHtlMMkv3cRunx47iBcr2Q/YojEAhGMWqA SgaAVOorsYAkxDHOJyOtXHoBOTG2PUuwEDpqv3oP2db7RRSwWJ4ouAIRO3VtzO1lI/7m Z62DovbgarLvyeUsNruuaNbD7/RRYm+ZsIMcQ= X-Google-DKIM-Signature: v=1; a=rsa-sha256; c=relaxed/relaxed; d=1e100.net; s=20230601; t=1761385631; x=1761990431; h=cc:to:from:subject:message-id:date:x-gm-message-state:from:to:cc :subject:date:message-id:reply-to; bh=N33n9uuBiUrIZhmDq1394LlkV0qu8Wxv8yTLWIv/dQI=; b=fJSXTxkSau5i0x0oxnu6GzZA+rZLfTW5VJkZCFiyOi6UHadpjOYszKDOxDrABdAoMC pMQcWCnKJUoEM68kivj9A+Knl+4EGmXkIG+j4cTOguny/xxVQbzapHj/joKtGq+PreIt q6tS3UmGqiQvObEIn8nF1ygsHhh9FOILImCaz2MxUoBQ0Waz+9kUix5jk/ouTNn71NXU SabSY6w9IALY/VF9+GpSOhDz07YU9YYx+WwuEoNZwcF4osmQSVSkbwDF3Yzzo48ZkLsA alg2VTVy/BfzfZdtCYGSybPltkwaha3vKbSDPI0CjdiA56L7T69nx5ohIwRz6Nw3a40k FVMg== X-Gm-Message-State: AOJu0YzT4Y2FapU4B6Jh62jPOJveEKItJ6JPWKyegV4ZVMqBOX8F0wJ3 T7Mq0Fn0j2lcS8Ew1T38E3YJHhI//JY93+f1An6tUO25W5uwHShUp5372RVbOE7LjsW92f+dAaf qYAt/LDoqRIJnLJDoWiwDuDKgAid0H2Av075L X-Gm-Gg: ASbGncu8WWEHmr30u6Ai4VxQ9ukAHv8phRELALcHBO4tgbhvPIcOGsP5iJBhnnxiJfZ NlKqb9wXpFxGOz5yqnwlIMd6eVX2gT+v33xQN7lgacXgG1WHIFSC8ZgJoY4yaoENR51PTWlq9w6 TeGV8lAqk2BJ3TzlEvrB4YWnemGaDKtIxX8JKNbQypWdhhvquJIIjmwuhS76b7woU9M3Q2iA04r ZFInl8CAaQE7L6Xtdv/EUOoK5ZNzeoqNCY3PJGYgiNa6gCp4+NseUu5NhdQ9qhzPIPihV0WnJxw 4TfXK0SKlkBP6EWmRe9TmHpvgI2gjnCoD4duyGQYRstqvex64WNfXj6HXQT4c9nH89dqUCkolBl 2ZcJvoWFySI2YsJpa4fPektExjUO907M= X-Google-Smtp-Source: AGHT+IHs/U8tDQes6X52uuUkxGVAIUvkCYwgqgp7/DnN9RbH5uHRRzbevP0NEPHw78hgCw6Hh3BdhrIMu5iF X-Received: by 2002:a05:6871:a90f:b0:319:be1e:9dce with SMTP id 586e51a60fabf-3c98cf2731cmr11881091fac.5.1761385630919; Sat, 25 Oct 2025 02:47:10 -0700 (PDT) Received: from postal.iol.unh.edu (postal.iol.unh.edu. [132.177.123.84]) by smtp-relay.gmail.com with ESMTPS id 586e51a60fabf-3d1e22e86a2sm147944fac.0.2025.10.25.02.47.10 (version=TLS1_2 cipher=ECDHE-ECDSA-AES128-GCM-SHA256 bits=128/128); Sat, 25 Oct 2025 02:47:10 -0700 (PDT) X-Relaying-Domain: iol.unh.edu Date: Sat, 25 Oct 2025 02:47:10 -0700 (PDT) Message-ID: <68fc9c9e.050a0220.28cda6.74b6SMTPIN_ADDED_MISSING@mx.google.com> Received: from [172.21.0.4] (unknown [172.18.0.240]) by postal.iol.unh.edu (Postfix) with ESMTP id 726DD6051830; Sat, 25 Oct 2025 05:47:10 -0400 (EDT) Subject: |SUCCESS| [GIT MASTER] b287e404643aeab5bb5db084c142789df187844e From: dpdklab@iol.unh.edu To: Test Report Cc: dpdk-test-reports@iol.unh.edu, Xueming Li , Christian Ehrhardt , Kevin Traynor , Luca Boccassi Content-Type: text/plain X-BeenThere: test-report@dpdk.org X-Mailman-Version: 2.1.29 Precedence: list List-Id: automatic DPDK test reports List-Unsubscribe: , List-Archive: List-Post: List-Help: List-Subscribe: , Errors-To: test-report-bounces@dpdk.org _Testing PASS_ Branch: tags/v24.11 b287e404643aeab5bb5db084c142789df187844e --> testing pass Upstream job id: Generic-DPDK-Compile-Meson#437389 Test environment and result as below: +------------------------------+--------------------+ | Environment | dpdk_meson_compile | +==============================+====================+ | Red Hat Enterprise Linux 9.5 | PASS | +------------------------------+--------------------+ | Ubuntu 20.04 | PASS | +------------------------------+--------------------+ | Debian GNU/Linux 12 | PASS | +------------------------------+--------------------+ | Fedora Linux 42 | PASS | +------------------------------+--------------------+ | Ubuntu 22.04 | PASS | +------------------------------+--------------------+ | Ubuntu 24.04 | PASS | +------------------------------+--------------------+ | CentOS Stream 9 | PASS | +------------------------------+--------------------+ | CentOS Stream 10 | PASS | +------------------------------+--------------------+ Red Hat Enterprise Linux 9.5 Kernel: 5.4 Compiler: gcc gcc (GCC) 11.5.0 20240719 (Red Hat 11.5.0-2) Ubuntu 20.04 Kernel: 5.15 Compiler: aarch64-linux-gnu-gcc gcc (Ubuntu 9.4.0-1ubuntu1~20.04.2) 9.4.0 Debian GNU/Linux 12 Kernel: 5.4 Compiler: gcc gcc (Debian 12.2.0-14+deb12u1) 12.2.0 Fedora Linux 42 Kernel: 5.4 Compiler: gcc gcc (GCC) 15.2.1 20250808 (Red Hat 15.2.1-1) Ubuntu 22.04 Kernel: 5.4 Compiler: gcc gcc (Ubuntu 11.4.0-1ubuntu1~22.04) 11.4.0 Ubuntu 24.04 Kernel: 5.4 Compiler: gcc gcc (Ubuntu 13.3.0-6ubuntu2~24.04) 13.3.0 CentOS Stream 9 Kernel: 5.4 Compiler: gcc gcc (GCC) 11.5.0 20240719 (Red Hat 11.5.0-11) CentOS Stream 10 Kernel: 5.4 Compiler: gcc gcc (GCC) 14.2.1 20250110 (Red Hat 14.2.1-8) To view detailed results, visit: https://lab.dpdk.org/results/dashboard/tarballs/35326/ UNH-IOL DPDK Community Lab To manage your email subscriptions, visit: https://lab.dpdk.org/results/dashboard/preferences/subscriptions/