From mboxrd@z Thu Jan 1 00:00:00 1970 Return-Path: Received: from mails.dpdk.org (mails.dpdk.org [217.70.189.124]) by inbox.dpdk.org (Postfix) with ESMTP id E95E2489D2 for ; Sat, 25 Oct 2025 12:31:08 +0200 (CEST) Received: from mails.dpdk.org (localhost [127.0.0.1]) by mails.dpdk.org (Postfix) with ESMTP id E596740156; Sat, 25 Oct 2025 12:31:08 +0200 (CEST) Received: from mail-io1-f100.google.com (mail-io1-f100.google.com [209.85.166.100]) by mails.dpdk.org (Postfix) with ESMTP id F101340156 for ; Sat, 25 Oct 2025 12:31:04 +0200 (CEST) Received: by mail-io1-f100.google.com with SMTP id ca18e2360f4ac-9444425cedcso36602939f.1 for ; Sat, 25 Oct 2025 03:31:04 -0700 (PDT) DKIM-Signature: v=1; a=rsa-sha256; c=relaxed/relaxed; d=iol.unh.edu; s=unh-iol; t=1761388264; x=1761993064; darn=dpdk.org; h=references:in-reply-to:cc:to:from:subject:message-id:date:from:to :cc:subject:date:message-id:reply-to; bh=gFHxlKh+WD7GTvc6+8oo8KLuNiZ5Xi87owouwBQ/NhA=; b=f6xvy+1JH2UI9Et1JJqWWQ/biOrQN2ZdD8NKFARKmZ8q4XjIW8lmNcTFEOiedLTrtX saOgiKCX5CuIAURMvD/Ck4lAcAA/e2bTiYhvjfiGmMMtFg6ITzlkrIqsWjtQEXKTPE4S U4yqVSZE/ahw1VvD863BwqUZ4Gk0q4anFI4iE= X-Google-DKIM-Signature: v=1; a=rsa-sha256; c=relaxed/relaxed; d=1e100.net; s=20230601; t=1761388264; x=1761993064; h=references:in-reply-to:cc:to:from:subject:message-id:date :x-gm-message-state:from:to:cc:subject:date:message-id:reply-to; bh=gFHxlKh+WD7GTvc6+8oo8KLuNiZ5Xi87owouwBQ/NhA=; b=VQnvQPWil0b6+SKO48mF5JTUPrd8c2DBxFMyK48hYLQVf4nwRzvC8Z/ygE3y8DoyIP oObuNoYEUa/vQZ8riGJSiNwk/hpBoQpzrIguHMObSNd8rgaHtqmj1zJCAcZMDUWLMnif IWLfcc0AbAjZURfWL5X/j8P/D4gngPmexIooWNSEj1F8wCF6Llvm+KjgkdnrbGXatRAK YNl3a8nLE84/sSa32xcG/J6zcEf+8OOMyVXz5JLWzp+BzHjDoDEtL76JDVrYVNltHY0p ED1fAbnOLysC6NZxtGYCEE1niTLrnlhEwouz4aLGYZOuO+P9dppoBP5GkicZIh8IUSdi Rzng== X-Gm-Message-State: AOJu0YyUU9/E4shBbwEbJ+qf10NgvKePZKO34yGGiudAlrR7L8dfPPCS mnQC7f2F5p4clJEuqBd/VbnUNPF6oBn+on7jDEVapDVEDyM1zlNHT3SdfoZUUTPpXLq55D6aPm4 QDCC4TCHYjyhOAqZapegW32+qOC3ohPBnG+RCeRLvdVAj X-Gm-Gg: ASbGnctlSCsVJFHnUzfwB5zBrN72fXF7DiS9POrzlmS2v5HEs069gEVeYbknqXwwCvc qwGegnEBAqcZjZNNJdQAljvLC2tlMzi4DO9HrNZdxmqJTPxt1J0w5cwqn6szmOzMaU1YdXWV4gt HrV1YEjgV3soSemAyQ2ROiU8MebeLdxKDB4I53WFx1miSE8FCzZxMbTOfnEezi7AY1Zm+fF0qUo P1swFTyHG4a3dRalXVAij1rU5v+OHpbDLGimLv+uS2uiWwtRNA77ocJC8uUmJJW1n1IzAO9WKRU cRyGarMvwordSblOVAcH12qAE5iiWqPl0sLRVqScwuEcPR7aZzV/noUputpbYxm0cLmc3kSjLPK O78ULwl1rtf2rw83/2ObJlDhR4CQs2p4= X-Google-Smtp-Source: AGHT+IGqT68D9oTVK4kkCNLqN0crIMXde0s1rqGj9fCEJRkU97Y6Of3Q+DrpsrDXt29q3kBAhkdn6KrHRMKq X-Received: by 2002:a05:6e02:1c0a:b0:431:b1fe:147f with SMTP id e9e14a558f8ab-431ebf5809dmr76171565ab.18.1761388264293; Sat, 25 Oct 2025 03:31:04 -0700 (PDT) Received: from postal.iol.unh.edu (postal.iol.unh.edu. [132.177.123.84]) by smtp-relay.gmail.com with ESMTPS id 8926c6da1cb9f-5aea9d3e7dcsm153724173.28.2025.10.25.03.31.04 (version=TLS1_2 cipher=ECDHE-ECDSA-AES128-GCM-SHA256 bits=128/128); Sat, 25 Oct 2025 03:31:04 -0700 (PDT) X-Relaying-Domain: iol.unh.edu Date: Sat, 25 Oct 2025 03:31:04 -0700 (PDT) Message-ID: <68fca6e8.050a0220.375806.7972SMTPIN_ADDED_MISSING@mx.google.com> Received: from [172.21.0.2] (unknown [172.18.0.240]) by postal.iol.unh.edu (Postfix) with ESMTP id DB24D6051830; Sat, 25 Oct 2025 06:31:03 -0400 (EDT) Subject: |WARNING| pw158078 [PATCH] [v1,1/1] bus/pci: fix resource leak in se From: dpdklab@iol.unh.edu To: Test Report Cc: dpdk-test-reports@iol.unh.edu In-Reply-To: <54e4e95f31382c1bb3babee07c107f1e39dc9093.1761297496.git.anatoly.burakov@intel.com> References: <54e4e95f31382c1bb3babee07c107f1e39dc9093.1761297496.git.anatoly.burakov@intel.com> Content-Type: text/plain X-BeenThere: test-report@dpdk.org X-Mailman-Version: 2.1.29 Precedence: list List-Id: automatic DPDK test reports List-Unsubscribe: , List-Archive: List-Post: List-Help: List-Subscribe: , Errors-To: test-report-bounces@dpdk.org Test-Label: iol-compile-amd64-testing Test-Status: WARNING http://dpdk.org/patch/158078 _Testing issues_ Submitter: Anatoly Burakov Date: Friday, October 24 2025 09:18:24 DPDK git baseline: Repo:dpdk Branch: master CommitID:6edcec237e31fcdb848cca6c151ee7a5bf057c28 158078 --> testing issues Upstream job id: Generic-DPDK-Compile-Meson#437495 Test environment and result as below: +-------------------------------+--------------------+-------------------------+-------------------+----------------------+-------------------+------------------+ | Environment | dpdk_meson_compile | dpdk_llvm_clang_compile | dpdk_msvc_compile | dpdk_mingw64_compile | dpdk_compile_spdk | dpdk_compile_ovs | +===============================+====================+=========================+===================+======================+===================+==================+ | Ubuntu 20.04 | PASS | SKIPPED | SKIPPED | SKIPPED | SKIPPED | SKIPPED | +-------------------------------+--------------------+-------------------------+-------------------+----------------------+-------------------+------------------+ | FreeBSD 14.2 | PASS | SKIPPED | SKIPPED | SKIPPED | SKIPPED | SKIPPED | +-------------------------------+--------------------+-------------------------+-------------------+----------------------+-------------------+------------------+ | CentOS Stream 9 | PASS | SKIPPED | SKIPPED | SKIPPED | WARN | SKIPPED | +-------------------------------+--------------------+-------------------------+-------------------+----------------------+-------------------+------------------+ | CentOS Stream 10 | PASS | SKIPPED | SKIPPED | SKIPPED | SKIPPED | SKIPPED | +-------------------------------+--------------------+-------------------------+-------------------+----------------------+-------------------+------------------+ | Debian GNU/Linux 12 | PASS | SKIPPED | SKIPPED | SKIPPED | WARN | SKIPPED | +-------------------------------+--------------------+-------------------------+-------------------+----------------------+-------------------+------------------+ | Fedora Linux 42 | PASS | SKIPPED | SKIPPED | SKIPPED | WARN | PASS | +-------------------------------+--------------------+-------------------------+-------------------+----------------------+-------------------+------------------+ | openSUSE Leap 15.6 | PASS | SKIPPED | SKIPPED | SKIPPED | SKIPPED | SKIPPED | +-------------------------------+--------------------+-------------------------+-------------------+----------------------+-------------------+------------------+ | Red Hat Enterprise Linux 8.10 | PASS | SKIPPED | SKIPPED | SKIPPED | SKIPPED | SKIPPED | +-------------------------------+--------------------+-------------------------+-------------------+----------------------+-------------------+------------------+ | Red Hat Enterprise Linux 9.5 | PASS | SKIPPED | SKIPPED | SKIPPED | SKIPPED | SKIPPED | +-------------------------------+--------------------+-------------------------+-------------------+----------------------+-------------------+------------------+ | Ubuntu 22.04 | PASS | SKIPPED | SKIPPED | SKIPPED | WARN | SKIPPED | +-------------------------------+--------------------+-------------------------+-------------------+----------------------+-------------------+------------------+ | Ubuntu 24.04 | PASS | SKIPPED | SKIPPED | SKIPPED | WARN | PASS | +-------------------------------+--------------------+-------------------------+-------------------+----------------------+-------------------+------------------+ | Alpine Linux 3.22.0 | PASS | SKIPPED | SKIPPED | SKIPPED | SKIPPED | SKIPPED | +-------------------------------+--------------------+-------------------------+-------------------+----------------------+-------------------+------------------+ | Windows Server 2022 | SKIPPED | PASS | PASS | PASS | SKIPPED | SKIPPED | +-------------------------------+--------------------+-------------------------+-------------------+----------------------+-------------------+------------------+ ==== 20 line log output for Ubuntu 24.04 (dpdk_compile_spdk): ==== --- Failed to get log output --- ==== End log output ==== Ubuntu 20.04 Kernel: 4.19 Compiler: gcc gcc (Ubuntu 9.4.0-1ubuntu1~20.04.2) 9.4.0 FreeBSD 14.2 Kernel: 14.2-RELEASE Compiler: clang 18.1.6 CentOS Stream 9 Kernel: 5.15 Compiler: gcc gcc (GCC) 11.5.0 20240719 (Red Hat 11.5.0-11) CentOS Stream 10 Kernel: 5.15 Compiler: gcc gcc (GCC) 14.2.1 20250110 (Red Hat 14.2.1-8) Debian GNU/Linux 12 Kernel: 5.15 Compiler: gcc gcc (Debian 12.2.0-14+deb12u1) 12.2.0 Fedora Linux 42 Kernel: 5.15 Compiler: clang gcc (GCC) 15.2.1 20250808 (Red Hat 15.2.1-1) openSUSE Leap 15.6 Kernel: 5.15 Compiler: gcc gcc (SUSE Linux) 7.5.0 Red Hat Enterprise Linux 8.10 Kernel: 5.15 Compiler: gcc gcc (GCC) 8.5.0 20210514 (Red Hat 8.5.0-22) Red Hat Enterprise Linux 9.5 Kernel: 5.15 Compiler: gcc gcc (GCC) 11.5.0 20240719 (Red Hat 11.5.0-2) Ubuntu 22.04 Kernel: 5.15 Compiler: gcc gcc (Ubuntu 11.4.0-1ubuntu1~22.04) 11.4.0 Ubuntu 24.04 Kernel: 5.15 Compiler: gcc gcc (Ubuntu 13.3.0-6ubuntu2~24.04) 13.3.0 Alpine Linux 3.22.0 Kernel: 5.15 Compiler: gcc gcc (Alpine 14.2.0) 14.2.0 Windows Server 2022 Kernel: 10.0.20348.2031 Compiler: clang 15.0.7, gcc 14.1.0 (MinGW), and MSVC VS 19.39.33521 To view detailed results, visit: https://lab.dpdk.org/results/dashboard/patchsets/34371/ UNH-IOL DPDK Community Lab To manage your email subscriptions, visit: https://lab.dpdk.org/results/dashboard/preferences/subscriptions/