From mboxrd@z Thu Jan 1 00:00:00 1970 Return-Path: Received: from mails.dpdk.org (mails.dpdk.org [217.70.189.124]) by inbox.dpdk.org (Postfix) with ESMTP id 53488489D2 for ; Sat, 25 Oct 2025 12:42:40 +0200 (CEST) Received: from mails.dpdk.org (localhost [127.0.0.1]) by mails.dpdk.org (Postfix) with ESMTP id 2FA3540156; Sat, 25 Oct 2025 12:42:40 +0200 (CEST) Received: from mail-pf1-f226.google.com (mail-pf1-f226.google.com [209.85.210.226]) by mails.dpdk.org (Postfix) with ESMTP id DBE9C40156 for ; Sat, 25 Oct 2025 12:42:38 +0200 (CEST) Received: by mail-pf1-f226.google.com with SMTP id d2e1a72fcca58-77f5d497692so3621587b3a.1 for ; Sat, 25 Oct 2025 03:42:38 -0700 (PDT) DKIM-Signature: v=1; a=rsa-sha256; c=relaxed/relaxed; d=iol.unh.edu; s=unh-iol; t=1761388958; x=1761993758; darn=dpdk.org; h=references:in-reply-to:cc:to:from:subject:message-id:date:from:to :cc:subject:date:message-id:reply-to; bh=DBpBS4Girx8llOBFd6KP/FjldWaPqJugEZEn819t8rA=; b=Pa9kUy0X2/FpaAAXfUHLsMr5jg8NOlXUNQy3rlDyXjeBGdO8HET6Pu1qjcZSvgzvTH CINhwyTogd+NtLp6t1q5NjFiK4n9tzNgMQUeB80q66ZEQ2zq9odO9iG0JjIDV6IWCqEA Fs7r+cjBhvNoyLpLqIccFZi3LIAwZdoPlPzaM= X-Google-DKIM-Signature: v=1; a=rsa-sha256; c=relaxed/relaxed; d=1e100.net; s=20230601; t=1761388958; x=1761993758; h=references:in-reply-to:cc:to:from:subject:message-id:date :x-gm-message-state:from:to:cc:subject:date:message-id:reply-to; bh=DBpBS4Girx8llOBFd6KP/FjldWaPqJugEZEn819t8rA=; b=Uju87tgI8zNluMgstZc/PYtLRZRR1Pn6108tzRsPyLT/Pj/mze3449Y5eQu4NUs32N b6hxzRyaiQr6IhhbYW5oT+hpxd86ElUCDQG4tNteL3JK1FioqkZnpjh33r8NNnkgtHWB 55m4+oMEVPh71/hglbnYKh/t84iJgQqP71e02YCL4vTOntI+U1HRKr35or++uXVVIUDe e5o63sMIXCZE/JajfE4XPtE1s4qxUPui1LITLSDbvPhLSYlh9isoRo8bxt5xYKAD6pck mSJPkX/xnZvoyuMGuDTc4r7pGMVu/IjLSjFeHdE9KDQTG25NoXNtqhJlmwX/M/a0qrYW UOGQ== X-Gm-Message-State: AOJu0Yz7grOH/K56u/k/QqMM2JrqXN/KwdX6Vra5QkgnpmRH3XSv2ZhE +OQ9/9GsMlSwxtNhtWbAwaanfyy8b+5/BpaE8P5LBdHsp22TPjWIGLq+yJUTLBTOIEBMf/+QpdD 7Gu6AngYKkmKi0byxouw5hnYEZ8cDXRUrYOqYYYLC9+4k X-Gm-Gg: ASbGncul97YlISw6m8NRvrEWVNwAgTRbolg5tAbMx7S2X9zvOGQHQD4CGWrhOyTupV6 x9WN58d689WyOnvIcskxpEO5sDRZ8RIY0TeW6V9Xv87BFjug2Ck9Tg15hWxI9Pjtjc3TfRDsMIG VmNiWkcfmqAaHohSTgs+/bpfs9dSY5WMP9G8A2TNEx4o1xrePBukc/3AlColSJEyg7YU84PYvqV oEgqTlMwKMER9PDkH4bSizANJb9mbSvW5J8BXfFw+Z71C4aL/xF5MKsy+Ya2aOYfdY/MjTuPeNY 9ZUw60eqdp0yf798r1Uz2BfPiOVtJmyzddc/037H0OjHwHH9LclZIaVU10qZof8iPqnppVx/GUG Bz2aV+nxVn+RBTsrKGjglXp7NKMo42tQ= X-Google-Smtp-Source: AGHT+IFvSnb9mBoYtmeKyGAtJoEJhS5kdOvV+cpk5k7V3fS1ZJosYWFo+DwyEYQHdopzQZSi+Z1p7czaRGrt X-Received: by 2002:aa7:888e:0:b0:780:f6db:b1bd with SMTP id d2e1a72fcca58-7a220a43782mr40235933b3a.4.1761388957872; Sat, 25 Oct 2025 03:42:37 -0700 (PDT) Received: from postal.iol.unh.edu (postal.iol.unh.edu. [132.177.123.84]) by smtp-relay.gmail.com with ESMTPS id d2e1a72fcca58-7a414069a49sm131679b3a.2.2025.10.25.03.42.37 (version=TLS1_2 cipher=ECDHE-ECDSA-AES128-GCM-SHA256 bits=128/128); Sat, 25 Oct 2025 03:42:37 -0700 (PDT) X-Relaying-Domain: iol.unh.edu Date: Sat, 25 Oct 2025 03:42:37 -0700 (PDT) Message-ID: <68fca99d.050a0220.72a5a.652eSMTPIN_ADDED_MISSING@mx.google.com> Received: from [172.21.0.2] (unknown [172.18.0.240]) by postal.iol.unh.edu (Postfix) with ESMTP id 6580860003F4; Sat, 25 Oct 2025 06:42:36 -0400 (EDT) Subject: |SUCCESS| pw158111-158112 [PATCH] [2/2] ethdev: support hide zero wh From: dpdklab@iol.unh.edu To: Test Report Cc: dpdk-test-reports@iol.unh.edu, Stephen Hemminger In-Reply-To: <20251025094239.4915-3-fengchengwen@huawei.com> References: <20251025094239.4915-3-fengchengwen@huawei.com> Content-Type: text/plain X-BeenThere: test-report@dpdk.org X-Mailman-Version: 2.1.29 Precedence: list List-Id: automatic DPDK test reports List-Unsubscribe: , List-Archive: List-Post: List-Help: List-Subscribe: , Errors-To: test-report-bounces@dpdk.org Test-Label: iol-compile-amd64-testing Test-Status: SUCCESS http://dpdk.org/patch/158112 _Testing PASS_ Submitter: Chengwen Feng Date: Saturday, October 25 2025 09:42:39 DPDK git baseline: Repo:dpdk-next-net Branch: master CommitID:9021d763e846b75743f0a596e4b2995713e6cd4c 158111-158112 --> testing pass Upstream job id: Windows-Compile-DPDK-Native#31898 Test environment and result as below: +---------------------+--------------------+-------------------------+-------------------+----------------------+ | Environment | dpdk_meson_compile | dpdk_llvm_clang_compile | dpdk_msvc_compile | dpdk_mingw64_compile | +=====================+====================+=========================+===================+======================+ | Ubuntu 20.04 | PASS | SKIPPED | SKIPPED | SKIPPED | +---------------------+--------------------+-------------------------+-------------------+----------------------+ | FreeBSD 14.2 | PASS | SKIPPED | SKIPPED | SKIPPED | +---------------------+--------------------+-------------------------+-------------------+----------------------+ | Windows Server 2022 | SKIPPED | PASS | PASS | PASS | +---------------------+--------------------+-------------------------+-------------------+----------------------+ Ubuntu 20.04 Kernel: 4.19 Compiler: gcc gcc (Ubuntu 9.4.0-1ubuntu1~20.04.2) 9.4.0 FreeBSD 14.2 Kernel: 14.2-RELEASE Compiler: clang 18.1.6 Windows Server 2022 Kernel: 10.0.20348.2031 Compiler: clang 15.0.7, gcc 14.1.0 (MinGW), and MSVC VS 19.39.33521 To view detailed results, visit: https://lab.dpdk.org/results/dashboard/patchsets/34386/ UNH-IOL DPDK Community Lab To manage your email subscriptions, visit: https://lab.dpdk.org/results/dashboard/preferences/subscriptions/