From mboxrd@z Thu Jan 1 00:00:00 1970 Return-Path: Received: from mails.dpdk.org (mails.dpdk.org [217.70.189.124]) by inbox.dpdk.org (Postfix) with ESMTP id B6CDA489D2 for ; Sat, 25 Oct 2025 12:47:02 +0200 (CEST) Received: from mails.dpdk.org (localhost [127.0.0.1]) by mails.dpdk.org (Postfix) with ESMTP id 907F540156; Sat, 25 Oct 2025 12:47:02 +0200 (CEST) Received: from mail-io1-f97.google.com (mail-io1-f97.google.com [209.85.166.97]) by mails.dpdk.org (Postfix) with ESMTP id 8ABC540156 for ; Sat, 25 Oct 2025 12:47:01 +0200 (CEST) Received: by mail-io1-f97.google.com with SMTP id ca18e2360f4ac-93e847a443fso285618639f.0 for ; Sat, 25 Oct 2025 03:47:01 -0700 (PDT) DKIM-Signature: v=1; a=rsa-sha256; c=relaxed/relaxed; d=iol.unh.edu; s=unh-iol; t=1761389220; x=1761994020; darn=dpdk.org; h=references:in-reply-to:cc:to:from:subject:message-id:date:from:to :cc:subject:date:message-id:reply-to; bh=Je0RT2Ogo/hK9abJHF1+6Be2+/bTTpssfGDve2d/eZs=; b=MGU5mayo6wSEEEwx6LSSz0DnQuINVIv13XGphTpAxabJBUmZYi+ss7LOwGSw1kCFMw ivn9hm0yr8f1Rj/CSVV93kyhPw1qliTHwD9iuwS6ehygzrjF8YGwpsOHP5JguTLtEJ1j 49RRCJNc7iJ7qo174odYA6EcPsQY/W2LsoAzo= X-Google-DKIM-Signature: v=1; a=rsa-sha256; c=relaxed/relaxed; d=1e100.net; s=20230601; t=1761389220; x=1761994020; h=references:in-reply-to:cc:to:from:subject:message-id:date :x-gm-message-state:from:to:cc:subject:date:message-id:reply-to; bh=Je0RT2Ogo/hK9abJHF1+6Be2+/bTTpssfGDve2d/eZs=; b=nuzc4mOXv3HkVaW7A+ATISILYjDB+usdBgX0iBdsEi9pxUSRLuSAYjeY48D7ftwBNc J6d/DZL+KcfqHDM2eWN89yJ6g6T2QkmsxoJ1dQ2TpSQMhZR2d7AGXqCdmZRTEKLveTSz uip5aMXqZ6W5noNFisHlOZCnmVCPKWUtc3csS+aXu9YbM7S3HdKQz5bIYX3Tr5ep2Q5v psdh6ENHq7Ly0++9DOFi432icZhTHxCy42YRasTefe1gd/f3EW0OHpnv2iMxl0G4PydS 18nw/MBhhD/Uj3VSTc8RQkj9/J5RpVuBB6JkXBF9mCEorvcvL9Ff+/KXh5xA8QrnHfgD bXMA== X-Gm-Message-State: AOJu0YxxRpYJT1ABEVfUvtLxe2fRXzZlm+mtPfyMD++4h1gOy+Ruoytg a7okEtkRyEM8wWx1eyoA4dBmjMUJ7a3kcuYIRGl991dnbL2QzZa1YY54JxCDqgF0psGarFexmwv 6nbI6MA0m6I4b1xlZJJuLKRl3H89qMiy94n7ULilljYL9TCEyl3wxmshA1Va5 X-Gm-Gg: ASbGnculDWvV+u+jaqQ2SekFbbMZV3n76qYiycGPzZIk2Csq2r/K6SUTjavAJL3YKdH GppYwJ3YhmL6N0L32WJbmiCr5bHOSpEwTZdcPL+MfWtL6deTejV2X5W0VNgAe9frOH+QLjcsGUr YPJ8hj3uJZs8nxRtE3z1hhHzJu1kCoQAXa3gQrh7mEaH9hgS2z4I9Rk27LNJzNt1fB9iRAktXuH YQ7dYjJS1qdEuF1J3iyOUW7drAzFEqeYpHRlqAeAn6Bat5GqG1fZlrtuJVYc4jCgapnmJu+HgKC DsimnOo/6fqubP5M79DcxtQyOtocFAvTnSHq+hcTCCKiizCKH2K12lF3d3OnLT5aPpOrIFNsLSU /w5Hzf7ur X-Google-Smtp-Source: AGHT+IEJ5rgA/CoAU5/ubu3Kvzag5ob7IKvJe3XKtznllnyuaaQfYWWVjE1gEqJ+XqYEEdF6JM/Kli373e/W X-Received: by 2002:a05:6e02:3792:b0:430:ac4a:4dc7 with SMTP id e9e14a558f8ab-431dbf8a0ccmr115777305ab.0.1761389220457; Sat, 25 Oct 2025 03:47:00 -0700 (PDT) Received: from postal.iol.unh.edu (postal.iol.unh.edu. [2606:4100:3880:1234::84]) by smtp-relay.gmail.com with ESMTPS id 8926c6da1cb9f-5aea995bd75sm145145173.25.2025.10.25.03.47.00 (version=TLS1_2 cipher=ECDHE-ECDSA-AES128-GCM-SHA256 bits=128/128); Sat, 25 Oct 2025 03:47:00 -0700 (PDT) X-Relaying-Domain: iol.unh.edu Date: Sat, 25 Oct 2025 03:47:00 -0700 (PDT) Message-ID: <68fcaaa4.050a0220.16cc.71fbSMTPIN_ADDED_MISSING@mx.google.com> Received: from [172.21.0.3] (unknown [172.18.0.240]) by postal.iol.unh.edu (Postfix) with ESMTP id F37D16051830; Sat, 25 Oct 2025 06:46:59 -0400 (EDT) Subject: |WARNING| pw158079-158080 [PATCH] [v1,2/2] bus/cdx: fix incorrect de From: dpdklab@iol.unh.edu To: Test Report Cc: dpdk-test-reports@iol.unh.edu In-Reply-To: <05ecc81aefbbe2073416c0e78aed926ec9ad54b5.1761299581.git.anatoly.burakov@intel.com> References: <05ecc81aefbbe2073416c0e78aed926ec9ad54b5.1761299581.git.anatoly.burakov@intel.com> Content-Type: text/plain X-BeenThere: test-report@dpdk.org X-Mailman-Version: 2.1.29 Precedence: list List-Id: automatic DPDK test reports List-Unsubscribe: , List-Archive: List-Post: List-Help: List-Subscribe: , Errors-To: test-report-bounces@dpdk.org Test-Label: iol-compile-amd64-testing Test-Status: WARNING http://dpdk.org/patch/158080 _Testing issues_ Submitter: Anatoly Burakov Date: Friday, October 24 2025 09:53:10 DPDK git baseline: Repo:dpdk Branch: master CommitID:6edcec237e31fcdb848cca6c151ee7a5bf057c28 158079-158080 --> testing issues Upstream job id: Generic-DPDK-Compile-Meson#437520 Test environment and result as below: +---------------------+-------------------------+--------------------+-------------------+----------------------+-------------------+ | Environment | dpdk_llvm_clang_compile | dpdk_meson_compile | dpdk_msvc_compile | dpdk_mingw64_compile | dpdk_compile_spdk | +=====================+=========================+====================+===================+======================+===================+ | Windows Server 2022 | PASS | SKIPPED | PASS | PASS | SKIPPED | +---------------------+-------------------------+--------------------+-------------------+----------------------+-------------------+ | Ubuntu 20.04 | SKIPPED | PASS | SKIPPED | SKIPPED | SKIPPED | +---------------------+-------------------------+--------------------+-------------------+----------------------+-------------------+ | FreeBSD 14.2 | SKIPPED | PASS | SKIPPED | SKIPPED | SKIPPED | +---------------------+-------------------------+--------------------+-------------------+----------------------+-------------------+ | CentOS Stream 9 | SKIPPED | PASS | SKIPPED | SKIPPED | WARN | +---------------------+-------------------------+--------------------+-------------------+----------------------+-------------------+ ==== 20 line log output for CentOS Stream 9 (dpdk_compile_spdk): ==== --- Failed to get log output --- ==== End log output ==== Windows Server 2022 Kernel: 10.0.20348.2031 Compiler: clang 15.0.7, gcc 14.1.0 (MinGW), and MSVC VS 19.39.33521 Ubuntu 20.04 Kernel: 4.19 Compiler: gcc gcc (Ubuntu 9.4.0-1ubuntu1~20.04.2) 9.4.0 FreeBSD 14.2 Kernel: 14.2-RELEASE Compiler: clang 18.1.6 CentOS Stream 9 Kernel: 5.15 Compiler: gcc gcc (GCC) 11.5.0 20240719 (Red Hat 11.5.0-11) To view detailed results, visit: https://lab.dpdk.org/results/dashboard/patchsets/34372/ UNH-IOL DPDK Community Lab To manage your email subscriptions, visit: https://lab.dpdk.org/results/dashboard/preferences/subscriptions/