From mboxrd@z Thu Jan 1 00:00:00 1970 Return-Path: Received: from mails.dpdk.org (mails.dpdk.org [217.70.189.124]) by inbox.dpdk.org (Postfix) with ESMTP id BE37B489D2 for ; Sat, 25 Oct 2025 13:08:32 +0200 (CEST) Received: from mails.dpdk.org (localhost [127.0.0.1]) by mails.dpdk.org (Postfix) with ESMTP id 9829840156; Sat, 25 Oct 2025 13:08:32 +0200 (CEST) Received: from mail-yw1-f227.google.com (mail-yw1-f227.google.com [209.85.128.227]) by mails.dpdk.org (Postfix) with ESMTP id 125D140156 for ; Sat, 25 Oct 2025 13:08:31 +0200 (CEST) Received: by mail-yw1-f227.google.com with SMTP id 00721157ae682-783fa3aa582so34875227b3.3 for ; Sat, 25 Oct 2025 04:08:31 -0700 (PDT) DKIM-Signature: v=1; a=rsa-sha256; c=relaxed/relaxed; d=iol.unh.edu; s=unh-iol; t=1761390510; x=1761995310; darn=dpdk.org; h=references:in-reply-to:cc:to:from:subject:message-id:date:from:to :cc:subject:date:message-id:reply-to; bh=Ueotai2jp/LHQa5jk+mHaY+T9/CMAn0XtFu5Nl0AVlI=; b=RsbpA6TtrFuK0Hrga4TbayoYr11SYgDUT1aCeIWoLEA9G7v8d42ns/wdEufKENOG6i SYenUrUUzMy/6QfhW9QjlcRenRDAwYOoTEA+i44c5c1sKGJsvuqdMsCokehWnjemN425 huz0PZYVc/go9Kv8Swmnc76A4mlmCVgTKZrJw= X-Google-DKIM-Signature: v=1; a=rsa-sha256; c=relaxed/relaxed; d=1e100.net; s=20230601; t=1761390510; x=1761995310; h=references:in-reply-to:cc:to:from:subject:message-id:date :x-gm-message-state:from:to:cc:subject:date:message-id:reply-to; bh=Ueotai2jp/LHQa5jk+mHaY+T9/CMAn0XtFu5Nl0AVlI=; b=SRt2T9xIDHOG3r9vVIcEZtbxp8IttXa9eVvWY1nP+Y/57HnKABpofUVyUtLd39Szh7 7z9g9A5nYVZA4X/JzKwO20+EG6EEf8bq9J9MkrR87txejTfrEjpVYuIGomSBUNFQxPBn eUqDBDiJBQ53O27YU4jy/NOMdV5YOmb45qpILX0FADpJlJjL5fzJnlpnGXYYlFucDeC5 Z8SgcdlI0ZTfZSztcKFWoZZXA6fX5ghHfliCXUP+xJKu2qXok7b2KkJrZCFl19/K2pse 7UztO7cVubTsibROe7FYJyzP0vxz/I9lf152jMW3dYkkYiI6V85zdRO75lOU3yiTqgDB WONA== X-Gm-Message-State: AOJu0Yx2P2hGjPYoRBKcma3LdK3pqYConFyDLJUfJwS2wMdRAOtWVsKG hBUCpAcwo+ZRP8+VSarIVE9iu6W2l3Aexz9iVCcRcPl6sCKRSIwTTrKULLlxCDiuDaVdvJfXMzf csrUjY1MQZJOqYJKPgESSUFpArow0eMfuk11umJP5Urik X-Gm-Gg: ASbGncsoAB+Wedyu4PzTdyPyPGab19yKH0fYAaBBN97tHSQueLtXnFtPG21Zq7DIsQc dhF2CnPI1e4zT+CCJBSjWh2Z3buYhwmmWTEpV2LWArrBblGfhI6piTfc+BLubgEHi9WaPBrdibv 2zTleY5SasHuXPlqSGwks03E0XFx1tStBmbQgB57yQYRKYFgict+RxWniBleWm1Ny2jyoWrtYl0 q7p52p3A0BaYS+qBDsxe3bnolzi3r4KiO2TQDfSJjwp/2moCtwS/Kp5TaMrPsb38zDq38/uaBIj L680dKQyI6+sOM1wUmQdoj1GhoKJwyJVuC/A0YX0IiQCn4o5j1rlzs/Q0XU0HKDtilHzxWl+orE o9qhW0JxUDMIwY7Gt791AzITaFjjKorA= X-Google-Smtp-Source: AGHT+IEQ0a6LaWJkuHJLQxq2wg8hN5myDsn/Z6AmQX/urBSZwaNyMM9Iv27F7fCJqpfWmf3NPqLlRV5+e2CB X-Received: by 2002:a53:de45:0:b0:63c:f349:cb97 with SMTP id 956f58d0204a3-63e161c6260mr20262785d50.41.1761390510309; Sat, 25 Oct 2025 04:08:30 -0700 (PDT) Received: from postal.iol.unh.edu (postal.iol.unh.edu. [132.177.123.84]) by smtp-relay.gmail.com with ESMTPS id 956f58d0204a3-63f4c3d0078sm157304d50.4.2025.10.25.04.08.30 (version=TLS1_2 cipher=ECDHE-ECDSA-AES128-GCM-SHA256 bits=128/128); Sat, 25 Oct 2025 04:08:30 -0700 (PDT) X-Relaying-Domain: iol.unh.edu Date: Sat, 25 Oct 2025 04:08:30 -0700 (PDT) Message-ID: <68fcafae.050a0220.3a75e6.7c0eSMTPIN_ADDED_MISSING@mx.google.com> Received: from [172.21.0.3] (unknown [172.18.0.240]) by postal.iol.unh.edu (Postfix) with ESMTP id EB6186051830; Sat, 25 Oct 2025 07:08:29 -0400 (EDT) Subject: |SUCCESS| pw158061-158069 [PATCH] [v11,9/9] lib/pmu: fix out-of-boun From: dpdklab@iol.unh.edu To: Test Report Cc: dpdk-test-reports@iol.unh.edu In-Reply-To: <20251024054830.933910-10-tduszynski@marvell.com> References: <20251024054830.933910-10-tduszynski@marvell.com> Content-Type: text/plain X-BeenThere: test-report@dpdk.org X-Mailman-Version: 2.1.29 Precedence: list List-Id: automatic DPDK test reports List-Unsubscribe: , List-Archive: List-Post: List-Help: List-Subscribe: , Errors-To: test-report-bounces@dpdk.org Test-Label: iol-compile-arm64-testing Test-Status: SUCCESS http://dpdk.org/patch/158069 _Testing PASS_ Submitter: Tomasz Duszynski Date: Friday, October 24 2025 05:48:30 DPDK git baseline: Repo:dpdk Branch: master CommitID:6edcec237e31fcdb848cca6c151ee7a5bf057c28 158061-158069 --> testing pass Upstream job id: Generic-DPDK-Compile-Meson#437416 Test environment and result as below: +------------------------------+--------------------+ | Environment | dpdk_meson_compile | +==============================+====================+ | Red Hat Enterprise Linux 9.5 | PASS | +------------------------------+--------------------+ | Ubuntu 20.04 | PASS | +------------------------------+--------------------+ | Debian GNU/Linux 12 | PASS | +------------------------------+--------------------+ | Fedora Linux 42 | PASS | +------------------------------+--------------------+ | Ubuntu 22.04 | PASS | +------------------------------+--------------------+ | Ubuntu 24.04 | PASS | +------------------------------+--------------------+ | CentOS Stream 9 | PASS | +------------------------------+--------------------+ | CentOS Stream 10 | PASS | +------------------------------+--------------------+ Red Hat Enterprise Linux 9.5 Kernel: 5.4 Compiler: gcc gcc (GCC) 11.5.0 20240719 (Red Hat 11.5.0-2) Ubuntu 20.04 Kernel: 5.15 Compiler: aarch64-linux-gnu-gcc gcc (Ubuntu 9.4.0-1ubuntu1~20.04.2) 9.4.0 Debian GNU/Linux 12 Kernel: 5.4 Compiler: gcc gcc (Debian 12.2.0-14+deb12u1) 12.2.0 Fedora Linux 42 Kernel: 5.4 Compiler: gcc gcc (GCC) 15.2.1 20250808 (Red Hat 15.2.1-1) Ubuntu 22.04 Kernel: 5.4 Compiler: gcc gcc (Ubuntu 11.4.0-1ubuntu1~22.04) 11.4.0 Ubuntu 24.04 Kernel: 5.4 Compiler: gcc gcc (Ubuntu 13.3.0-6ubuntu2~24.04) 13.3.0 CentOS Stream 9 Kernel: 5.4 Compiler: gcc gcc (GCC) 11.5.0 20240719 (Red Hat 11.5.0-11) CentOS Stream 10 Kernel: 5.4 Compiler: gcc gcc (GCC) 14.2.1 20250110 (Red Hat 14.2.1-8) To view detailed results, visit: https://lab.dpdk.org/results/dashboard/patchsets/34367/ UNH-IOL DPDK Community Lab To manage your email subscriptions, visit: https://lab.dpdk.org/results/dashboard/preferences/subscriptions/