From mboxrd@z Thu Jan 1 00:00:00 1970 Return-Path: Received: from mails.dpdk.org (mails.dpdk.org [217.70.189.124]) by inbox.dpdk.org (Postfix) with ESMTP id B5DB4489D2 for ; Sat, 25 Oct 2025 13:32:27 +0200 (CEST) Received: from mails.dpdk.org (localhost [127.0.0.1]) by mails.dpdk.org (Postfix) with ESMTP id 9E90E40156; Sat, 25 Oct 2025 13:32:27 +0200 (CEST) Received: from mail-oi1-f228.google.com (mail-oi1-f228.google.com [209.85.167.228]) by mails.dpdk.org (Postfix) with ESMTP id 1AC1540156 for ; Sat, 25 Oct 2025 13:32:26 +0200 (CEST) Received: by mail-oi1-f228.google.com with SMTP id 5614622812f47-44dabf29d02so71394b6e.2 for ; Sat, 25 Oct 2025 04:32:26 -0700 (PDT) DKIM-Signature: v=1; a=rsa-sha256; c=relaxed/relaxed; d=iol.unh.edu; s=unh-iol; t=1761391945; x=1761996745; darn=dpdk.org; h=references:in-reply-to:cc:to:from:subject:message-id:date:from:to :cc:subject:date:message-id:reply-to; bh=DuPaLZiemeNZCZrqtFJ9jRqrF7+7+Kefm0dhx4pzNT8=; b=WJ3zWUt3Iq0boQFtr+DHTlsj0wyP4GuHN7VTGKcgHGph7LwpzXeXecth7lYyjDY1HD n5/KyC4pjnfzr3duQymrpmeZSLk1W+NeTM9CEkjplFkGHQ5KuKty93/lTnd23+MlVWz+ hXmgas/EUziv8FoH8tIq2pRaIYFH4HyWK/W4I= X-Google-DKIM-Signature: v=1; a=rsa-sha256; c=relaxed/relaxed; d=1e100.net; s=20230601; t=1761391945; x=1761996745; h=references:in-reply-to:cc:to:from:subject:message-id:date :x-gm-message-state:from:to:cc:subject:date:message-id:reply-to; bh=DuPaLZiemeNZCZrqtFJ9jRqrF7+7+Kefm0dhx4pzNT8=; b=CUw/WwpzVjjZjyYTrrcGDBsCKbQMX8vf6seJUiS0lJG3ygN2DOFrRP0wM2T0E1fQfx hez753E5Q8uikJ2fGDL5EPq8t/88ZlG58Icmprts5Kt1oBL27bLC0EQDHidWZih4+8Rx Rtcao6Kb9JqyJ1vsTd6iDeA9jTcBUrsutSLd6JhrhK5djRBBZ9Wb53Jav7Z1wXc9sXLb J4A5G6MfrQIH/9GuQfJGNMq8LIWtseO+SN2E4bcYnfMqxGMYuJTUy6+AmbyBGl9slYHt 9YuGYWCjzNdH0O6upYgHlwBgmcKcATdeSPZS0PdmacRwYclUwKVapPpNAR/hGvTOfahQ Gn5A== X-Gm-Message-State: AOJu0YyR9hv1G3pkwLB0qQIedDHuAx0NCOl2lhI002hBUcXTpOlMXklx +oqN93kYoyNqtct0dSHd7dtmjlxrV54+Bnem10TPDE+8xQODkUlc1I0CmvRhKeQwp2rJIf1JjBK baAG3k/D1RNdcwOAIDxG254rTt4cFypyv2mWx5HPWUPyh X-Gm-Gg: ASbGncsD7Z91yaLFM9LsQqWn6enTyFfUKgTZjCDpO8exnyY55cMvk9uFI1n2588XTLT TN9IhQx0tgz0L2oBiD22yXgmmLrStqlCRa8dEPITDXqFLjRjnkMz0HYFMKgTopHBYF12kpGbZck oQdIogQrqxyx8pNMhAcnmvZgsaNxevP7v9Hy8U5il2/JuCSMTI+6tSAcBwAMivjk2zd5KGlz+u8 ajNGvWbhCQ8YwPwC2lcf1P46Tb56ceiV9oVQmzk61tA7o1ghFKqKkY9+NoVVkKNMWyGWgPKl6Gh qzshgqS2IepoYLd6/Ds3oyCwfAYINm8K/LDeT14vzkmtUZtluQTZ0j7BlBa0xCVj5RwjQyBL8pV DgETPkrt0UfPJAq2Z3BaHFnX0zfq4Fuc= X-Google-Smtp-Source: AGHT+IEcFvElqEs+azBhBoTurG+mU//A6jyiCPXcFFCvVt0OuyxSU84DAl5QdTE5KdFcyM0MqwyH8A8jMSoZ X-Received: by 2002:a05:6808:6a8b:b0:44d:a3d4:902f with SMTP id 5614622812f47-44da3d4985fmr835315b6e.52.1761391945053; Sat, 25 Oct 2025 04:32:25 -0700 (PDT) Received: from postal.iol.unh.edu (postal.iol.unh.edu. [132.177.123.84]) by smtp-relay.gmail.com with ESMTPS id 006d021491bc7-654ef2e0f7fsm40993eaf.9.2025.10.25.04.32.24 (version=TLS1_2 cipher=ECDHE-ECDSA-AES128-GCM-SHA256 bits=128/128); Sat, 25 Oct 2025 04:32:25 -0700 (PDT) X-Relaying-Domain: iol.unh.edu Date: Sat, 25 Oct 2025 04:32:25 -0700 (PDT) Message-ID: <68fcb549.050a0220.1dac59.20fbSMTPIN_ADDED_MISSING@mx.google.com> Received: from [172.21.0.2] (unknown [172.18.0.240]) by postal.iol.unh.edu (Postfix) with ESMTP id 208226051830; Sat, 25 Oct 2025 07:32:24 -0400 (EDT) Subject: |WARNING| pw158081-158084 [PATCH] [v1,4/4] doc: add PTP IDPF documen From: dpdklab@iol.unh.edu To: Test Report Cc: dpdk-test-reports@iol.unh.edu, Bruce Richardson In-Reply-To: <20251024120840.420016-5-soumyadeep.hore@intel.com> References: <20251024120840.420016-5-soumyadeep.hore@intel.com> Content-Type: text/plain X-BeenThere: test-report@dpdk.org X-Mailman-Version: 2.1.29 Precedence: list List-Id: automatic DPDK test reports List-Unsubscribe: , List-Archive: List-Post: List-Help: List-Subscribe: , Errors-To: test-report-bounces@dpdk.org Test-Label: iol-compile-amd64-testing Test-Status: WARNING http://dpdk.org/patch/158084 _Testing issues_ Submitter: Soumyadeep Hore Date: Friday, October 24 2025 12:08:40 DPDK git baseline: Repo:dpdk-next-net-intel Branch: master CommitID:6b997d6b9ffdbb4f8ecd14d1f217da69cdc783af 158081-158084 --> testing issues Upstream job id: Generic-DPDK-Compile-Meson#437541 Test environment and result as below: +-------------------------------+--------------------+-------------------------+-------------------+----------------------+-------------------+------------------+ | Environment | dpdk_meson_compile | dpdk_llvm_clang_compile | dpdk_msvc_compile | dpdk_mingw64_compile | dpdk_compile_spdk | dpdk_compile_ovs | +===============================+====================+=========================+===================+======================+===================+==================+ | Ubuntu 20.04 | PASS | SKIPPED | SKIPPED | SKIPPED | SKIPPED | SKIPPED | +-------------------------------+--------------------+-------------------------+-------------------+----------------------+-------------------+------------------+ | FreeBSD 14.2 | PASS | SKIPPED | SKIPPED | SKIPPED | SKIPPED | SKIPPED | +-------------------------------+--------------------+-------------------------+-------------------+----------------------+-------------------+------------------+ | openSUSE Leap 15.6 | PASS | SKIPPED | SKIPPED | SKIPPED | SKIPPED | SKIPPED | +-------------------------------+--------------------+-------------------------+-------------------+----------------------+-------------------+------------------+ | CentOS Stream 9 | PEND | SKIPPED | SKIPPED | SKIPPED | PEND | SKIPPED | +-------------------------------+--------------------+-------------------------+-------------------+----------------------+-------------------+------------------+ | CentOS Stream 10 | PASS | SKIPPED | SKIPPED | SKIPPED | SKIPPED | SKIPPED | +-------------------------------+--------------------+-------------------------+-------------------+----------------------+-------------------+------------------+ | Debian GNU/Linux 12 | PEND | SKIPPED | SKIPPED | SKIPPED | PEND | SKIPPED | +-------------------------------+--------------------+-------------------------+-------------------+----------------------+-------------------+------------------+ | Fedora Linux 42 | PEND | SKIPPED | SKIPPED | SKIPPED | PEND | PEND | +-------------------------------+--------------------+-------------------------+-------------------+----------------------+-------------------+------------------+ | Red Hat Enterprise Linux 8.10 | PEND | SKIPPED | SKIPPED | SKIPPED | SKIPPED | SKIPPED | +-------------------------------+--------------------+-------------------------+-------------------+----------------------+-------------------+------------------+ | Red Hat Enterprise Linux 9.5 | PEND | SKIPPED | SKIPPED | SKIPPED | SKIPPED | SKIPPED | +-------------------------------+--------------------+-------------------------+-------------------+----------------------+-------------------+------------------+ | Ubuntu 22.04 | PASS | SKIPPED | SKIPPED | SKIPPED | WARN | SKIPPED | +-------------------------------+--------------------+-------------------------+-------------------+----------------------+-------------------+------------------+ | Ubuntu 24.04 | PEND | SKIPPED | SKIPPED | SKIPPED | PEND | PEND | +-------------------------------+--------------------+-------------------------+-------------------+----------------------+-------------------+------------------+ | Windows Server 2022 | SKIPPED | PASS | PASS | PASS | SKIPPED | SKIPPED | +-------------------------------+--------------------+-------------------------+-------------------+----------------------+-------------------+------------------+ ==== 20 line log output for Ubuntu 22.04 (dpdk_compile_spdk): ==== --- Failed to get log output --- ==== End log output ==== Ubuntu 20.04 Kernel: 4.19 Compiler: gcc gcc (Ubuntu 9.4.0-1ubuntu1~20.04.2) 9.4.0 FreeBSD 14.2 Kernel: 14.2-RELEASE Compiler: clang 18.1.6 openSUSE Leap 15.6 Kernel: 5.15 Compiler: gcc gcc (SUSE Linux) 7.5.0 CentOS Stream 9 Kernel: 5.15 Compiler: gcc gcc (GCC) 11.5.0 20240719 (Red Hat 11.5.0-11) CentOS Stream 10 Kernel: 5.15 Compiler: gcc gcc (GCC) 14.2.1 20250110 (Red Hat 14.2.1-8) Debian GNU/Linux 12 Kernel: 5.15 Compiler: gcc gcc (Debian 12.2.0-14+deb12u1) 12.2.0 Fedora Linux 42 Kernel: 5.15 Compiler: clang gcc (GCC) 15.2.1 20250808 (Red Hat 15.2.1-1) Red Hat Enterprise Linux 8.10 Kernel: 5.15 Compiler: gcc gcc (GCC) 8.5.0 20210514 (Red Hat 8.5.0-22) Red Hat Enterprise Linux 9.5 Kernel: 5.15 Compiler: gcc gcc (GCC) 11.5.0 20240719 (Red Hat 11.5.0-2) Ubuntu 22.04 Kernel: 5.15 Compiler: gcc gcc (Ubuntu 11.4.0-1ubuntu1~22.04) 11.4.0 Ubuntu 24.04 Kernel: 5.15 Compiler: gcc gcc (Ubuntu 13.3.0-6ubuntu2~24.04) 13.3.0 Windows Server 2022 Kernel: 10.0.20348.2031 Compiler: clang 15.0.7, gcc 14.1.0 (MinGW), and MSVC VS 19.39.33521 To view detailed results, visit: https://lab.dpdk.org/results/dashboard/patchsets/34373/ UNH-IOL DPDK Community Lab To manage your email subscriptions, visit: https://lab.dpdk.org/results/dashboard/preferences/subscriptions/