From mboxrd@z Thu Jan 1 00:00:00 1970 Return-Path: Received: from mails.dpdk.org (mails.dpdk.org [217.70.189.124]) by inbox.dpdk.org (Postfix) with ESMTP id AAC83489D3 for ; Sat, 25 Oct 2025 14:08:40 +0200 (CEST) Received: from mails.dpdk.org (localhost [127.0.0.1]) by mails.dpdk.org (Postfix) with ESMTP id 71A8A40156; Sat, 25 Oct 2025 14:08:40 +0200 (CEST) Received: from mail-pg1-f226.google.com (mail-pg1-f226.google.com [209.85.215.226]) by mails.dpdk.org (Postfix) with ESMTP id A2F5E40156 for ; Sat, 25 Oct 2025 14:08:38 +0200 (CEST) Received: by mail-pg1-f226.google.com with SMTP id 41be03b00d2f7-b6cf3174ca4so2034731a12.2 for ; Sat, 25 Oct 2025 05:08:38 -0700 (PDT) DKIM-Signature: v=1; a=rsa-sha256; c=relaxed/relaxed; d=iol.unh.edu; s=unh-iol; t=1761394117; x=1761998917; darn=dpdk.org; h=references:in-reply-to:cc:to:from:subject:message-id:date:from:to :cc:subject:date:message-id:reply-to; bh=YIIYoQXgt2Ayg3C1A7u/NgzXh3mDklcZqrTQAciRlME=; b=UNc2DdxPb389plaqcupAHh0sPkos1W7lUelsRsnHZjcH/zZYmeYk6WvWjCkDf+OvOz QYwZvCiOs1wad3k4l2cJzJQy1QD91by804PlMFK7MoNQCffDPfPEdU4Pe0OtMpGLutfs HUNtr0XBcfpnE4rmCmBxLk6gfDroMytoYiTq8= X-Google-DKIM-Signature: v=1; a=rsa-sha256; c=relaxed/relaxed; d=1e100.net; s=20230601; t=1761394117; x=1761998917; h=references:in-reply-to:cc:to:from:subject:message-id:date :x-gm-message-state:from:to:cc:subject:date:message-id:reply-to; bh=YIIYoQXgt2Ayg3C1A7u/NgzXh3mDklcZqrTQAciRlME=; b=l9oscvIoCYtT35s2DI3vqa8GLApyyBab4PLPSJ/aFOoMczOFOcSnL5uJAm68bO/CBU /Ndas8z3KdhDG27Q2TPE/HfCyVmQoLhSMybBDgbtaYwab/We9xpZl4NjsNa8Yu+AYSzn dcx9Q1WC3c4ZV7RvG3ByX4oEqxnNxJexWGLQ7ZfpSnJx/rCZXKXkwVoWWvrmosw1S0P/ ds09Lg5LjLmoL7BmuPhxnUie1WVKoazRaQpHdenGqjOP5rmpq+JvIDX82mOcyalz1chn D6ratoQKxrkpFLqqhYlyunm7bhWK7AMAYXv8/6QSCvlAEecBVJBK2TjAXYQpWqAaFFxZ cgKg== X-Gm-Message-State: AOJu0Yxqx7Zqkj++oC5bxFiDz6t6db/pMQQVGFDOitmO2F8UKDSfgTr/ xysk24xhruOr2i5FUGUKv+3N9Kc8SMcVjlq6k6dXnQTK4ZSPkTEu15GMlKGA2HV211wqzZiKGaY hiSY4IQcjzdk+2j6l15SZ2woJXp3efllR1AqGFZAccfjaX/F6VjT102Sz2xly X-Gm-Gg: ASbGnctJk5ek+w1gsw2CDfaIwQ0mFe5iT3xCeACOQZUk8iaPEbsN0t952NcuswFsN6C GVCy5Kao8Qnb6/0Y52104mnhKghhOSNxjsx9tSiVjO9lZZtrpPGS+5JI5soKEZrKxccoXUfaTpn iir5iGTB+nUlRgxY6UwMDnyTO0Ir8fW2yqFxnXqCH54jtmuwUvIuq+SkFoXCd6VLOThO/3UFC7X vCWFYRjUHw8/SDZ9EOYinidlE00WlCsuf94Dds+jMboD2x4OmSqv2uYFc6mZLG2sz3xdey4zEuY tyNwu8HnFhgPawbEeyhwmQfYeKKN79NgkW6C4HjEy4tuI5zCtDFezOR20TsMPUKqehUmClBPQZJ Xx+L79YZk X-Google-Smtp-Source: AGHT+IEu21QcHw5oSkw69miX4y7g4DIpoNmbFK8JZV57vdFBdLLeVtHljKvtqxichqShqgBQPSEfBU5OtQqO X-Received: by 2002:a17:903:4b07:b0:288:5d07:8a8f with SMTP id d9443c01a7336-290c9cd4b60mr342546535ad.24.1761394117622; Sat, 25 Oct 2025 05:08:37 -0700 (PDT) Received: from postal.iol.unh.edu (postal.iol.unh.edu. [2606:4100:3880:1234::84]) by smtp-relay.gmail.com with ESMTPS id d9443c01a7336-29498d0999fsm1852815ad.18.2025.10.25.05.08.37 (version=TLS1_2 cipher=ECDHE-ECDSA-AES128-GCM-SHA256 bits=128/128); Sat, 25 Oct 2025 05:08:37 -0700 (PDT) X-Relaying-Domain: iol.unh.edu Date: Sat, 25 Oct 2025 05:08:37 -0700 (PDT) Message-ID: <68fcbdc5.170a0220.2acd40.8e3eSMTPIN_ADDED_MISSING@mx.google.com> Received: from [172.21.0.2] (unknown [172.18.0.240]) by postal.iol.unh.edu (Postfix) with ESMTP id 1A1626051830; Sat, 25 Oct 2025 08:08:37 -0400 (EDT) Subject: |WARNING| pw158081-158084 [PATCH] [v1,4/4] doc: add PTP IDPF documen From: dpdklab@iol.unh.edu To: Test Report Cc: dpdk-test-reports@iol.unh.edu, Bruce Richardson In-Reply-To: <20251024120840.420016-5-soumyadeep.hore@intel.com> References: <20251024120840.420016-5-soumyadeep.hore@intel.com> Content-Type: text/plain X-BeenThere: test-report@dpdk.org X-Mailman-Version: 2.1.29 Precedence: list List-Id: automatic DPDK test reports List-Unsubscribe: , List-Archive: List-Post: List-Help: List-Subscribe: , Errors-To: test-report-bounces@dpdk.org Test-Label: iol-compile-amd64-testing Test-Status: WARNING http://dpdk.org/patch/158084 _Testing issues_ Submitter: Soumyadeep Hore Date: Friday, October 24 2025 12:08:40 DPDK git baseline: Repo:dpdk-next-net-intel Branch: master CommitID:6b997d6b9ffdbb4f8ecd14d1f217da69cdc783af 158081-158084 --> testing issues Upstream job id: Generic-DPDK-Compile-Meson#437543 Test environment and result as below: +-------------------------------+--------------------+-------------------------+-------------------+----------------------+-------------------+------------------+ | Environment | dpdk_meson_compile | dpdk_llvm_clang_compile | dpdk_msvc_compile | dpdk_mingw64_compile | dpdk_compile_spdk | dpdk_compile_ovs | +===============================+====================+=========================+===================+======================+===================+==================+ | Ubuntu 20.04 | PASS | SKIPPED | SKIPPED | SKIPPED | SKIPPED | SKIPPED | +-------------------------------+--------------------+-------------------------+-------------------+----------------------+-------------------+------------------+ | FreeBSD 14.2 | PASS | SKIPPED | SKIPPED | SKIPPED | SKIPPED | SKIPPED | +-------------------------------+--------------------+-------------------------+-------------------+----------------------+-------------------+------------------+ | openSUSE Leap 15.6 | PASS | SKIPPED | SKIPPED | SKIPPED | SKIPPED | SKIPPED | +-------------------------------+--------------------+-------------------------+-------------------+----------------------+-------------------+------------------+ | CentOS Stream 9 | PASS | SKIPPED | SKIPPED | SKIPPED | WARN | SKIPPED | +-------------------------------+--------------------+-------------------------+-------------------+----------------------+-------------------+------------------+ | CentOS Stream 10 | PASS | SKIPPED | SKIPPED | SKIPPED | SKIPPED | SKIPPED | +-------------------------------+--------------------+-------------------------+-------------------+----------------------+-------------------+------------------+ | Debian GNU/Linux 12 | PASS | SKIPPED | SKIPPED | SKIPPED | WARN | SKIPPED | +-------------------------------+--------------------+-------------------------+-------------------+----------------------+-------------------+------------------+ | Fedora Linux 42 | PASS | SKIPPED | SKIPPED | SKIPPED | WARN | PASS | +-------------------------------+--------------------+-------------------------+-------------------+----------------------+-------------------+------------------+ | Red Hat Enterprise Linux 8.10 | PASS | SKIPPED | SKIPPED | SKIPPED | SKIPPED | SKIPPED | +-------------------------------+--------------------+-------------------------+-------------------+----------------------+-------------------+------------------+ | Red Hat Enterprise Linux 9.5 | PASS | SKIPPED | SKIPPED | SKIPPED | SKIPPED | SKIPPED | +-------------------------------+--------------------+-------------------------+-------------------+----------------------+-------------------+------------------+ | Ubuntu 22.04 | PASS | SKIPPED | SKIPPED | SKIPPED | WARN | SKIPPED | +-------------------------------+--------------------+-------------------------+-------------------+----------------------+-------------------+------------------+ | Ubuntu 24.04 | PASS | SKIPPED | SKIPPED | SKIPPED | WARN | PASS | +-------------------------------+--------------------+-------------------------+-------------------+----------------------+-------------------+------------------+ | Alpine Linux 3.22.0 | PASS | SKIPPED | SKIPPED | SKIPPED | SKIPPED | SKIPPED | +-------------------------------+--------------------+-------------------------+-------------------+----------------------+-------------------+------------------+ | Windows Server 2022 | SKIPPED | PASS | PASS | PASS | SKIPPED | SKIPPED | +-------------------------------+--------------------+-------------------------+-------------------+----------------------+-------------------+------------------+ ==== 20 line log output for Ubuntu 24.04 (dpdk_compile_spdk): ==== --- Failed to get log output --- ==== End log output ==== Ubuntu 20.04 Kernel: 4.19 Compiler: gcc gcc (Ubuntu 9.4.0-1ubuntu1~20.04.2) 9.4.0 FreeBSD 14.2 Kernel: 14.2-RELEASE Compiler: clang 18.1.6 openSUSE Leap 15.6 Kernel: 5.15 Compiler: gcc gcc (SUSE Linux) 7.5.0 CentOS Stream 9 Kernel: 5.15 Compiler: gcc gcc (GCC) 11.5.0 20240719 (Red Hat 11.5.0-11) CentOS Stream 10 Kernel: 5.15 Compiler: gcc gcc (GCC) 14.2.1 20250110 (Red Hat 14.2.1-8) Debian GNU/Linux 12 Kernel: 5.15 Compiler: gcc gcc (Debian 12.2.0-14+deb12u1) 12.2.0 Fedora Linux 42 Kernel: 5.15 Compiler: clang gcc (GCC) 15.2.1 20250808 (Red Hat 15.2.1-1) Red Hat Enterprise Linux 8.10 Kernel: 5.15 Compiler: gcc gcc (GCC) 8.5.0 20210514 (Red Hat 8.5.0-22) Red Hat Enterprise Linux 9.5 Kernel: 5.15 Compiler: gcc gcc (GCC) 11.5.0 20240719 (Red Hat 11.5.0-2) Ubuntu 22.04 Kernel: 5.15 Compiler: gcc gcc (Ubuntu 11.4.0-1ubuntu1~22.04) 11.4.0 Ubuntu 24.04 Kernel: 5.15 Compiler: gcc gcc (Ubuntu 13.3.0-6ubuntu2~24.04) 13.3.0 Alpine Linux 3.22.0 Kernel: 5.15 Compiler: gcc gcc (Alpine 14.2.0) 14.2.0 Windows Server 2022 Kernel: 10.0.20348.2031 Compiler: clang 15.0.7, gcc 14.1.0 (MinGW), and MSVC VS 19.39.33521 To view detailed results, visit: https://lab.dpdk.org/results/dashboard/patchsets/34373/ UNH-IOL DPDK Community Lab To manage your email subscriptions, visit: https://lab.dpdk.org/results/dashboard/preferences/subscriptions/