From mboxrd@z Thu Jan 1 00:00:00 1970 Return-Path: Received: from mails.dpdk.org (mails.dpdk.org [217.70.189.124]) by inbox.dpdk.org (Postfix) with ESMTP id D6A1E489D3 for ; Sat, 25 Oct 2025 14:36:56 +0200 (CEST) Received: from mails.dpdk.org (localhost [127.0.0.1]) by mails.dpdk.org (Postfix) with ESMTP id B113A40156; Sat, 25 Oct 2025 14:36:56 +0200 (CEST) Received: from mail-pl1-f225.google.com (mail-pl1-f225.google.com [209.85.214.225]) by mails.dpdk.org (Postfix) with ESMTP id CCAAC40156 for ; Sat, 25 Oct 2025 14:36:54 +0200 (CEST) Received: by mail-pl1-f225.google.com with SMTP id d9443c01a7336-27ee41e074dso30405625ad.1 for ; Sat, 25 Oct 2025 05:36:54 -0700 (PDT) DKIM-Signature: v=1; a=rsa-sha256; c=relaxed/relaxed; d=iol.unh.edu; s=unh-iol; t=1761395814; x=1762000614; darn=dpdk.org; h=references:in-reply-to:cc:to:from:subject:message-id:date:from:to :cc:subject:date:message-id:reply-to; bh=SjE5kn6Or89T/KP6FuT24vCEJ5cH0yqMoREIeM2b1CM=; b=QTyPt7eyDICzHqFpFLJbk40CKHQh4px1MiX6iqbaw/r1t1S30XzdMEjzUyoH8i+jUF VIwiCxju51OuU47AK0RHWFJRT+scDmKDtjS874kS9xcNpp44K/RlkVQxPULkZ3gqOcKm Eh3iVpcor2qT3OMArEQCSJmHrbXuoVdLv285E= X-Google-DKIM-Signature: v=1; a=rsa-sha256; c=relaxed/relaxed; d=1e100.net; s=20230601; t=1761395814; x=1762000614; h=references:in-reply-to:cc:to:from:subject:message-id:date :x-gm-message-state:from:to:cc:subject:date:message-id:reply-to; bh=SjE5kn6Or89T/KP6FuT24vCEJ5cH0yqMoREIeM2b1CM=; b=NLokiJUdCUprej4epFWZmFQnzyY40JKPumfi18CP4vvnGAb6I6jhzfK09GXRXoq9r+ Zy1ZSHC5ACMRO49bLUDYnekgeWfrUhQ7WQNLIlG8CDWewrVyL6ZRJ73QyN+9Ccqi2gbA plt8zzC3C2vlWy43abRSW7kZXm4McbKdY1GiZJkQ5S2w3sRIIWUL/TB8R0nLZ/Z5nHSN hURKXdthRdypm3xco/yDQipsUAj3OX88I9NKSxPgTcGGEV03WOe4t80LHOU78K3eGy2U 6WEuJ9gYPvctfJNNxG8eC2bxIujgHyyHlRES2879cGXGmtQVhEEAavAvqycCuKoDPWET EEhA== X-Gm-Message-State: AOJu0YxtFq845ciAYPp87S04sLri3Z2EDOwTSuO8whS/YuzkroLJn0/T hJq1xoH1QHyKsyCUBhIM+xC/2w9GCk1e0AAb3h+tB/n39kjMMWiNRgaOS9PSgjj2WkFD+ZmeurL 1iLpJ6cr+cEj764BIpnhcovMOPbEbO2QFjI1pIGUVeUq2RPDar1RImGigYl7b X-Gm-Gg: ASbGncuI28SNw3YHxUoyFk+V2vHTJAu0ZAGZzxByxnfiw6DXvJcSaJKVt4onCf74lJs U/yNB8DgVx1G9zr44eXiPyX0f1+gpftV5X/I9GfmQSx/BOS0Ja+iZLESCGKLPV29u09dJf/6InJ mxFGZQHX8Pn/znhiqaT+mTgnOnRGLbw4wDnea3K5IeFn9WH6fO2T44NAKcujoVAnl9B1hqP83fV x6msRQxOoZHDZ4GyBTaP6zC0+wu7iogs+RD1g3b8LAJ28B9kTKwZjHgPo7k8RFGdSkspTtvJt4V 0PT/uHXgS/08jDouB6ATxqlfHkBrfR33jjjMQ2KPpS5vMjYKEbpVCcMdD12JHztm5f1T5PF87MW KNlfCDk0d X-Google-Smtp-Source: AGHT+IFFe2M8a7Hodc/tmZhWEBFf/FZYsW6dm6ybnpaIfBt1DkNyB7MBMgYVYtKZEebjGoNYYkxFIUhfRZBZ X-Received: by 2002:a17:903:15c7:b0:28c:2db3:b9ab with SMTP id d9443c01a7336-290c9cd5db9mr415741585ad.26.1761395813826; Sat, 25 Oct 2025 05:36:53 -0700 (PDT) Received: from postal.iol.unh.edu (postal.iol.unh.edu. [2606:4100:3880:1234::84]) by smtp-relay.gmail.com with ESMTPS id d9443c01a7336-29498d4457dsm1904625ad.51.2025.10.25.05.36.53 (version=TLS1_2 cipher=ECDHE-ECDSA-AES128-GCM-SHA256 bits=128/128); Sat, 25 Oct 2025 05:36:53 -0700 (PDT) X-Relaying-Domain: iol.unh.edu Date: Sat, 25 Oct 2025 05:36:53 -0700 (PDT) Message-ID: <68fcc465.170a0220.2453a1.9335SMTPIN_ADDED_MISSING@mx.google.com> Received: from [172.21.0.2] (unknown [172.18.0.240]) by postal.iol.unh.edu (Postfix) with ESMTP id EFFDF6051830; Sat, 25 Oct 2025 08:36:52 -0400 (EDT) Subject: |WARNING| pw158086-158088 [PATCH] [v3,3/3] dts: add virtio forwardin From: dpdklab@iol.unh.edu To: Test Report Cc: dpdk-test-reports@iol.unh.edu In-Reply-To: <20251024174702.600147-3-dmarx@iol.unh.edu> References: <20251024174702.600147-3-dmarx@iol.unh.edu> Content-Type: text/plain X-BeenThere: test-report@dpdk.org X-Mailman-Version: 2.1.29 Precedence: list List-Id: automatic DPDK test reports List-Unsubscribe: , List-Archive: List-Post: List-Help: List-Subscribe: , Errors-To: test-report-bounces@dpdk.org Test-Label: iol-compile-amd64-testing Test-Status: WARNING http://dpdk.org/patch/158088 _Testing issues_ Submitter: Dean Marx Date: Friday, October 24 2025 17:47:00 DPDK git baseline: Repo:dpdk-next-dts Branch: master CommitID:c1abcee5a9656fb4890b733e6051aa604c60f146 158086-158088 --> testing issues Upstream job id: Generic-DPDK-Compile-Meson#437590 Test environment and result as below: +-------------------------------+--------------------+-------------------------+-------------------+----------------------+-------------------+------------------+ | Environment | dpdk_meson_compile | dpdk_llvm_clang_compile | dpdk_msvc_compile | dpdk_mingw64_compile | dpdk_compile_spdk | dpdk_compile_ovs | +===============================+====================+=========================+===================+======================+===================+==================+ | Ubuntu 20.04 | PASS | SKIPPED | SKIPPED | SKIPPED | SKIPPED | SKIPPED | +-------------------------------+--------------------+-------------------------+-------------------+----------------------+-------------------+------------------+ | FreeBSD 14.2 | PASS | SKIPPED | SKIPPED | SKIPPED | SKIPPED | SKIPPED | +-------------------------------+--------------------+-------------------------+-------------------+----------------------+-------------------+------------------+ | CentOS Stream 9 | PEND | SKIPPED | SKIPPED | SKIPPED | PEND | SKIPPED | +-------------------------------+--------------------+-------------------------+-------------------+----------------------+-------------------+------------------+ | CentOS Stream 10 | PASS | SKIPPED | SKIPPED | SKIPPED | SKIPPED | SKIPPED | +-------------------------------+--------------------+-------------------------+-------------------+----------------------+-------------------+------------------+ | Debian GNU/Linux 12 | PEND | SKIPPED | SKIPPED | SKIPPED | PEND | SKIPPED | +-------------------------------+--------------------+-------------------------+-------------------+----------------------+-------------------+------------------+ | Fedora Linux 42 | PASS | SKIPPED | SKIPPED | SKIPPED | WARN | PASS | +-------------------------------+--------------------+-------------------------+-------------------+----------------------+-------------------+------------------+ | openSUSE Leap 15.6 | PEND | SKIPPED | SKIPPED | SKIPPED | SKIPPED | SKIPPED | +-------------------------------+--------------------+-------------------------+-------------------+----------------------+-------------------+------------------+ | Red Hat Enterprise Linux 8.10 | PASS | SKIPPED | SKIPPED | SKIPPED | SKIPPED | SKIPPED | +-------------------------------+--------------------+-------------------------+-------------------+----------------------+-------------------+------------------+ | Red Hat Enterprise Linux 9.5 | PEND | SKIPPED | SKIPPED | SKIPPED | SKIPPED | SKIPPED | +-------------------------------+--------------------+-------------------------+-------------------+----------------------+-------------------+------------------+ | Windows Server 2022 | SKIPPED | PASS | PASS | PASS | SKIPPED | SKIPPED | +-------------------------------+--------------------+-------------------------+-------------------+----------------------+-------------------+------------------+ ==== 20 line log output for Fedora Linux 42 (dpdk_compile_spdk): ==== --- Failed to get log output --- ==== End log output ==== Ubuntu 20.04 Kernel: 4.19 Compiler: gcc gcc (Ubuntu 9.4.0-1ubuntu1~20.04.2) 9.4.0 FreeBSD 14.2 Kernel: 14.2-RELEASE Compiler: clang 18.1.6 CentOS Stream 9 Kernel: 5.15 Compiler: gcc gcc (GCC) 11.5.0 20240719 (Red Hat 11.5.0-11) CentOS Stream 10 Kernel: 5.15 Compiler: gcc gcc (GCC) 14.2.1 20250110 (Red Hat 14.2.1-8) Debian GNU/Linux 12 Kernel: 5.15 Compiler: gcc gcc (Debian 12.2.0-14+deb12u1) 12.2.0 Fedora Linux 42 Kernel: 5.15 Compiler: clang gcc (GCC) 15.2.1 20250808 (Red Hat 15.2.1-1) openSUSE Leap 15.6 Kernel: 5.15 Compiler: gcc gcc (SUSE Linux) 7.5.0 Red Hat Enterprise Linux 8.10 Kernel: 5.15 Compiler: gcc gcc (GCC) 8.5.0 20210514 (Red Hat 8.5.0-22) Red Hat Enterprise Linux 9.5 Kernel: 5.15 Compiler: gcc gcc (GCC) 11.5.0 20240719 (Red Hat 11.5.0-2) Windows Server 2022 Kernel: 10.0.20348.2031 Compiler: clang 15.0.7, gcc 14.1.0 (MinGW), and MSVC VS 19.39.33521 To view detailed results, visit: https://lab.dpdk.org/results/dashboard/patchsets/34374/ UNH-IOL DPDK Community Lab To manage your email subscriptions, visit: https://lab.dpdk.org/results/dashboard/preferences/subscriptions/