From mboxrd@z Thu Jan 1 00:00:00 1970 Return-Path: Received: from mails.dpdk.org (mails.dpdk.org [217.70.189.124]) by inbox.dpdk.org (Postfix) with ESMTP id 24A7D489D3 for ; Sat, 25 Oct 2025 14:52:39 +0200 (CEST) Received: from mails.dpdk.org (localhost [127.0.0.1]) by mails.dpdk.org (Postfix) with ESMTP id EF77840156; Sat, 25 Oct 2025 14:52:38 +0200 (CEST) Received: from mail-pl1-f227.google.com (mail-pl1-f227.google.com [209.85.214.227]) by mails.dpdk.org (Postfix) with ESMTP id 3AE9040156 for ; Sat, 25 Oct 2025 14:52:38 +0200 (CEST) Received: by mail-pl1-f227.google.com with SMTP id d9443c01a7336-290deb0e643so30488205ad.2 for ; Sat, 25 Oct 2025 05:52:38 -0700 (PDT) DKIM-Signature: v=1; a=rsa-sha256; c=relaxed/relaxed; d=iol.unh.edu; s=unh-iol; t=1761396757; x=1762001557; darn=dpdk.org; h=cc:to:from:subject:message-id:date:from:to:cc:subject:date :message-id:reply-to; bh=lxoGXTUnhQALD3Kzox2EZrH6WZg7mLRUD4bW+rorp1o=; b=V2xcYysBXa6GYGFs4MT75n1zQGKp/HMVB4P09PKzeP0i7cbyKJiMLglikdGyOp652G yk62lq+LXWtGkT7kh2OucYTQUngg5jgsWc1pRDpBdY3ahGL9At8UKQzFQk44cL1d6P+V WRvbmnPGPk8FUiLJqkF4/k6r0T1x8WDH+lNqc= X-Google-DKIM-Signature: v=1; a=rsa-sha256; c=relaxed/relaxed; d=1e100.net; s=20230601; t=1761396757; x=1762001557; h=cc:to:from:subject:message-id:date:x-gm-message-state:from:to:cc :subject:date:message-id:reply-to; bh=lxoGXTUnhQALD3Kzox2EZrH6WZg7mLRUD4bW+rorp1o=; b=fu2ZCNwA25k2MkQYIzkqVfsuZqZMVbrcAYlHSxtva41vHXwTxJJNQ5rZwPYVBPXesz 6k1w7g3f0A30tlZAraFJsAA7sA9ukA4j/8s2abTowP1ZuMVnVs8OxMNXiRGcnetYGZQP PkJ93D6sXOoXwUgfW4e4GdRBir/p0cJTNY3TtbzgYWUHSo6Z6j+/67I8upBOJkvQNf/b pBK0pVL71QboqB6/Etss330lETCjEOfwqL7OeOGmv1Lo1tMpKIgzIfc2qDiZ4Qk1xYYu rv7HF2AKEqpWaLfsIWDkp3xpHzat1OcNh0qcuzvJZX7ijcXgCXtYiPNMbkMS1BXY5dhY 3b9w== X-Gm-Message-State: AOJu0Yw4XvnvlDjrssiTghN41RIWJz0Z9cMzt8xBM4GRJkmqJSlMkMG/ eY7PtSwWTXrcT+tC9EeVn8qTkwcea+tpP1A2crR34PYaXUXg2E+ISyNvJDszVtJlSoAkBksaqG3 a250Q1e1/QNrVLGIJ+31fZgcH2DGLEHmDtkTr X-Gm-Gg: ASbGncuCJXlElag5qiftHWxe9AD1K/A7UB4T0kFdtWUtVscbKBPPOkgvQyrSyoBUFCi 5kL4Rrf30m0cUUL3tIJLGM+3f9dkhg5dxX8uq7wbMGDKelWDMRL+4cdszXLitsUGAjfYmfQTCom hIKbmr5XMf5qxMZLLctLbDeT+sv9MnrwV9Rmy2nz9XJm2P+0rl0ZEgGvthYAY2H4N2TFWbhe+tx MXduJgHqbcAmmGeABZrNYvzG4J+7KcYj2A7kJ8YHCk3Uieo1t/heUlchICBA7Hs9zCEcYtn2IR4 a6ujCGLqznEtQcUIeyJJ8lAV6NVQzsvsXmhg/QqLoqWiWVeZvf7/nZ5P9Wj2n647DoPDrJEt6EE VipPinxZHr10e6RmhfM32KX5Sz4xwEzc= X-Google-Smtp-Source: AGHT+IFkOrbxwkjvAEoL9cTXZLFvjv1kXtZPXrVo5S4yMDpFq/EJf7XIQKVOuOOGnq2dhO6hW9fURRWL6p+2 X-Received: by 2002:a17:903:1c9:b0:278:9051:8ea9 with SMTP id d9443c01a7336-2946e117e69mr119066615ad.40.1761396757284; Sat, 25 Oct 2025 05:52:37 -0700 (PDT) Received: from postal.iol.unh.edu (postal.iol.unh.edu. [132.177.123.84]) by smtp-relay.gmail.com with ESMTPS id d9443c01a7336-29498e50aafsm1920005ad.65.2025.10.25.05.52.37 (version=TLS1_2 cipher=ECDHE-ECDSA-AES128-GCM-SHA256 bits=128/128); Sat, 25 Oct 2025 05:52:37 -0700 (PDT) X-Relaying-Domain: iol.unh.edu Date: Sat, 25 Oct 2025 05:52:37 -0700 (PDT) Message-ID: <68fcc815.170a0220.1efd50.923dSMTPIN_ADDED_MISSING@mx.google.com> Received: from [172.21.0.2] (unknown [172.18.0.240]) by postal.iol.unh.edu (Postfix) with ESMTP id C3BE96051830; Sat, 25 Oct 2025 08:52:36 -0400 (EDT) Subject: |WARNING| [GIT MASTER] 5d40aaf77852b5884e137f1588726c92feb59002 From: dpdklab@iol.unh.edu To: Test Report Cc: dpdk-test-reports@iol.unh.edu, Ajit Khaparde Content-Type: text/plain X-BeenThere: test-report@dpdk.org X-Mailman-Version: 2.1.29 Precedence: list List-Id: automatic DPDK test reports List-Unsubscribe: , List-Archive: List-Post: List-Help: List-Subscribe: , Errors-To: test-report-bounces@dpdk.org _Testing issues_ Branch: next-net-brcm-for-next-net 5d40aaf77852b5884e137f1588726c92feb59002 --> testing issues Upstream job id: Generic-DPDK-Compile-Meson#437570 Test environment and result as below: +-------------------------------+--------------------+-------------------------+-------------------+----------------------+-------------------+------------------+ | Environment | dpdk_meson_compile | dpdk_llvm_clang_compile | dpdk_msvc_compile | dpdk_mingw64_compile | dpdk_compile_spdk | dpdk_compile_ovs | +===============================+====================+=========================+===================+======================+===================+==================+ | Ubuntu 20.04 | PASS | SKIPPED | SKIPPED | SKIPPED | SKIPPED | SKIPPED | +-------------------------------+--------------------+-------------------------+-------------------+----------------------+-------------------+------------------+ | FreeBSD 14.2 | PASS | SKIPPED | SKIPPED | SKIPPED | SKIPPED | SKIPPED | +-------------------------------+--------------------+-------------------------+-------------------+----------------------+-------------------+------------------+ | CentOS Stream 9 | PASS | SKIPPED | SKIPPED | SKIPPED | WARN | SKIPPED | +-------------------------------+--------------------+-------------------------+-------------------+----------------------+-------------------+------------------+ | CentOS Stream 10 | PASS | SKIPPED | SKIPPED | SKIPPED | SKIPPED | SKIPPED | +-------------------------------+--------------------+-------------------------+-------------------+----------------------+-------------------+------------------+ | Debian GNU/Linux 12 | PASS | SKIPPED | SKIPPED | SKIPPED | WARN | SKIPPED | +-------------------------------+--------------------+-------------------------+-------------------+----------------------+-------------------+------------------+ | Fedora Linux 42 | PASS | SKIPPED | SKIPPED | SKIPPED | WARN | PASS | +-------------------------------+--------------------+-------------------------+-------------------+----------------------+-------------------+------------------+ | Red Hat Enterprise Linux 8.10 | PASS | SKIPPED | SKIPPED | SKIPPED | SKIPPED | SKIPPED | +-------------------------------+--------------------+-------------------------+-------------------+----------------------+-------------------+------------------+ | Red Hat Enterprise Linux 9.5 | PASS | SKIPPED | SKIPPED | SKIPPED | SKIPPED | SKIPPED | +-------------------------------+--------------------+-------------------------+-------------------+----------------------+-------------------+------------------+ | openSUSE Leap 15.6 | PASS | SKIPPED | SKIPPED | SKIPPED | SKIPPED | SKIPPED | +-------------------------------+--------------------+-------------------------+-------------------+----------------------+-------------------+------------------+ | Ubuntu 22.04 | PASS | SKIPPED | SKIPPED | SKIPPED | WARN | SKIPPED | +-------------------------------+--------------------+-------------------------+-------------------+----------------------+-------------------+------------------+ | Ubuntu 24.04 | PASS | SKIPPED | SKIPPED | SKIPPED | WARN | PASS | +-------------------------------+--------------------+-------------------------+-------------------+----------------------+-------------------+------------------+ | Alpine Linux 3.22.0 | PASS | SKIPPED | SKIPPED | SKIPPED | SKIPPED | SKIPPED | +-------------------------------+--------------------+-------------------------+-------------------+----------------------+-------------------+------------------+ | Windows Server 2022 | SKIPPED | PASS | PASS | PASS | SKIPPED | SKIPPED | +-------------------------------+--------------------+-------------------------+-------------------+----------------------+-------------------+------------------+ ==== 20 line log output for Ubuntu 24.04 (dpdk_compile_spdk): ==== --- Failed to get log output --- ==== End log output ==== Ubuntu 20.04 Kernel: 4.19 Compiler: gcc gcc (Ubuntu 9.4.0-1ubuntu1~20.04.2) 9.4.0 FreeBSD 14.2 Kernel: 14.2-RELEASE Compiler: clang 18.1.6 CentOS Stream 9 Kernel: 5.15 Compiler: gcc gcc (GCC) 11.5.0 20240719 (Red Hat 11.5.0-11) CentOS Stream 10 Kernel: 5.15 Compiler: gcc gcc (GCC) 14.2.1 20250110 (Red Hat 14.2.1-8) Debian GNU/Linux 12 Kernel: 5.15 Compiler: gcc gcc (Debian 12.2.0-14+deb12u1) 12.2.0 Fedora Linux 42 Kernel: 5.15 Compiler: clang gcc (GCC) 15.2.1 20250808 (Red Hat 15.2.1-1) Red Hat Enterprise Linux 8.10 Kernel: 5.15 Compiler: gcc gcc (GCC) 8.5.0 20210514 (Red Hat 8.5.0-22) Red Hat Enterprise Linux 9.5 Kernel: 5.15 Compiler: gcc gcc (GCC) 11.5.0 20240719 (Red Hat 11.5.0-2) openSUSE Leap 15.6 Kernel: 5.15 Compiler: gcc gcc (SUSE Linux) 7.5.0 Ubuntu 22.04 Kernel: 5.15 Compiler: gcc gcc (Ubuntu 11.4.0-1ubuntu1~22.04) 11.4.0 Ubuntu 24.04 Kernel: 5.15 Compiler: gcc gcc (Ubuntu 13.3.0-6ubuntu2~24.04) 13.3.0 Alpine Linux 3.22.0 Kernel: 5.15 Compiler: gcc gcc (Alpine 14.2.0) 14.2.0 Windows Server 2022 Kernel: 10.0.20348.2031 Compiler: clang 15.0.7, gcc 14.1.0 (MinGW), and MSVC VS 19.39.33521 To view detailed results, visit: https://lab.dpdk.org/results/dashboard/tarballs/35333/ UNH-IOL DPDK Community Lab To manage your email subscriptions, visit: https://lab.dpdk.org/results/dashboard/preferences/subscriptions/