From mboxrd@z Thu Jan 1 00:00:00 1970 Return-Path: Received: from mails.dpdk.org (mails.dpdk.org [217.70.189.124]) by inbox.dpdk.org (Postfix) with ESMTP id 072DA489D3 for ; Sat, 25 Oct 2025 15:16:51 +0200 (CEST) Received: from mails.dpdk.org (localhost [127.0.0.1]) by mails.dpdk.org (Postfix) with ESMTP id DB55140156; Sat, 25 Oct 2025 15:16:50 +0200 (CEST) Received: from mail-pf1-f227.google.com (mail-pf1-f227.google.com [209.85.210.227]) by mails.dpdk.org (Postfix) with ESMTP id 693F140156 for ; Sat, 25 Oct 2025 15:16:50 +0200 (CEST) Received: by mail-pf1-f227.google.com with SMTP id d2e1a72fcca58-7a27c67cdc4so2298772b3a.3 for ; Sat, 25 Oct 2025 06:16:50 -0700 (PDT) DKIM-Signature: v=1; a=rsa-sha256; c=relaxed/relaxed; d=iol.unh.edu; s=unh-iol; t=1761398209; x=1762003009; darn=dpdk.org; h=references:in-reply-to:cc:to:from:subject:message-id:date:from:to :cc:subject:date:message-id:reply-to; bh=6HHqC12soxEuoJch/gZ/HYKOj411P03EEsIZt4q4170=; b=QpuGCI+WcZxtPHb1h7fJPmgd+7bnYgZRMxwNUv4naYJYO6CnPXQPTGQXZRoao0w0hf 4lMWONRgbamzN4PuxK3I6dU9Fj9ytE37ow1C2GLlvKKj2PH7cc+Nu/oA0g5yx0ZWTF/z VWNwKsfADy5YbJc0HaHsw7xP8zAv0/4kVMrAs= X-Google-DKIM-Signature: v=1; a=rsa-sha256; c=relaxed/relaxed; d=1e100.net; s=20230601; t=1761398209; x=1762003009; h=references:in-reply-to:cc:to:from:subject:message-id:date :x-gm-message-state:from:to:cc:subject:date:message-id:reply-to; bh=6HHqC12soxEuoJch/gZ/HYKOj411P03EEsIZt4q4170=; b=RigSgn7dS6SRwI2jO9ZgSOKlDKEJwkrx4hKFxsOvC0bxQIYQM0eB2PXhwbR0znwnlI XR2bNG5BlET23ZNBHDwfvVQlzTEGZ2XRRPsB3ghXwNfqsa1fCwynBB+QWgNu1x9QnFJt cFmDkuU8YHDksGINjcjYTHeegWep/2LOG7bVMP3t72YP/DHKJXN2mDpJQSsVZeWBR1is WPtwqHQj+hoyEzxKLL4W2c7XFtGeacbJQjOVWvqsYD0UXQvc+ugUw/LhNSCHZNBgkWHW MwCcr7DveEpMtEVP4E6lXVlRcK0KSB7ilJ6HSD89Q/d2LXXTbD8uMcfEZFJgOL4FPwKU iqMQ== X-Gm-Message-State: AOJu0YzRhA2s0/733q++E62pT8bey7niSJlFZgpCczqhYP34TURz19lm vFGlOohDlIrW+Ug0Zxmaq4vAozzCqfAYLbe9+8kprFqT7blk++O6vim4LjpndEjaAnlc5dCj1fO eIgQy2aVV6k18g1RknITR1FJpMgPlM9ip1T4eFOCmffJT X-Gm-Gg: ASbGncs7J6mgCsnu2N7x/1HhtHMzZpE52uEFroKOjgoC58sg1vRWb/ujUDIgoma/nN8 4FoorRoeeVVRc3XKxejXwdDg3GhV125yb9k0//kg4hDlZAOxRBly66RUFEEaNHjOGuOw1k2RunX h9Dq69uEdYQeooFqC5KkkK4kcbuWUE6iN9m86CRVb8sppIqqv9MI7jdLY9uYQv0inSouDZi0G7n pZ4/FtNjrrP7ADLGUcIBss/jlMkUDKxsE4J/pRaLq4YX/jNE9EbA9iamKElfK+T91BEq2SpPrOE ctVdO6ZBiKLpKv8/0dNY0/BADLWPXNB+2Tg2QRsj8Q4h7ZeHQ5AcMmrBRVi255XxVHK65ba2SLq g0X4DJ02lZi71YZyU2qIemSDKwCHoppw= X-Google-Smtp-Source: AGHT+IHkRaK3mHs0CJ7duN9zpeII6xWUCVZQs1URT6TJZgmJvTeCFots4wOkNloiHZSNPWfSB6yt/7/wM657 X-Received: by 2002:a05:6a00:182a:b0:781:171c:54cf with SMTP id d2e1a72fcca58-7a220a3165dmr32987998b3a.1.1761398209126; Sat, 25 Oct 2025 06:16:49 -0700 (PDT) Received: from postal.iol.unh.edu (postal.iol.unh.edu. [132.177.123.84]) by smtp-relay.gmail.com with ESMTPS id d2e1a72fcca58-7a4140b032dsm144273b3a.8.2025.10.25.06.16.48 (version=TLS1_2 cipher=ECDHE-ECDSA-AES128-GCM-SHA256 bits=128/128); Sat, 25 Oct 2025 06:16:49 -0700 (PDT) X-Relaying-Domain: iol.unh.edu Date: Sat, 25 Oct 2025 06:16:49 -0700 (PDT) Message-ID: <68fccdc1.050a0220.2f9a2c.6e69SMTPIN_ADDED_MISSING@mx.google.com> Received: from [172.21.0.2] (unknown [172.18.0.240]) by postal.iol.unh.edu (Postfix) with ESMTP id 414AF6051830; Sat, 25 Oct 2025 09:16:48 -0400 (EDT) Subject: |WARNING| pw158086-158088 [PATCH] [v3,3/3] dts: add virtio forwardin From: dpdklab@iol.unh.edu To: Test Report Cc: dpdk-test-reports@iol.unh.edu In-Reply-To: <20251024174702.600147-3-dmarx@iol.unh.edu> References: <20251024174702.600147-3-dmarx@iol.unh.edu> Content-Type: text/plain X-BeenThere: test-report@dpdk.org X-Mailman-Version: 2.1.29 Precedence: list List-Id: automatic DPDK test reports List-Unsubscribe: , List-Archive: List-Post: List-Help: List-Subscribe: , Errors-To: test-report-bounces@dpdk.org Test-Label: iol-compile-amd64-testing Test-Status: WARNING http://dpdk.org/patch/158088 _Testing issues_ Submitter: Dean Marx Date: Friday, October 24 2025 17:47:00 DPDK git baseline: Repo:dpdk-next-dts Branch: master CommitID:c1abcee5a9656fb4890b733e6051aa604c60f146 158086-158088 --> testing issues Upstream job id: Generic-DPDK-Compile-Meson#437597 Test environment and result as below: +-------------------------------+--------------------+-------------------------+-------------------+----------------------+-------------------+------------------+ | Environment | dpdk_meson_compile | dpdk_llvm_clang_compile | dpdk_msvc_compile | dpdk_mingw64_compile | dpdk_compile_spdk | dpdk_compile_ovs | +===============================+====================+=========================+===================+======================+===================+==================+ | Ubuntu 20.04 | PASS | SKIPPED | SKIPPED | SKIPPED | SKIPPED | SKIPPED | +-------------------------------+--------------------+-------------------------+-------------------+----------------------+-------------------+------------------+ | FreeBSD 14.2 | PASS | SKIPPED | SKIPPED | SKIPPED | SKIPPED | SKIPPED | +-------------------------------+--------------------+-------------------------+-------------------+----------------------+-------------------+------------------+ | CentOS Stream 9 | PASS | SKIPPED | SKIPPED | SKIPPED | WARN | SKIPPED | +-------------------------------+--------------------+-------------------------+-------------------+----------------------+-------------------+------------------+ | CentOS Stream 10 | PASS | SKIPPED | SKIPPED | SKIPPED | SKIPPED | SKIPPED | +-------------------------------+--------------------+-------------------------+-------------------+----------------------+-------------------+------------------+ | Debian GNU/Linux 12 | PASS | SKIPPED | SKIPPED | SKIPPED | WARN | SKIPPED | +-------------------------------+--------------------+-------------------------+-------------------+----------------------+-------------------+------------------+ | Fedora Linux 42 | PASS | SKIPPED | SKIPPED | SKIPPED | WARN | PASS | +-------------------------------+--------------------+-------------------------+-------------------+----------------------+-------------------+------------------+ | openSUSE Leap 15.6 | PASS | SKIPPED | SKIPPED | SKIPPED | SKIPPED | SKIPPED | +-------------------------------+--------------------+-------------------------+-------------------+----------------------+-------------------+------------------+ | Red Hat Enterprise Linux 8.10 | PASS | SKIPPED | SKIPPED | SKIPPED | SKIPPED | SKIPPED | +-------------------------------+--------------------+-------------------------+-------------------+----------------------+-------------------+------------------+ | Red Hat Enterprise Linux 9.5 | PASS | SKIPPED | SKIPPED | SKIPPED | SKIPPED | SKIPPED | +-------------------------------+--------------------+-------------------------+-------------------+----------------------+-------------------+------------------+ | Ubuntu 22.04 | PASS | SKIPPED | SKIPPED | SKIPPED | WARN | SKIPPED | +-------------------------------+--------------------+-------------------------+-------------------+----------------------+-------------------+------------------+ | Ubuntu 24.04 | PASS | SKIPPED | SKIPPED | SKIPPED | WARN | PASS | +-------------------------------+--------------------+-------------------------+-------------------+----------------------+-------------------+------------------+ | Alpine Linux 3.22.0 | PASS | SKIPPED | SKIPPED | SKIPPED | SKIPPED | SKIPPED | +-------------------------------+--------------------+-------------------------+-------------------+----------------------+-------------------+------------------+ | Windows Server 2022 | SKIPPED | PASS | PASS | PASS | SKIPPED | SKIPPED | +-------------------------------+--------------------+-------------------------+-------------------+----------------------+-------------------+------------------+ ==== 20 line log output for Ubuntu 24.04 (dpdk_compile_spdk): ==== --- Failed to get log output --- ==== End log output ==== Ubuntu 20.04 Kernel: 4.19 Compiler: gcc gcc (Ubuntu 9.4.0-1ubuntu1~20.04.2) 9.4.0 FreeBSD 14.2 Kernel: 14.2-RELEASE Compiler: clang 18.1.6 CentOS Stream 9 Kernel: 5.15 Compiler: gcc gcc (GCC) 11.5.0 20240719 (Red Hat 11.5.0-11) CentOS Stream 10 Kernel: 5.15 Compiler: gcc gcc (GCC) 14.2.1 20250110 (Red Hat 14.2.1-8) Debian GNU/Linux 12 Kernel: 5.15 Compiler: gcc gcc (Debian 12.2.0-14+deb12u1) 12.2.0 Fedora Linux 42 Kernel: 5.15 Compiler: clang gcc (GCC) 15.2.1 20250808 (Red Hat 15.2.1-1) openSUSE Leap 15.6 Kernel: 5.15 Compiler: gcc gcc (SUSE Linux) 7.5.0 Red Hat Enterprise Linux 8.10 Kernel: 5.15 Compiler: gcc gcc (GCC) 8.5.0 20210514 (Red Hat 8.5.0-22) Red Hat Enterprise Linux 9.5 Kernel: 5.15 Compiler: gcc gcc (GCC) 11.5.0 20240719 (Red Hat 11.5.0-2) Ubuntu 22.04 Kernel: 5.15 Compiler: gcc gcc (Ubuntu 11.4.0-1ubuntu1~22.04) 11.4.0 Ubuntu 24.04 Kernel: 5.15 Compiler: gcc gcc (Ubuntu 13.3.0-6ubuntu2~24.04) 13.3.0 Alpine Linux 3.22.0 Kernel: 5.15 Compiler: gcc gcc (Alpine 14.2.0) 14.2.0 Windows Server 2022 Kernel: 10.0.20348.2031 Compiler: clang 15.0.7, gcc 14.1.0 (MinGW), and MSVC VS 19.39.33521 To view detailed results, visit: https://lab.dpdk.org/results/dashboard/patchsets/34374/ UNH-IOL DPDK Community Lab To manage your email subscriptions, visit: https://lab.dpdk.org/results/dashboard/preferences/subscriptions/