From mboxrd@z Thu Jan 1 00:00:00 1970 Return-Path: Received: from mails.dpdk.org (mails.dpdk.org [217.70.189.124]) by inbox.dpdk.org (Postfix) with ESMTP id 8EF85489D4 for ; Sat, 25 Oct 2025 17:05:33 +0200 (CEST) Received: from mails.dpdk.org (localhost [127.0.0.1]) by mails.dpdk.org (Postfix) with ESMTP id 5DB3440156; Sat, 25 Oct 2025 17:05:33 +0200 (CEST) Received: from mail-pl1-f227.google.com (mail-pl1-f227.google.com [209.85.214.227]) by mails.dpdk.org (Postfix) with ESMTP id 7227C40156 for ; Sat, 25 Oct 2025 17:05:32 +0200 (CEST) Received: by mail-pl1-f227.google.com with SMTP id d9443c01a7336-27c369f8986so27497345ad.3 for ; Sat, 25 Oct 2025 08:05:32 -0700 (PDT) DKIM-Signature: v=1; a=rsa-sha256; c=relaxed/relaxed; d=iol.unh.edu; s=unh-iol; t=1761404731; x=1762009531; darn=dpdk.org; h=cc:to:from:subject:message-id:date:from:to:cc:subject:date :message-id:reply-to; bh=MexQNHLtOj1iCadRPS7hWJs5O9K5ujJIYXUgaO+Z8UM=; b=hQNjbF6CJWS8d/z+Y6fxcdUk89tT9tEUrSEmT9bqd8mr8EShwCv6Wmccgsrq/e8VTT j7Gw9ehpu7ZEGyY1V3O64i0VZDaODL8PBQVXZnj2BYhifssrMiHug5Jol6EPE5f3tldl eALjyIT1oxU2z+oiwOlyXjXNcQ4yoARiv6a2g= X-Google-DKIM-Signature: v=1; a=rsa-sha256; c=relaxed/relaxed; d=1e100.net; s=20230601; t=1761404731; x=1762009531; h=cc:to:from:subject:message-id:date:x-gm-message-state:from:to:cc :subject:date:message-id:reply-to; bh=MexQNHLtOj1iCadRPS7hWJs5O9K5ujJIYXUgaO+Z8UM=; b=L04GF/3H5c/9koDmYD/lAKzkAXwZ+7HXIBl+bWy0ePORVaFkHeXMazQefqeeI2qJM5 uiwhes6SvrekJ1qqxj34e12OhsNb8iJ3SszTSpYW7yTFtUgfjDYdmpbTFu7737nCvjwi UyCbjwlDFt/t5yRt2A6KLKtFhI5ssg0leyyRQsyESJliHDUDZamJKwIS+/x2qgTtcGjh 5dO+yl4PIhFz//e/9IexQ7rsN+XTNcgvOi7UeUq4xAC7MQaaTpiI2kOptk2KPV67ItUN 6O10i4gj9MsmhsEk1aJYwbXqjz3YzI4qvCcmVXGPmMmMsbvSxOV2ZjZUaga2WW9qJ3NH VjRg== X-Gm-Message-State: AOJu0YwPcc0i9h4WBGRbEmdeJuATQzh+tD/1Z/95gpD8CHJanXVkeOFY TW9iSQOCJZ0DYCpfyHM1gOPX3qS6IaBg0oXaBIQC369Zq+jXfTF/rKCA5o5HWoWtHsX/nvnld5N 6o1AkzV0eVqj8v273a4Niy4tMiLULkMM3/buR X-Gm-Gg: ASbGncsBu5h2akgMK7esqeguMya+tzMcLs+vDVqvPXT/KIC+HA5m2U8+/yQZZUYc7nN HOSUDcEW4PbbR9cJejJc1QiGU72FdiPZjQ9zmzkC33DrW6yTIq9FEV1CU+d1iZkBuON4sHW+8wM Cp/h0G70pFMP81K2UJmFTcLnADm3VN1VYcZi2bhQY8bg6UmykMel68gY72LO2x20pd9KSoAjsG6 AtpFe0pdFSKNXLhbNYWOEq0InTfB5+iLuS8WRDm/dCR6UBrDlA9g13LvS1IeHEckut++EIKiWp0 +oE8/Mw8jQYJNw9R5UfVmLfDD6c7x5ilimX+nh0XK0wjPDWBtA3zto3WRS04whvFVvVbbRiT3sX R5IimXfOSwOV/SLjCH+WUrQihxWtWWg4= X-Google-Smtp-Source: AGHT+IH8gToOOEH4nZPHl+ELCrZWEH8NjdgOre8ymk74BvX9JHNcEZveqqheSua4u4/HITlQaBBbt6Jw7RuV X-Received: by 2002:a17:903:11c4:b0:28e:7567:3c4b with SMTP id d9443c01a7336-2948b97fcbamr71750105ad.16.1761404731394; Sat, 25 Oct 2025 08:05:31 -0700 (PDT) Received: from postal.iol.unh.edu (postal.iol.unh.edu. [132.177.123.84]) by smtp-relay.gmail.com with ESMTPS id d9443c01a7336-29498e42ad3sm2119565ad.62.2025.10.25.08.05.31 (version=TLS1_2 cipher=ECDHE-ECDSA-AES128-GCM-SHA256 bits=128/128); Sat, 25 Oct 2025 08:05:31 -0700 (PDT) X-Relaying-Domain: iol.unh.edu Date: Sat, 25 Oct 2025 08:05:31 -0700 (PDT) Message-ID: <68fce73b.170a0220.333820.a05cSMTPIN_ADDED_MISSING@mx.google.com> Received: from [172.21.0.2] (unknown [172.18.0.240]) by postal.iol.unh.edu (Postfix) with ESMTP id 22E2E60003F4; Sat, 25 Oct 2025 11:05:30 -0400 (EDT) Subject: |SUCCESS| [GIT MASTER] 5d40aaf77852b5884e137f1588726c92feb59002 From: dpdklab@iol.unh.edu To: Test Report Cc: dpdk-test-reports@iol.unh.edu, Ajit Khaparde Content-Type: text/plain X-BeenThere: test-report@dpdk.org X-Mailman-Version: 2.1.29 Precedence: list List-Id: automatic DPDK test reports List-Unsubscribe: , List-Archive: List-Post: List-Help: List-Subscribe: , Errors-To: test-report-bounces@dpdk.org _Testing PASS_ Branch: next-net-brcm-for-next-net 5d40aaf77852b5884e137f1588726c92feb59002 --> testing pass Upstream job id: Generic-Unit-Test-DPDK#385053 Test environment and result as below: +------------------------------+----------------+---------------------------+------------------------------+--------------+ | Environment | dpdk_unit_test | cryptodev_sw_zuc_autotest | cryptodev_sw_snow3g_autotest | lpm_autotest | +==============================+================+===========================+==============================+==============+ | CentOS Stream 9 | PASS | SKIPPED | SKIPPED | SKIPPED | +------------------------------+----------------+---------------------------+------------------------------+--------------+ | Fedora Linux 40 | PASS | SKIPPED | SKIPPED | SKIPPED | +------------------------------+----------------+---------------------------+------------------------------+--------------+ | CentOS Stream 10 | PASS | SKIPPED | SKIPPED | SKIPPED | +------------------------------+----------------+---------------------------+------------------------------+--------------+ | Fedora Linux 41 | PASS | SKIPPED | SKIPPED | SKIPPED | +------------------------------+----------------+---------------------------+------------------------------+--------------+ | Fedora Linux 42 | PASS | SKIPPED | SKIPPED | SKIPPED | +------------------------------+----------------+---------------------------+------------------------------+--------------+ | Debian GNU/Linux 12 | PASS | SKIPPED | SKIPPED | SKIPPED | +------------------------------+----------------+---------------------------+------------------------------+--------------+ | Ubuntu 22.04 | PASS | SKIPPED | SKIPPED | SKIPPED | +------------------------------+----------------+---------------------------+------------------------------+--------------+ | Ubuntu 20.04 | PASS | SKIPPED | SKIPPED | PASS | +------------------------------+----------------+---------------------------+------------------------------+--------------+ | Red Hat Enterprise Linux 9.5 | PASS | SKIPPED | SKIPPED | SKIPPED | +------------------------------+----------------+---------------------------+------------------------------+--------------+ | Ubuntu 24.04 | PASS | SKIPPED | SKIPPED | SKIPPED | +------------------------------+----------------+---------------------------+------------------------------+--------------+ | Debian 12 (arm) | SKIPPED | PASS | PASS | SKIPPED | +------------------------------+----------------+---------------------------+------------------------------+--------------+ CentOS Stream 9 Kernel: 5.4 Compiler: gcc gcc (GCC) 11.5.0 20240719 (Red Hat 11.5.0-11) Fedora Linux 40 Kernel: 5.4 Compiler: clang gcc (GCC) 14.2.1 20240912 (Red Hat 14.2.1-3) CentOS Stream 10 Kernel: 5.4 Compiler: gcc gcc (GCC) 14.2.1 20250110 (Red Hat 14.2.1-8) Fedora Linux 41 Kernel: 5.4 Compiler: clang gcc (GCC) 14.3.1 20250523 (Red Hat 14.3.1-1) Fedora Linux 42 Kernel: 5.4 Compiler: gcc gcc (GCC) 15.2.1 20250808 (Red Hat 15.2.1-1) Debian GNU/Linux 12 Kernel: 5.4 Compiler: gcc gcc (Debian 12.2.0-14+deb12u1) 12.2.0 Ubuntu 22.04 Kernel: 5.15 Compiler: gcc gcc (Ubuntu 11.4.0-1ubuntu1~22.04.2) 11.4.0 Ubuntu 20.04 Kernel: 5.4 Compiler: gcc gcc (Ubuntu 9.4.0-1ubuntu1~20.04.2) 9.4.0 Red Hat Enterprise Linux 9.5 Kernel: 5.4 Compiler: gcc gcc (GCC) 11.5.0 20240719 (Red Hat 11.5.0-2) Ubuntu 24.04 Kernel: 5.4 Compiler: gcc gcc (Ubuntu 13.3.0-6ubuntu2~24.04) 13.3.0 Debian 12 (arm) Kernel: Depends on container host Compiler: gcc (Debian 12.2.0-14) 12.2.0 To view detailed results, visit: https://lab.dpdk.org/results/dashboard/tarballs/35333/ UNH-IOL DPDK Community Lab To manage your email subscriptions, visit: https://lab.dpdk.org/results/dashboard/preferences/subscriptions/