From mboxrd@z Thu Jan 1 00:00:00 1970 Return-Path: Received: from mails.dpdk.org (mails.dpdk.org [217.70.189.124]) by inbox.dpdk.org (Postfix) with ESMTP id D2489489D4 for ; Sat, 25 Oct 2025 17:09:03 +0200 (CEST) Received: from mails.dpdk.org (localhost [127.0.0.1]) by mails.dpdk.org (Postfix) with ESMTP id B37A540156; Sat, 25 Oct 2025 17:09:03 +0200 (CEST) Received: from mail-io1-f98.google.com (mail-io1-f98.google.com [209.85.166.98]) by mails.dpdk.org (Postfix) with ESMTP id 6133140156 for ; Sat, 25 Oct 2025 17:09:02 +0200 (CEST) Received: by mail-io1-f98.google.com with SMTP id ca18e2360f4ac-94359aa7f60so90620439f.0 for ; Sat, 25 Oct 2025 08:09:02 -0700 (PDT) DKIM-Signature: v=1; a=rsa-sha256; c=relaxed/relaxed; d=iol.unh.edu; s=unh-iol; t=1761404941; x=1762009741; darn=dpdk.org; h=references:in-reply-to:cc:to:from:subject:message-id:date:from:to :cc:subject:date:message-id:reply-to; bh=kkVzFMV/OK+dKb9xlNDxUeggEFTP12jcPhpXw/W8GAc=; b=dHm1lc2PY+hgj9jB6l+HGXbetHzb0mOCl2NfRUEI6ht2ZJj5R7z+PDC8Au5Fkxe5Qi EEaGQi/G/oS67fvFfH9YcpFSjwbFhFgAx/WQBez+rlXSdjrIdTHy7o9fqktHcy/DAqa8 pa8GYq8ShXa2nQ2HckhJNHsSDnHmU9/aSBi8w= X-Google-DKIM-Signature: v=1; a=rsa-sha256; c=relaxed/relaxed; d=1e100.net; s=20230601; t=1761404941; x=1762009741; h=references:in-reply-to:cc:to:from:subject:message-id:date :x-gm-message-state:from:to:cc:subject:date:message-id:reply-to; bh=kkVzFMV/OK+dKb9xlNDxUeggEFTP12jcPhpXw/W8GAc=; b=JtOI0S0SdM5YdCSqOg7/4z3v5ZedxPqMSd0RQvqvbuCt9peNFCxX6kCRYAvC6w5YSO 9P9SgSQ5jIOFgfA5ZzlQb0D0czFbkN2+sfFJaUf/AX00mkaj8gK+9kUPOMYiAeoFeOiO rAj3RUvxVt0B1XZhj9Wf0Gpn5Zso+C4czm06bPTSX0/EjaUISlb3n1g4rq5vriVAVcvl +Lnw3sxjL8vEYDxv/Yi6nNhUZ8g4Vsd0Sf7O5cecgk0zTWTWYIs3W5xmMe4QR9rUeC0P kg54GhZQeYfgbzkQzfqFFV1Iw1OVSky7BoNiT0i0rcDP1hK7tjT/xFcmiS8UHrtf2F5F VQ3A== X-Gm-Message-State: AOJu0YzV9+aR5WfN4mkdhoYYIrWYEYpkZa5ZFW6QguKWyKb/p7nQ+0Yq EfjKJO/MHlwpb9196O2RP2jaEOeH+OFRqls+KIuD4dpuyqmcDrXYbXh7dWK6cu56RRfxsZWauCz X8bETEZw2DpYb9AlGhi8ny/gMIZkmMXzpp2ueaO987RBO X-Gm-Gg: ASbGnctpK54YWn3YGFKSLUjRRRpxgBgt/UxfuHNqnMqfVbjXe7Hu/b5xBdrRYbrPo9/ n8rUG3L3vwhuzv1o0HfGf7NzZu551L/fXk9Hfcpw6k8qdNFCGalxX3x8WI2yNGkfbZgIgeKFwmW xdB9p4kxK8FPKbCgeI2fh7yT6/FQrfkI5bhJfTaGgwgJiUJJ0uvlOOGzSAwEfMORwyk5VUeZ1ix 237Y1Jw2YIy0GS1fvFurrXRHib+RW4yeRHDrHxupNnKaKEix+pdxj8YtJJmZeAcf08MzfBlGKDO WZM7p/DHGNTgL7ovsADlpDu0tVcn5G+/9QeW0qRe0dYwAxifHzdEQeXyq6W3wKvd+6+jWex7tIR YfqTsq5FjdCE2iW1iIUYqpnzKXr3ayoY= X-Google-Smtp-Source: AGHT+IGWpyk/lXqkrnVqTPOzZRhnyxBAKmKroUfx/PuYJ1kfL35QbigN6VtaHbaVhRuvLIz5G55/da7BOqDD X-Received: by 2002:a05:6e02:4617:b0:431:d3b2:fc09 with SMTP id e9e14a558f8ab-431d3b303bemr176843005ab.9.1761404941600; Sat, 25 Oct 2025 08:09:01 -0700 (PDT) Received: from postal.iol.unh.edu (postal.iol.unh.edu. [132.177.123.84]) by smtp-relay.gmail.com with ESMTPS id e9e14a558f8ab-431f67f7d9csm1999015ab.8.2025.10.25.08.09.01 (version=TLS1_2 cipher=ECDHE-ECDSA-AES128-GCM-SHA256 bits=128/128); Sat, 25 Oct 2025 08:09:01 -0700 (PDT) X-Relaying-Domain: iol.unh.edu Date: Sat, 25 Oct 2025 08:09:01 -0700 (PDT) Message-ID: <68fce80d.050a0220.cc626.992dSMTPIN_ADDED_MISSING@mx.google.com> Received: from [172.21.0.2] (unknown [172.18.0.240]) by postal.iol.unh.edu (Postfix) with ESMTP id 1F31A6051835; Sat, 25 Oct 2025 11:09:01 -0400 (EDT) Subject: |WARNING| pw158089-158090 [PATCH] [v3,2/2] dts: add QinQ test suite From: dpdklab@iol.unh.edu To: Test Report Cc: dpdk-test-reports@iol.unh.edu In-Reply-To: <20251024181606.604135-2-dmarx@iol.unh.edu> References: <20251024181606.604135-2-dmarx@iol.unh.edu> Content-Type: text/plain X-BeenThere: test-report@dpdk.org X-Mailman-Version: 2.1.29 Precedence: list List-Id: automatic DPDK test reports List-Unsubscribe: , List-Archive: List-Post: List-Help: List-Subscribe: , Errors-To: test-report-bounces@dpdk.org Test-Label: iol-compile-amd64-testing Test-Status: WARNING http://dpdk.org/patch/158090 _Testing issues_ Submitter: Dean Marx Date: Friday, October 24 2025 18:16:06 DPDK git baseline: Repo:dpdk-next-dts Branch: master CommitID:c1abcee5a9656fb4890b733e6051aa604c60f146 158089-158090 --> testing issues Upstream job id: Generic-DPDK-Compile-Meson#437613 Test environment and result as below: +---------------------+--------------------+-------------------+-------------------------+----------------------+-------------------+ | Environment | dpdk_meson_compile | dpdk_msvc_compile | dpdk_llvm_clang_compile | dpdk_mingw64_compile | dpdk_compile_spdk | +=====================+====================+===================+=========================+======================+===================+ | Ubuntu 20.04 | PASS | SKIPPED | SKIPPED | SKIPPED | SKIPPED | +---------------------+--------------------+-------------------+-------------------------+----------------------+-------------------+ | FreeBSD 14.2 | PASS | SKIPPED | SKIPPED | SKIPPED | SKIPPED | +---------------------+--------------------+-------------------+-------------------------+----------------------+-------------------+ | CentOS Stream 9 | PASS | SKIPPED | SKIPPED | SKIPPED | WARN | +---------------------+--------------------+-------------------+-------------------------+----------------------+-------------------+ | Windows Server 2022 | SKIPPED | PASS | PASS | PASS | SKIPPED | +---------------------+--------------------+-------------------+-------------------------+----------------------+-------------------+ ==== 20 line log output for CentOS Stream 9 (dpdk_compile_spdk): ==== --- Failed to get log output --- ==== End log output ==== Ubuntu 20.04 Kernel: 4.19 Compiler: gcc gcc (Ubuntu 9.4.0-1ubuntu1~20.04.2) 9.4.0 FreeBSD 14.2 Kernel: 14.2-RELEASE Compiler: clang 18.1.6 CentOS Stream 9 Kernel: 5.15 Compiler: gcc gcc (GCC) 11.5.0 20240719 (Red Hat 11.5.0-11) Windows Server 2022 Kernel: 10.0.20348.2031 Compiler: clang 15.0.7, gcc 14.1.0 (MinGW), and MSVC VS 19.39.33521 To view detailed results, visit: https://lab.dpdk.org/results/dashboard/patchsets/34375/ UNH-IOL DPDK Community Lab To manage your email subscriptions, visit: https://lab.dpdk.org/results/dashboard/preferences/subscriptions/