From mboxrd@z Thu Jan 1 00:00:00 1970 Return-Path: Received: from mails.dpdk.org (mails.dpdk.org [217.70.189.124]) by inbox.dpdk.org (Postfix) with ESMTP id E6E63489D5 for ; Sat, 25 Oct 2025 18:02:03 +0200 (CEST) Received: from mails.dpdk.org (localhost [127.0.0.1]) by mails.dpdk.org (Postfix) with ESMTP id CCD2040156; Sat, 25 Oct 2025 18:02:03 +0200 (CEST) Received: from mail-yw1-f228.google.com (mail-yw1-f228.google.com [209.85.128.228]) by mails.dpdk.org (Postfix) with ESMTP id 534E240156 for ; Sat, 25 Oct 2025 18:02:03 +0200 (CEST) Received: by mail-yw1-f228.google.com with SMTP id 00721157ae682-7815092cd0bso37770077b3.2 for ; Sat, 25 Oct 2025 09:02:03 -0700 (PDT) DKIM-Signature: v=1; a=rsa-sha256; c=relaxed/relaxed; d=iol.unh.edu; s=unh-iol; t=1761408122; x=1762012922; darn=dpdk.org; h=references:in-reply-to:cc:to:from:subject:message-id:date:from:to :cc:subject:date:message-id:reply-to; bh=Jhbl8/wJgWLa8Zhzdcz2Igw3Qa3CBJcZAHlM9Pvf2u4=; b=It6cfhT9P2cxa2LFiJrQVMD3Ek/mrSON5DxZ4BtXQfoOBE4Dis61LdRFcV2vNeB+x+ WINkzdOwfy3HIIpCyBhpzkEB0IKq3M131H1mf9gR5gFnPFy424YMq3zjJjaLFdF2vK6F aN3Qln2RExo11HPcsafDuPGMqpN2nEb2eMhoQ= X-Google-DKIM-Signature: v=1; a=rsa-sha256; c=relaxed/relaxed; d=1e100.net; s=20230601; t=1761408122; x=1762012922; h=references:in-reply-to:cc:to:from:subject:message-id:date :x-gm-message-state:from:to:cc:subject:date:message-id:reply-to; bh=Jhbl8/wJgWLa8Zhzdcz2Igw3Qa3CBJcZAHlM9Pvf2u4=; b=Hxvl5ZaraOR+aGcYz6oZNq0nblr5Y5aPNvcJcCPnwKxJrdi12NCUimZeEI/+78GZIM aeS7PEI/4Ehj637NfnOOpajRrn9RkaHLUaFfwD7WbcZ0OiZyR8k8g5jg2ZUPhY0m2FpP RFLVM/bAQEekegBtKGpOwZFNiL5nD+1InSWLzcOrstYX2Tkux+LQjZ40ZL4IYHo9bjbZ NYnmnRLa6cmWQnfo0sO+wQ5j+IfoSXYAJ3gT++9eMZ9kjtIS/mQDpBULckTSbguv5h0H ioMYRy9/zPjz3trlYzAsLZDTDdSW/NVGDNcHEiizl6d0kZ3i1JKEShMi0CSkbLNeiFk1 fQzw== X-Gm-Message-State: AOJu0YwMvahQk/lSRq3PSX6j19fg1JfUNRH8AAXBDO3KIsE1VDlEOYxC 4wn9cFuwgNSp/rpF8+692I6cli7un8z3+tJVLEblYSYNXJd44OClLv7Ipv4KCdBuo4pnapor8SS N69w8xmWPYW2y8LT2zeway7F2fpdnfcMw52R8FlrQ3oVm X-Gm-Gg: ASbGnctQDjJDEu86L1oD4elRLVTpWKaLrI7LxKsHH/m3AnD3Mrje/e557TS2Ns3m0Rx zGgOuNTRTDppnAD3Ao1CrJz+siAB5VsrNGwIeMD0XikpmGYxIZEPH7S9BOocN7ZRg4TQYBQBTDi 7hxog2ckbXORlNh01MoeLBVeJebvlx1ilkpv8sob28ym32+kDZig5eFq4+Odo0oD2Q23seqhfY3 eqgtL4J6DN6ebLgTG9wT3uPf0GtWfHJvDDEiYov7vLR5h1i4Wsc8piSjPs9nhtWwcNx5mDTyoHn HAnCYhb4Wq0oztE0SrXv1E0/Jb99w+IHgbPORKbAE8YjZkwIaISen1+edR3n7Fcfa4C6udBhRXy OaVZfUm0hsTIHITYVewJiGl7k3fEJn68= X-Google-Smtp-Source: AGHT+IGrtCRge27KvlWsP5LJ1ADmpkjzxHiNLok0ZNE39F+CH2GTSQVZihruAeu637PbJxV2v+1V8OpADgIi X-Received: by 2002:a05:690c:4b13:b0:783:7266:58ee with SMTP id 00721157ae682-78372666210mr509365827b3.7.1761408122519; Sat, 25 Oct 2025 09:02:02 -0700 (PDT) Received: from postal.iol.unh.edu (postal.iol.unh.edu. [132.177.123.84]) by smtp-relay.gmail.com with ESMTPS id 956f58d0204a3-63f4c3e36a2sm201731d50.8.2025.10.25.09.02.02 (version=TLS1_2 cipher=ECDHE-ECDSA-AES128-GCM-SHA256 bits=128/128); Sat, 25 Oct 2025 09:02:02 -0700 (PDT) X-Relaying-Domain: iol.unh.edu Date: Sat, 25 Oct 2025 09:02:02 -0700 (PDT) Message-ID: <68fcf47a.050a0220.363b81.a029SMTPIN_ADDED_MISSING@mx.google.com> Received: from [172.21.0.2] (unknown [172.18.0.240]) by postal.iol.unh.edu (Postfix) with ESMTP id 2DA416051830; Sat, 25 Oct 2025 12:02:02 -0400 (EDT) Subject: |WARNING| pw158089-158090 [PATCH] [v3,2/2] dts: add QinQ test suite From: dpdklab@iol.unh.edu To: Test Report Cc: dpdk-test-reports@iol.unh.edu In-Reply-To: <20251024181606.604135-2-dmarx@iol.unh.edu> References: <20251024181606.604135-2-dmarx@iol.unh.edu> Content-Type: text/plain X-BeenThere: test-report@dpdk.org X-Mailman-Version: 2.1.29 Precedence: list List-Id: automatic DPDK test reports List-Unsubscribe: , List-Archive: List-Post: List-Help: List-Subscribe: , Errors-To: test-report-bounces@dpdk.org Test-Label: iol-compile-amd64-testing Test-Status: WARNING http://dpdk.org/patch/158090 _Testing issues_ Submitter: Dean Marx Date: Friday, October 24 2025 18:16:06 DPDK git baseline: Repo:dpdk-next-dts Branch: master CommitID:c1abcee5a9656fb4890b733e6051aa604c60f146 158089-158090 --> testing issues Upstream job id: Generic-DPDK-Compile-Meson#437616 Test environment and result as below: +-------------------------------+--------------------+-------------------+-------------------------+----------------------+-------------------+------------------+ | Environment | dpdk_meson_compile | dpdk_msvc_compile | dpdk_llvm_clang_compile | dpdk_mingw64_compile | dpdk_compile_spdk | dpdk_compile_ovs | +===============================+====================+===================+=========================+======================+===================+==================+ | Ubuntu 20.04 | PASS | SKIPPED | SKIPPED | SKIPPED | SKIPPED | SKIPPED | +-------------------------------+--------------------+-------------------+-------------------------+----------------------+-------------------+------------------+ | FreeBSD 14.2 | PASS | SKIPPED | SKIPPED | SKIPPED | SKIPPED | SKIPPED | +-------------------------------+--------------------+-------------------+-------------------------+----------------------+-------------------+------------------+ | CentOS Stream 9 | PASS | SKIPPED | SKIPPED | SKIPPED | WARN | SKIPPED | +-------------------------------+--------------------+-------------------+-------------------------+----------------------+-------------------+------------------+ | CentOS Stream 10 | PASS | SKIPPED | SKIPPED | SKIPPED | SKIPPED | SKIPPED | +-------------------------------+--------------------+-------------------+-------------------------+----------------------+-------------------+------------------+ | Debian GNU/Linux 12 | PASS | SKIPPED | SKIPPED | SKIPPED | WARN | SKIPPED | +-------------------------------+--------------------+-------------------+-------------------------+----------------------+-------------------+------------------+ | Fedora Linux 42 | PASS | SKIPPED | SKIPPED | SKIPPED | WARN | PASS | +-------------------------------+--------------------+-------------------+-------------------------+----------------------+-------------------+------------------+ | openSUSE Leap 15.6 | PASS | SKIPPED | SKIPPED | SKIPPED | SKIPPED | SKIPPED | +-------------------------------+--------------------+-------------------+-------------------------+----------------------+-------------------+------------------+ | Red Hat Enterprise Linux 8.10 | PASS | SKIPPED | SKIPPED | SKIPPED | SKIPPED | SKIPPED | +-------------------------------+--------------------+-------------------+-------------------------+----------------------+-------------------+------------------+ | Red Hat Enterprise Linux 9.5 | PASS | SKIPPED | SKIPPED | SKIPPED | SKIPPED | SKIPPED | +-------------------------------+--------------------+-------------------+-------------------------+----------------------+-------------------+------------------+ | Ubuntu 22.04 | PASS | SKIPPED | SKIPPED | SKIPPED | WARN | SKIPPED | +-------------------------------+--------------------+-------------------+-------------------------+----------------------+-------------------+------------------+ | Ubuntu 24.04 | PASS | SKIPPED | SKIPPED | SKIPPED | WARN | PASS | +-------------------------------+--------------------+-------------------+-------------------------+----------------------+-------------------+------------------+ | Windows Server 2022 | SKIPPED | PASS | PASS | PASS | SKIPPED | SKIPPED | +-------------------------------+--------------------+-------------------+-------------------------+----------------------+-------------------+------------------+ ==== 20 line log output for Ubuntu 24.04 (dpdk_compile_spdk): ==== --- Failed to get log output --- ==== End log output ==== Ubuntu 20.04 Kernel: 4.19 Compiler: gcc gcc (Ubuntu 9.4.0-1ubuntu1~20.04.2) 9.4.0 FreeBSD 14.2 Kernel: 14.2-RELEASE Compiler: clang 18.1.6 CentOS Stream 9 Kernel: 5.15 Compiler: gcc gcc (GCC) 11.5.0 20240719 (Red Hat 11.5.0-11) CentOS Stream 10 Kernel: 5.15 Compiler: gcc gcc (GCC) 14.2.1 20250110 (Red Hat 14.2.1-8) Debian GNU/Linux 12 Kernel: 5.15 Compiler: gcc gcc (Debian 12.2.0-14+deb12u1) 12.2.0 Fedora Linux 42 Kernel: 5.15 Compiler: clang gcc (GCC) 15.2.1 20250808 (Red Hat 15.2.1-1) openSUSE Leap 15.6 Kernel: 5.15 Compiler: gcc gcc (SUSE Linux) 7.5.0 Red Hat Enterprise Linux 8.10 Kernel: 5.15 Compiler: gcc gcc (GCC) 8.5.0 20210514 (Red Hat 8.5.0-22) Red Hat Enterprise Linux 9.5 Kernel: 5.15 Compiler: gcc gcc (GCC) 11.5.0 20240719 (Red Hat 11.5.0-2) Ubuntu 22.04 Kernel: 5.15 Compiler: gcc gcc (Ubuntu 11.4.0-1ubuntu1~22.04) 11.4.0 Ubuntu 24.04 Kernel: 5.15 Compiler: gcc gcc (Ubuntu 13.3.0-6ubuntu2~24.04) 13.3.0 Windows Server 2022 Kernel: 10.0.20348.2031 Compiler: clang 15.0.7, gcc 14.1.0 (MinGW), and MSVC VS 19.39.33521 To view detailed results, visit: https://lab.dpdk.org/results/dashboard/patchsets/34375/ UNH-IOL DPDK Community Lab To manage your email subscriptions, visit: https://lab.dpdk.org/results/dashboard/preferences/subscriptions/