From mboxrd@z Thu Jan 1 00:00:00 1970 Return-Path: Received: from mails.dpdk.org (mails.dpdk.org [217.70.189.124]) by inbox.dpdk.org (Postfix) with ESMTP id BF564489D5 for ; Sat, 25 Oct 2025 18:11:47 +0200 (CEST) Received: from mails.dpdk.org (localhost [127.0.0.1]) by mails.dpdk.org (Postfix) with ESMTP id 9F2F540156; Sat, 25 Oct 2025 18:11:47 +0200 (CEST) Received: from mail-yx1-f98.google.com (mail-yx1-f98.google.com [74.125.224.98]) by mails.dpdk.org (Postfix) with ESMTP id D40FF40156 for ; Sat, 25 Oct 2025 18:11:46 +0200 (CEST) Received: by mail-yx1-f98.google.com with SMTP id 956f58d0204a3-63e35e48a27so3161924d50.0 for ; Sat, 25 Oct 2025 09:11:46 -0700 (PDT) DKIM-Signature: v=1; a=rsa-sha256; c=relaxed/relaxed; d=iol.unh.edu; s=unh-iol; t=1761408706; x=1762013506; darn=dpdk.org; h=references:in-reply-to:cc:to:from:subject:message-id:date:from:to :cc:subject:date:message-id:reply-to; bh=qFARBfNIEbF47FGv5NhbppKFVTfC/4jlvZ6y8n6rReE=; b=FSm+cJmMYsLEFm5L8Sd6Z41HKItMzglAgXKEEJRP/PEc+Q3+JIShcqwAA2AXmSQgw4 bTraDx+/kTapObVJ2NeSqICyBDSKRQqGtT3Bo0u2p1fdTGL60sUcNxSEIrv4UmY8A8GN M0WKRMt5rJux7uHiSKxcoT3GoZxgjD5peVyUk= X-Google-DKIM-Signature: v=1; a=rsa-sha256; c=relaxed/relaxed; d=1e100.net; s=20230601; t=1761408706; x=1762013506; h=references:in-reply-to:cc:to:from:subject:message-id:date :x-gm-message-state:from:to:cc:subject:date:message-id:reply-to; bh=qFARBfNIEbF47FGv5NhbppKFVTfC/4jlvZ6y8n6rReE=; b=AO6QnjhbLSz4qQ5wNLCJNwUc4+/R1IuXJyM+uG/r19/WR8te3Z0MsCIftXOjIWP3/6 cSYUPrdY6XqxEa364gonYko6/LxlEykrq/3uNLwRRPEKgvBngZckB6DqeO2i7jkbAzxl YsmUMX7cQAVe+wN0H+fiCu1IFtC+NrG1PazMMdQnX2pVO0OOYjo9HtpVXoqiHzEtdmZ/ A08ATIHNeqIZ/tBNyxkyU8q2mGVq0oOnE13RYjg34lOGUecrHkeqbmKXcrKyQJUKwYPp y2iHmDeJ2yPzg7bfjWuNsNgqeKmMnrQLKh8u81PEhs+ad2SnZ8JbgKewUbbrk23vaAi/ x9wA== X-Gm-Message-State: AOJu0Yy38XatNDiivzkADeRo/FYyDT2zr3Ts/pVY4aAUBhmBdKEjVxtA mRWdf0ZH+++8t79y7f4397pIsbyn4CL95lMcds3117OS2kwsEA6eQ6FwJ8mV+gF+cnxQLopgqxo TI27U0AOyHTf0xlonUh3MkekEHRmxefwhTpnvXcYbeN9T X-Gm-Gg: ASbGncs7f/vryMn+XKtO+qJhSRucvgQqeMQufSAe6lXPN3XwuebbXvHPbQtpYi0zLAN BqKGbJPycKHIV1WQWyPUDsx8Hosor59PBKXO6x9UVg5vfSmD/wPJEHO3MTZrJemL9owt0ffeL+m pKbe65e2A7Onl+eXOa1IToSrDDg1eVhPXnGQITVtyYo68qYNploFoFlwQXN8tBOBSoJ//G7iIuI n/Ek/yhJ8TIxDXdu1sIohMGz8rUm3Yt4NCZ2IFjRvO/NzzmZNtOHkJqqyg/Pysat7aZuoaTKQsm GGPjrq5QlYToBH+Tyx/KNivSirWEgc03rQf1S04UkodHYc9e/cvIgeWIXOIt9Tz3nIXl6zDVTFT isRaWLG+Yom32bQ5UlZgBVN95uYXimis= X-Google-Smtp-Source: AGHT+IHBde1qygtHAq+r1jYibtvetCRiA0qhPt+DEzuOkKakYdGvvAQl4LyZ1ye4Z5gF5eIe5KTeRSzrbXNZ X-Received: by 2002:a05:690e:1513:b0:63f:4db1:82a5 with SMTP id 956f58d0204a3-63f4db185a3mr1599251d50.16.1761408706076; Sat, 25 Oct 2025 09:11:46 -0700 (PDT) Received: from postal.iol.unh.edu (postal.iol.unh.edu. [132.177.123.84]) by smtp-relay.gmail.com with ESMTPS id 00721157ae682-785ed19bcf8sm1598837b3.16.2025.10.25.09.11.46 (version=TLS1_2 cipher=ECDHE-ECDSA-AES128-GCM-SHA256 bits=128/128); Sat, 25 Oct 2025 09:11:46 -0700 (PDT) X-Relaying-Domain: iol.unh.edu Date: Sat, 25 Oct 2025 09:11:46 -0700 (PDT) Message-ID: <68fcf6c2.050a0220.f7659.7df0SMTPIN_ADDED_MISSING@mx.google.com> Received: from [172.21.0.2] (unknown [172.18.0.240]) by postal.iol.unh.edu (Postfix) with ESMTP id AC92C6051830; Sat, 25 Oct 2025 12:11:45 -0400 (EDT) Subject: |SUCCESS| pw158086-158088 [PATCH] [v3,3/3] dts: add virtio forwardin From: dpdklab@iol.unh.edu To: Test Report Cc: dpdk-test-reports@iol.unh.edu In-Reply-To: <20251024174702.600147-3-dmarx@iol.unh.edu> References: <20251024174702.600147-3-dmarx@iol.unh.edu> Content-Type: text/plain X-BeenThere: test-report@dpdk.org X-Mailman-Version: 2.1.29 Precedence: list List-Id: automatic DPDK test reports List-Unsubscribe: , List-Archive: List-Post: List-Help: List-Subscribe: , Errors-To: test-report-bounces@dpdk.org Test-Label: iol-unit-arm64-testing Test-Status: SUCCESS http://dpdk.org/patch/158088 _Testing PASS_ Submitter: Dean Marx Date: Friday, October 24 2025 17:47:00 DPDK git baseline: Repo:dpdk-next-dts Branch: master CommitID:c1abcee5a9656fb4890b733e6051aa604c60f146 158086-158088 --> testing pass Upstream job id: Generic-Unit-Test-DPDK#385072 Test environment and result as below: +------------------------------+--------------+---------------------------+------------------------------+----------------+ | Environment | lpm_autotest | cryptodev_sw_zuc_autotest | cryptodev_sw_snow3g_autotest | dpdk_unit_test | +==============================+==============+===========================+==============================+================+ | Ubuntu 20.04 | PASS | SKIPPED | SKIPPED | PASS | +------------------------------+--------------+---------------------------+------------------------------+----------------+ | Debian 12 (arm) | SKIPPED | PASS | PASS | SKIPPED | +------------------------------+--------------+---------------------------+------------------------------+----------------+ | CentOS Stream 9 | SKIPPED | SKIPPED | SKIPPED | PASS | +------------------------------+--------------+---------------------------+------------------------------+----------------+ | Debian GNU/Linux 12 | SKIPPED | SKIPPED | SKIPPED | PASS | +------------------------------+--------------+---------------------------+------------------------------+----------------+ | CentOS Stream 10 | SKIPPED | SKIPPED | SKIPPED | PASS | +------------------------------+--------------+---------------------------+------------------------------+----------------+ | Fedora Linux 40 | SKIPPED | SKIPPED | SKIPPED | PASS | +------------------------------+--------------+---------------------------+------------------------------+----------------+ | Fedora Linux 41 | SKIPPED | SKIPPED | SKIPPED | PASS | +------------------------------+--------------+---------------------------+------------------------------+----------------+ | Fedora Linux 42 | SKIPPED | SKIPPED | SKIPPED | PASS | +------------------------------+--------------+---------------------------+------------------------------+----------------+ | Ubuntu 22.04 | SKIPPED | SKIPPED | SKIPPED | PASS | +------------------------------+--------------+---------------------------+------------------------------+----------------+ | Red Hat Enterprise Linux 9.5 | SKIPPED | SKIPPED | SKIPPED | PASS | +------------------------------+--------------+---------------------------+------------------------------+----------------+ | Ubuntu 24.04 | SKIPPED | SKIPPED | SKIPPED | PASS | +------------------------------+--------------+---------------------------+------------------------------+----------------+ Ubuntu 20.04 Kernel: 5.4 Compiler: gcc gcc (Ubuntu 9.4.0-1ubuntu1~20.04.2) 9.4.0 Debian 12 (arm) Kernel: Depends on container host Compiler: gcc (Debian 12.2.0-14) 12.2.0 CentOS Stream 9 Kernel: 5.4 Compiler: gcc gcc (GCC) 11.5.0 20240719 (Red Hat 11.5.0-11) Debian GNU/Linux 12 Kernel: 5.4 Compiler: gcc gcc (Debian 12.2.0-14+deb12u1) 12.2.0 CentOS Stream 10 Kernel: 5.4 Compiler: gcc gcc (GCC) 14.2.1 20250110 (Red Hat 14.2.1-8) Fedora Linux 40 Kernel: 5.4 Compiler: gcc gcc (GCC) 14.2.1 20240912 (Red Hat 14.2.1-3) Fedora Linux 41 Kernel: 5.4 Compiler: gcc gcc (GCC) 14.3.1 20250523 (Red Hat 14.3.1-1) Fedora Linux 42 Kernel: 5.4 Compiler: gcc gcc (GCC) 15.2.1 20250808 (Red Hat 15.2.1-1) Ubuntu 22.04 Kernel: 5.15 Compiler: gcc gcc (Ubuntu 11.4.0-1ubuntu1~22.04.2) 11.4.0 Red Hat Enterprise Linux 9.5 Kernel: 5.4 Compiler: gcc gcc (GCC) 11.5.0 20240719 (Red Hat 11.5.0-2) Ubuntu 24.04 Kernel: 5.4 Compiler: gcc gcc (Ubuntu 13.3.0-6ubuntu2~24.04) 13.3.0 To view detailed results, visit: https://lab.dpdk.org/results/dashboard/patchsets/34374/ UNH-IOL DPDK Community Lab To manage your email subscriptions, visit: https://lab.dpdk.org/results/dashboard/preferences/subscriptions/