From mboxrd@z Thu Jan 1 00:00:00 1970 Return-Path: Received: from mails.dpdk.org (mails.dpdk.org [217.70.189.124]) by inbox.dpdk.org (Postfix) with ESMTP id 2FCCF489D5 for ; Sat, 25 Oct 2025 18:29:41 +0200 (CEST) Received: from mails.dpdk.org (localhost [127.0.0.1]) by mails.dpdk.org (Postfix) with ESMTP id 0DD9A40156; Sat, 25 Oct 2025 18:29:41 +0200 (CEST) Received: from mail-yx1-f100.google.com (mail-yx1-f100.google.com [74.125.224.100]) by mails.dpdk.org (Postfix) with ESMTP id B6B7340156 for ; Sat, 25 Oct 2025 18:29:39 +0200 (CEST) Received: by mail-yx1-f100.google.com with SMTP id 956f58d0204a3-6360397e8c7so3537184d50.0 for ; Sat, 25 Oct 2025 09:29:39 -0700 (PDT) DKIM-Signature: v=1; a=rsa-sha256; c=relaxed/relaxed; d=iol.unh.edu; s=unh-iol; t=1761409779; x=1762014579; darn=dpdk.org; h=references:in-reply-to:cc:to:from:subject:message-id:date:from:to :cc:subject:date:message-id:reply-to; bh=JtN/bLVCoEn2FxLAKIp+c6fEqaaSvnsXBKBEmBO4s7E=; b=H4eJ//fOBnk0jr9q9gSG7er0Lhji/ojc7xabhYV8uq6cR+iFCLtCkc27YFc+QFqzme lom8oCeL13C2I50qtvT+HUN//vnXp6tgSravC0uF37nO3g7DjQWpba0M2CTMfGru7mM+ xcHsnakGRhlZtl/GKlSncbSIhYUgEOnhQ24jI= X-Google-DKIM-Signature: v=1; a=rsa-sha256; c=relaxed/relaxed; d=1e100.net; s=20230601; t=1761409779; x=1762014579; h=references:in-reply-to:cc:to:from:subject:message-id:date :x-gm-message-state:from:to:cc:subject:date:message-id:reply-to; bh=JtN/bLVCoEn2FxLAKIp+c6fEqaaSvnsXBKBEmBO4s7E=; b=Kp+T9CeSUEsilVee1NwBEEVJqnpsNfHBa6LfmXewF/aMPrNEhKatZ5zftuB3ehiNHr pZuMJtSe9x2PCtPuJlZ3y4CNXeG/Fy5SI0zF6Gbn7UIjPejdBjgxwKeZVGD1Qpu/Ofln eHhiUTZeKNO49XNoxDBGH17TSpKu/IYY6Up01xjHbFFgdMb+zBWDd7+LXHQRZ0tAY7bB riHpyL5MAhG12WZGWDlCOIx/orIU/sCAgXi/bHojJPsKQjxpL1R/HUNpHLREUKXBwSVE lDNpZ+2mePcjIuQLoaScnC591LcmJ0qH5YeBJd8jQXTQ6zaly5BS1H7iynw6VWcrXH5X NOsw== X-Gm-Message-State: AOJu0YwWXYVoUzP0r7qSpFGB0p24hqgO7+clO0ihWIpqov1rpQuziEzJ k1XDYeeI6ENnX1i1kmNopBX//VTGejgAlENZJxeBatXSrV+GqX1MZZ6fsGP2O/A1/2d9ciIOhkK bNeCH6IfVNXL635bYXXpviIt7n27QxJ/AGvlU/ex2h8arxBrrEZH4jPl4Z1le X-Gm-Gg: ASbGncvz290zgv6DSzqkefYCTHPLdgLkxsshdB0JieB/EQkRM1tONqltB7gYoVSv1AB fp6y14uxrWFXsIgpThxfD6W7YpNASstlAmLE+nmTeJW/n/zwzsSxWqzCuFtZC+dZ9QkfWFIB9iV 5jTdOMEtEtG5zEgTAJQbaYRMZQdjIO2W6YpFjV7+Da5DHhGcqP4xWuLnASuDDWK5Aki8RSDNT3/ WchekJZOV1Micqfo1B2b6gB56jErSBdL4OVu8E42wst5RScgDZZRvcEQXVKn24aWxn+cQSeOv9N b8LdRws1ajEBYfvzKDLsqZZ37yzVGCPuza1zWsnH5NNhLgLJmJI7FpmRmmDviSv6JBybuIz2Hfm gDMz3odYA X-Google-Smtp-Source: AGHT+IGeHWfUdOb+0VTiwDRXPJSUjjqMIbfZRMrhQ8761VYzq4YrIC5JJ7eLitp5sBgjy1uP3Es1wCVUSF6F X-Received: by 2002:a05:690e:d85:b0:63f:309f:6354 with SMTP id 956f58d0204a3-63f309f66efmr10973125d50.47.1761409779076; Sat, 25 Oct 2025 09:29:39 -0700 (PDT) Received: from postal.iol.unh.edu (postal.iol.unh.edu. [2606:4100:3880:1234::84]) by smtp-relay.gmail.com with ESMTPS id 00721157ae682-785ed146afcsm1842227b3.1.2025.10.25.09.29.39 (version=TLS1_2 cipher=ECDHE-ECDSA-AES128-GCM-SHA256 bits=128/128); Sat, 25 Oct 2025 09:29:39 -0700 (PDT) X-Relaying-Domain: iol.unh.edu Date: Sat, 25 Oct 2025 09:29:39 -0700 (PDT) Message-ID: <68fcfaf3.050a0220.2a41a2.8eabSMTPIN_ADDED_MISSING@mx.google.com> Received: from [172.21.0.2] (unknown [172.18.0.240]) by postal.iol.unh.edu (Postfix) with ESMTP id BD2356051830; Sat, 25 Oct 2025 12:29:38 -0400 (EDT) Subject: |WARNING| pw158089-158090 [PATCH] [v3,2/2] dts: add QinQ test suite From: dpdklab@iol.unh.edu To: Test Report Cc: dpdk-test-reports@iol.unh.edu In-Reply-To: <20251024181606.604135-2-dmarx@iol.unh.edu> References: <20251024181606.604135-2-dmarx@iol.unh.edu> Content-Type: text/plain X-BeenThere: test-report@dpdk.org X-Mailman-Version: 2.1.29 Precedence: list List-Id: automatic DPDK test reports List-Unsubscribe: , List-Archive: List-Post: List-Help: List-Subscribe: , Errors-To: test-report-bounces@dpdk.org Test-Label: iol-compile-amd64-testing Test-Status: WARNING http://dpdk.org/patch/158090 _Testing issues_ Submitter: Dean Marx Date: Friday, October 24 2025 18:16:06 DPDK git baseline: Repo:dpdk-next-dts Branch: master CommitID:c1abcee5a9656fb4890b733e6051aa604c60f146 158089-158090 --> testing issues Upstream job id: Generic-DPDK-Compile-Meson#437629 Test environment and result as below: +-------------------------------+--------------------+-------------------+-------------------------+----------------------+-------------------+------------------+ | Environment | dpdk_meson_compile | dpdk_msvc_compile | dpdk_llvm_clang_compile | dpdk_mingw64_compile | dpdk_compile_spdk | dpdk_compile_ovs | +===============================+====================+===================+=========================+======================+===================+==================+ | Ubuntu 20.04 | PASS | SKIPPED | SKIPPED | SKIPPED | SKIPPED | SKIPPED | +-------------------------------+--------------------+-------------------+-------------------------+----------------------+-------------------+------------------+ | FreeBSD 14.2 | PASS | SKIPPED | SKIPPED | SKIPPED | SKIPPED | SKIPPED | +-------------------------------+--------------------+-------------------+-------------------------+----------------------+-------------------+------------------+ | CentOS Stream 9 | PASS | SKIPPED | SKIPPED | SKIPPED | WARN | SKIPPED | +-------------------------------+--------------------+-------------------+-------------------------+----------------------+-------------------+------------------+ | CentOS Stream 10 | PASS | SKIPPED | SKIPPED | SKIPPED | SKIPPED | SKIPPED | +-------------------------------+--------------------+-------------------+-------------------------+----------------------+-------------------+------------------+ | Debian GNU/Linux 12 | PASS | SKIPPED | SKIPPED | SKIPPED | WARN | SKIPPED | +-------------------------------+--------------------+-------------------+-------------------------+----------------------+-------------------+------------------+ | Fedora Linux 42 | PASS | SKIPPED | SKIPPED | SKIPPED | WARN | PASS | +-------------------------------+--------------------+-------------------+-------------------------+----------------------+-------------------+------------------+ | openSUSE Leap 15.6 | PASS | SKIPPED | SKIPPED | SKIPPED | SKIPPED | SKIPPED | +-------------------------------+--------------------+-------------------+-------------------------+----------------------+-------------------+------------------+ | Red Hat Enterprise Linux 8.10 | PASS | SKIPPED | SKIPPED | SKIPPED | SKIPPED | SKIPPED | +-------------------------------+--------------------+-------------------+-------------------------+----------------------+-------------------+------------------+ | Red Hat Enterprise Linux 9.5 | PASS | SKIPPED | SKIPPED | SKIPPED | SKIPPED | SKIPPED | +-------------------------------+--------------------+-------------------+-------------------------+----------------------+-------------------+------------------+ | Ubuntu 22.04 | PASS | SKIPPED | SKIPPED | SKIPPED | WARN | SKIPPED | +-------------------------------+--------------------+-------------------+-------------------------+----------------------+-------------------+------------------+ | Ubuntu 24.04 | PASS | SKIPPED | SKIPPED | SKIPPED | WARN | PASS | +-------------------------------+--------------------+-------------------+-------------------------+----------------------+-------------------+------------------+ | Alpine Linux 3.22.0 | PASS | SKIPPED | SKIPPED | SKIPPED | SKIPPED | SKIPPED | +-------------------------------+--------------------+-------------------+-------------------------+----------------------+-------------------+------------------+ | Windows Server 2022 | SKIPPED | PASS | PASS | PASS | SKIPPED | SKIPPED | +-------------------------------+--------------------+-------------------+-------------------------+----------------------+-------------------+------------------+ ==== 20 line log output for Ubuntu 24.04 (dpdk_compile_spdk): ==== --- Failed to get log output --- ==== End log output ==== Ubuntu 20.04 Kernel: 4.19 Compiler: gcc gcc (Ubuntu 9.4.0-1ubuntu1~20.04.2) 9.4.0 FreeBSD 14.2 Kernel: 14.2-RELEASE Compiler: clang 18.1.6 CentOS Stream 9 Kernel: 5.15 Compiler: gcc gcc (GCC) 11.5.0 20240719 (Red Hat 11.5.0-11) CentOS Stream 10 Kernel: 5.15 Compiler: gcc gcc (GCC) 14.2.1 20250110 (Red Hat 14.2.1-8) Debian GNU/Linux 12 Kernel: 5.15 Compiler: gcc gcc (Debian 12.2.0-14+deb12u1) 12.2.0 Fedora Linux 42 Kernel: 5.15 Compiler: clang gcc (GCC) 15.2.1 20250808 (Red Hat 15.2.1-1) openSUSE Leap 15.6 Kernel: 5.15 Compiler: gcc gcc (SUSE Linux) 7.5.0 Red Hat Enterprise Linux 8.10 Kernel: 5.15 Compiler: gcc gcc (GCC) 8.5.0 20210514 (Red Hat 8.5.0-22) Red Hat Enterprise Linux 9.5 Kernel: 5.15 Compiler: gcc gcc (GCC) 11.5.0 20240719 (Red Hat 11.5.0-2) Ubuntu 22.04 Kernel: 5.15 Compiler: gcc gcc (Ubuntu 11.4.0-1ubuntu1~22.04) 11.4.0 Ubuntu 24.04 Kernel: 5.15 Compiler: gcc gcc (Ubuntu 13.3.0-6ubuntu2~24.04) 13.3.0 Alpine Linux 3.22.0 Kernel: 5.15 Compiler: gcc gcc (Alpine 14.2.0) 14.2.0 Windows Server 2022 Kernel: 10.0.20348.2031 Compiler: clang 15.0.7, gcc 14.1.0 (MinGW), and MSVC VS 19.39.33521 To view detailed results, visit: https://lab.dpdk.org/results/dashboard/patchsets/34375/ UNH-IOL DPDK Community Lab To manage your email subscriptions, visit: https://lab.dpdk.org/results/dashboard/preferences/subscriptions/