From mboxrd@z Thu Jan 1 00:00:00 1970 Return-Path: Received: from mails.dpdk.org (mails.dpdk.org [217.70.189.124]) by inbox.dpdk.org (Postfix) with ESMTP id EDE14489D6 for ; Sat, 25 Oct 2025 20:15:48 +0200 (CEST) Received: from mails.dpdk.org (localhost [127.0.0.1]) by mails.dpdk.org (Postfix) with ESMTP id E863A4003C; Sat, 25 Oct 2025 20:15:48 +0200 (CEST) Received: from mail-pf1-f228.google.com (mail-pf1-f228.google.com [209.85.210.228]) by mails.dpdk.org (Postfix) with ESMTP id 7C0DC4003C for ; Sat, 25 Oct 2025 20:15:47 +0200 (CEST) Received: by mail-pf1-f228.google.com with SMTP id d2e1a72fcca58-78125ed4052so3705075b3a.0 for ; Sat, 25 Oct 2025 11:15:47 -0700 (PDT) DKIM-Signature: v=1; a=rsa-sha256; c=relaxed/relaxed; d=iol.unh.edu; s=unh-iol; t=1761416147; x=1762020947; darn=dpdk.org; h=references:in-reply-to:cc:to:from:subject:message-id:date:from:to :cc:subject:date:message-id:reply-to; bh=bq0NRXvy65cHJ0RtoJXCzJBKImuIK65ciX6Ceg64Oww=; b=VrRODhEvg9kQHENxukubn6EiiZjbeP/UNCXmwP30pdfhdQAAgruseJX2PKwv6jR7nd eTUabbf9hBOy7UKuDrS2l5FooBScgFVpvMoRFP8WzNwxvMVIrMzQCBaP4HW2X98bqw+a iNKqsO/0xJCgyYE+Q9CwIinx2Z7VVWjNkpLCI= X-Google-DKIM-Signature: v=1; a=rsa-sha256; c=relaxed/relaxed; d=1e100.net; s=20230601; t=1761416147; x=1762020947; h=references:in-reply-to:cc:to:from:subject:message-id:date :x-gm-message-state:from:to:cc:subject:date:message-id:reply-to; bh=bq0NRXvy65cHJ0RtoJXCzJBKImuIK65ciX6Ceg64Oww=; b=gA0z5Fs5dTIM84/+f9FJAh4APnO0NYAqyz9wKwVXyqiphscBZeFFvIXOuemFf82KN8 UQfYXWkxy6NdmjYWN3S2T40ECagGMKWYKi8suHCjHhX3xz5M8iBX1HOe9CjXgkfaftI6 waKCgaR2BrwdZjcI28ouuHU7br6JFRdyj7yghTN5gOguWXo8LgYoNLrW8mk7TGiHKzgM RB/iCBFHubR1xUFQKIGkI0s3CLnteaD3xcxweaIpVT2CqQ8H2zleVoHEQdlu/GPej5RW F0LJZP1QkJUUz47RkGEo4b9omqg3Xz3UyujwJ74yOr5/yjlyOO8lddL4S9Bc/l5UVaRh fQ2A== X-Gm-Message-State: AOJu0YxWZBoYX4DHxQrKlv1DiA4/j40LMrwVZPNLAGvCdQhEUEpLHpB0 2hVCABIvO7dLWlPt5v4Xr1PV1l3ry9g/nHBkZMc5KyZl2Mov+sY1UTzP0FJeud4AwzNL/c161CB 2NveuoJJtcTyRXHSt+wOQ9oPX1M8m/2yKHEtHn1Qy/HtZ X-Gm-Gg: ASbGncv7NtV1NPoviLjjaYanxRN3hRDsGj+5UEmsbuSHBzz81c2OmWiaHmS4BJ9t01i senANbUXi2frIXkP+KCi11XjxeukOcMKJr9Sk+KemBfjaDKCyhliA1wP0usfrqNjMVVAOCIyWBh /iv/tWjR3tWP42zfwGwH76o5xYGLXS2DvQgylhRbmScku7BYeEoqrnwEbxIQezMXCyxTOj+yZvA LisyHkJVeAM9XHAzOHbupZqCefTrGTdOOP9Gqe5zMEfYIihsMlgqec1D9f8KyqFJoxwRrBr/5Te sj0WiW0773NgzvR9xaMyFYMilnslGHKNTsgi+sUuqD9+a7SqdEp6Ge/6S7TIDcws9oo9s8nabmj 1td/MP7+g5X7fZCW389J5YqJtKbUG9Qo= X-Google-Smtp-Source: AGHT+IHyMZqih7/5Y6+VEmgH/zHhE89ymmm6J4urUOxdJDq/iA+p2mM1BKnfCO4eSW9UhDq6mYHQtPr4bbZM X-Received: by 2002:a05:6a20:914d:b0:33f:9581:5d2f with SMTP id adf61e73a8af0-33f95815f32mr7017302637.3.1761416146689; Sat, 25 Oct 2025 11:15:46 -0700 (PDT) Received: from postal.iol.unh.edu (postal.iol.unh.edu. [132.177.123.84]) by smtp-relay.gmail.com with ESMTPS id d2e1a72fcca58-7a41404e863sm189828b3a.1.2025.10.25.11.15.46 (version=TLS1_2 cipher=ECDHE-ECDSA-AES128-GCM-SHA256 bits=128/128); Sat, 25 Oct 2025 11:15:46 -0700 (PDT) X-Relaying-Domain: iol.unh.edu Date: Sat, 25 Oct 2025 11:15:46 -0700 (PDT) Message-ID: <68fd13d2.050a0220.2a1133.8fd6SMTPIN_ADDED_MISSING@mx.google.com> Received: from [172.21.0.2] (unknown [172.18.0.240]) by postal.iol.unh.edu (Postfix) with ESMTP id 743CC6051830; Sat, 25 Oct 2025 14:15:45 -0400 (EDT) Subject: |SUCCESS| pw158077 [PATCH] [v6,1/1] eal/riscv: optimize rte_memcpy w From: dpdklab@iol.unh.edu To: Test Report Cc: dpdk-test-reports@iol.unh.edu In-Reply-To: <20251024072734.1573077-2-chen.qiguo@zte.com.cn> References: <20251024072734.1573077-2-chen.qiguo@zte.com.cn> Content-Type: text/plain X-BeenThere: test-report@dpdk.org X-Mailman-Version: 2.1.29 Precedence: list List-Id: automatic DPDK test reports List-Unsubscribe: , List-Archive: List-Post: List-Help: List-Subscribe: , Errors-To: test-report-bounces@dpdk.org Test-Label: iol-compile-arm64-testing Test-Status: SUCCESS http://dpdk.org/patch/158077 _Testing PASS_ Submitter: Qiguo Chen Date: Friday, October 24 2025 07:27:34 DPDK git baseline: Repo:dpdk Branch: master CommitID:6edcec237e31fcdb848cca6c151ee7a5bf057c28 158077 --> testing pass Upstream job id: Generic-DPDK-Compile-Meson#437459 Test environment and result as below: +------------------------------+--------------------+ | Environment | dpdk_meson_compile | +==============================+====================+ | Red Hat Enterprise Linux 9.5 | PASS | +------------------------------+--------------------+ | Ubuntu 20.04 | PASS | +------------------------------+--------------------+ | Debian GNU/Linux 12 | PASS | +------------------------------+--------------------+ | Fedora Linux 42 | PASS | +------------------------------+--------------------+ | Ubuntu 24.04 | PASS | +------------------------------+--------------------+ | Ubuntu 22.04 | PASS | +------------------------------+--------------------+ | CentOS Stream 9 | PASS | +------------------------------+--------------------+ | CentOS Stream 10 | PASS | +------------------------------+--------------------+ Red Hat Enterprise Linux 9.5 Kernel: 5.4 Compiler: gcc gcc (GCC) 11.5.0 20240719 (Red Hat 11.5.0-2) Ubuntu 20.04 Kernel: 5.15 Compiler: aarch64-linux-gnu-gcc gcc (Ubuntu 9.4.0-1ubuntu1~20.04.2) 9.4.0 Debian GNU/Linux 12 Kernel: 5.4 Compiler: gcc gcc (Debian 12.2.0-14+deb12u1) 12.2.0 Fedora Linux 42 Kernel: 5.4 Compiler: gcc gcc (GCC) 15.2.1 20250808 (Red Hat 15.2.1-1) Ubuntu 24.04 Kernel: 5.4 Compiler: gcc gcc (Ubuntu 13.3.0-6ubuntu2~24.04) 13.3.0 Ubuntu 22.04 Kernel: 5.4 Compiler: gcc gcc (Ubuntu 11.4.0-1ubuntu1~22.04) 11.4.0 CentOS Stream 9 Kernel: 5.4 Compiler: gcc gcc (GCC) 11.5.0 20240719 (Red Hat 11.5.0-11) CentOS Stream 10 Kernel: 5.4 Compiler: gcc gcc (GCC) 14.2.1 20250110 (Red Hat 14.2.1-8) To view detailed results, visit: https://lab.dpdk.org/results/dashboard/patchsets/34370/ UNH-IOL DPDK Community Lab To manage your email subscriptions, visit: https://lab.dpdk.org/results/dashboard/preferences/subscriptions/