From mboxrd@z Thu Jan 1 00:00:00 1970 Return-Path: Received: from mails.dpdk.org (mails.dpdk.org [217.70.189.124]) by inbox.dpdk.org (Postfix) with ESMTP id 0B689489D6 for ; Sat, 25 Oct 2025 20:16:03 +0200 (CEST) Received: from mails.dpdk.org (localhost [127.0.0.1]) by mails.dpdk.org (Postfix) with ESMTP id 06E404003C; Sat, 25 Oct 2025 20:16:03 +0200 (CEST) Received: from mail-pf1-f227.google.com (mail-pf1-f227.google.com [209.85.210.227]) by mails.dpdk.org (Postfix) with ESMTP id 787B14003C for ; Sat, 25 Oct 2025 20:16:01 +0200 (CEST) Received: by mail-pf1-f227.google.com with SMTP id d2e1a72fcca58-7810289cd4bso3208908b3a.2 for ; Sat, 25 Oct 2025 11:16:01 -0700 (PDT) DKIM-Signature: v=1; a=rsa-sha256; c=relaxed/relaxed; d=iol.unh.edu; s=unh-iol; t=1761416160; x=1762020960; darn=dpdk.org; h=references:in-reply-to:cc:to:from:subject:message-id:date:from:to :cc:subject:date:message-id:reply-to; bh=UKrgQJDyxIWW432BElpT/mn6bJjqiNOnykavnGORDDU=; b=bYKRR7pRJT+XNqerJ8IGJ7w6mBpLbT+Z6HErxG+Jo87lVD3r0jxvi2sZZ63s9m11ef 0+FORDamn6ii8g7rzDpaa7pHT3mua8yaA5y48WwrF3Gjpyu5XLPtYCjU4ttOqG5DuA7J O+n0M4b5lkGui5s6Q5nAhTdQx5bfw2O3uKIiE= X-Google-DKIM-Signature: v=1; a=rsa-sha256; c=relaxed/relaxed; d=1e100.net; s=20230601; t=1761416160; x=1762020960; h=references:in-reply-to:cc:to:from:subject:message-id:date :x-gm-message-state:from:to:cc:subject:date:message-id:reply-to; bh=UKrgQJDyxIWW432BElpT/mn6bJjqiNOnykavnGORDDU=; b=SccB/KKiqfn0Rlbhz2rSDuXXnQI3g1y2nmhlq8XaQxF/o+P/2viCNx1CTA88MMd17v r23uj9bxoye6d3HrHGDNRdh9YzO3Y0CeSt43mz0cwDiSB0/ol6SZdcXstWub/tAjk50q nLZ0dcAzHjbx7JSkWQcS/rkfAi6JTvBaFHSHU2sJMHXaB06egGij+/WlnMld+k3y3hjC R72dCfK2nIhktk9EMYFAzJ86hTIvd8g4Z3O9D2v7DcPDOrHh1AA7+HvAkJrHaAUepyRm NQrvCloF1D1UqHx6xIInzsvpYw4hFomP+wiyCnEZ4VWyevq/dIE0HN90nLeSRkJjA6XS 8kJw== X-Gm-Message-State: AOJu0YyzO1T2k4ba7FSRLfY12P74QdzPmHD0iwRJvykun7y583l0+vKu X9+P9eB9FdQyHeNOXcfjlNRJRtrtjKFRr+oZXlAgHZX5Ws2clRQKX2vZVG21Cp3LljvRNRjwnGv tUuOO0vWpTdgiBluHYEuf8SgR7kRY4QHIUCRBzwMnCgLbvaIsq4DWDjsGuzQD X-Gm-Gg: ASbGncti5exojwYWzMlhq+3RYShEQJPXIXH/fOADWYZaWYlo0ffL6hswKmJgkUNwbxD Os1g9qGLiZTE6CtJW2hQGKrm9hyP6QD2VrXMyyxOgrZU5eXc95lfSHKU7IWUUfRqTtn2EayZwK9 Nket6pG0RMwc5zCYvAeTmty9BjrT3RlHNSU1Pi+igqz0LiUIfSEK5LrmQ6fjOQ8AegFe1KaytKV AW9OuAOfxpKbtvo2J+zr5LMWbAcX31mCMPi6s0NP9KOmKexyZl8b/73CdKrElX0iDVoZ/P8TIwV 0nVOO8TJPFeokjgJJfOWzfbAIyi/MHwAQFW6wudCab+hVrrALuB1dKHgKblhV298PPw5uhxB+2Q c6WgSKN2L X-Google-Smtp-Source: AGHT+IENat7ay5Ift38eUERLTe6Obl/rZL8l/NN+n24fsoU2H6e5JyzJNZ5u/VZM85w1DUWR+wZRYhISM0kq X-Received: by 2002:a05:6a20:a11c:b0:334:9c41:bdcf with SMTP id adf61e73a8af0-334a856d500mr43583584637.17.1761416160642; Sat, 25 Oct 2025 11:16:00 -0700 (PDT) Received: from postal.iol.unh.edu (postal.iol.unh.edu. [2606:4100:3880:1234::84]) by smtp-relay.gmail.com with ESMTPS id 41be03b00d2f7-b73b68d86basm114896a12.14.2025.10.25.11.16.00 (version=TLS1_2 cipher=ECDHE-ECDSA-AES128-GCM-SHA256 bits=128/128); Sat, 25 Oct 2025 11:16:00 -0700 (PDT) X-Relaying-Domain: iol.unh.edu Date: Sat, 25 Oct 2025 11:16:00 -0700 (PDT) Message-ID: <68fd13e0.050a0220.3891bf.52c0SMTPIN_ADDED_MISSING@mx.google.com> Received: from [172.21.0.2] (unknown [172.18.0.240]) by postal.iol.unh.edu (Postfix) with ESMTP id C37436051830; Sat, 25 Oct 2025 14:15:59 -0400 (EDT) Subject: |SUCCESS| pw158077 [PATCH] [v6,1/1] eal/riscv: optimize rte_memcpy w From: dpdklab@iol.unh.edu To: Test Report Cc: dpdk-test-reports@iol.unh.edu In-Reply-To: <20251024072734.1573077-2-chen.qiguo@zte.com.cn> References: <20251024072734.1573077-2-chen.qiguo@zte.com.cn> Content-Type: text/plain X-BeenThere: test-report@dpdk.org X-Mailman-Version: 2.1.29 Precedence: list List-Id: automatic DPDK test reports List-Unsubscribe: , List-Archive: List-Post: List-Help: List-Subscribe: , Errors-To: test-report-bounces@dpdk.org Test-Label: iol-compile-arm64-testing Test-Status: SUCCESS http://dpdk.org/patch/158077 _Testing PASS_ Submitter: Qiguo Chen Date: Friday, October 24 2025 07:27:34 DPDK git baseline: Repo:dpdk Branch: master CommitID:6edcec237e31fcdb848cca6c151ee7a5bf057c28 158077 --> testing pass Upstream job id: Generic-DPDK-Compile-Meson#437457 Test environment and result as below: +------------------------------+--------------------+ | Environment | dpdk_meson_compile | +==============================+====================+ | Red Hat Enterprise Linux 9.5 | PASS | +------------------------------+--------------------+ | Ubuntu 20.04 | PASS | +------------------------------+--------------------+ | Debian GNU/Linux 12 | PASS | +------------------------------+--------------------+ | Fedora Linux 42 | PASS | +------------------------------+--------------------+ | Ubuntu 24.04 | PASS | +------------------------------+--------------------+ | Ubuntu 22.04 | PASS | +------------------------------+--------------------+ | CentOS Stream 9 | PASS | +------------------------------+--------------------+ | CentOS Stream 10 | PASS | +------------------------------+--------------------+ Red Hat Enterprise Linux 9.5 Kernel: 5.4 Compiler: gcc gcc (GCC) 11.5.0 20240719 (Red Hat 11.5.0-2) Ubuntu 20.04 Kernel: 5.15 Compiler: aarch64-linux-gnu-gcc gcc (Ubuntu 9.4.0-1ubuntu1~20.04.2) 9.4.0 Debian GNU/Linux 12 Kernel: 5.4 Compiler: gcc gcc (Debian 12.2.0-14+deb12u1) 12.2.0 Fedora Linux 42 Kernel: 5.4 Compiler: gcc gcc (GCC) 15.2.1 20250808 (Red Hat 15.2.1-1) Ubuntu 24.04 Kernel: 5.4 Compiler: gcc gcc (Ubuntu 13.3.0-6ubuntu2~24.04) 13.3.0 Ubuntu 22.04 Kernel: 5.4 Compiler: gcc gcc (Ubuntu 11.4.0-1ubuntu1~22.04) 11.4.0 CentOS Stream 9 Kernel: 5.4 Compiler: gcc gcc (GCC) 11.5.0 20240719 (Red Hat 11.5.0-11) CentOS Stream 10 Kernel: 5.4 Compiler: gcc gcc (GCC) 14.2.1 20250110 (Red Hat 14.2.1-8) To view detailed results, visit: https://lab.dpdk.org/results/dashboard/patchsets/34370/ UNH-IOL DPDK Community Lab To manage your email subscriptions, visit: https://lab.dpdk.org/results/dashboard/preferences/subscriptions/