From mboxrd@z Thu Jan 1 00:00:00 1970 Return-Path: Received: from mails.dpdk.org (mails.dpdk.org [217.70.189.124]) by inbox.dpdk.org (Postfix) with ESMTP id 1A757489D6 for ; Sat, 25 Oct 2025 20:16:19 +0200 (CEST) Received: from mails.dpdk.org (localhost [127.0.0.1]) by mails.dpdk.org (Postfix) with ESMTP id 15C1B4003C; Sat, 25 Oct 2025 20:16:19 +0200 (CEST) Received: from mail-pj1-f97.google.com (mail-pj1-f97.google.com [209.85.216.97]) by mails.dpdk.org (Postfix) with ESMTP id C079A4003C for ; Sat, 25 Oct 2025 20:16:17 +0200 (CEST) Received: by mail-pj1-f97.google.com with SMTP id 98e67ed59e1d1-33082c95fd0so3349366a91.1 for ; Sat, 25 Oct 2025 11:16:17 -0700 (PDT) DKIM-Signature: v=1; a=rsa-sha256; c=relaxed/relaxed; d=iol.unh.edu; s=unh-iol; t=1761416177; x=1762020977; darn=dpdk.org; h=references:in-reply-to:cc:to:from:subject:message-id:date:from:to :cc:subject:date:message-id:reply-to; bh=tgqck3BTAIwpKB7aBjUuB0Iwin5HpKwvRF9vQmp0EmA=; b=HISYjWGVp9tIsLTamRMgLuxaDb4VigpzFmeNkVDSI4MnTmOgvMQWwMOXLpp0rQnadu ykrkiAkHv+TscHG3CECVpGsu2whmLr0jBvonGmqXAOtQXx4Nl3p3bwUG95R2w7N85hb5 Q+hcr9fQXjjfQjKhRw/Sm99NhGr8WKTMhzf98= X-Google-DKIM-Signature: v=1; a=rsa-sha256; c=relaxed/relaxed; d=1e100.net; s=20230601; t=1761416177; x=1762020977; h=references:in-reply-to:cc:to:from:subject:message-id:date :x-gm-message-state:from:to:cc:subject:date:message-id:reply-to; bh=tgqck3BTAIwpKB7aBjUuB0Iwin5HpKwvRF9vQmp0EmA=; b=wngeK1A0s9jEXLP0/gR4JdMHbcDI5DhYIQAHFOe2msI4wXrsKuaFFiaUR1aVlz9yR0 G4S+p5gZjuY2+Tx9sIwAEw9hx+SbtO2cLctEdhImDEQ0+lC+hT4BPVjW2bix9FCye3bF 3+lnLLhPqPqYYhAV/4f2iP+wQOt4ULv5bCOpuLJNrs2J9/6tgYv0rOYQTMSEJIiTME6b QOT7RS2jKS041RFc2snmX+2YicjfBczv1iDJYIs3Rt6bPRcLs5p5YOhtGTQWoM9m6dkX zkMvSt85mfSAqTX6tgQhp2zRBEg5yLr8BfxEBW3OTHZH8Da3nomCnYAllNi97UO8n7wM A/HA== X-Gm-Message-State: AOJu0YyvbfY8Y9SVs6gtPgU1TyEfaVCKPzoL4LEL8hzV+77xhAEB3cpI x+QY8ayaLxh1sBACSg4qzLP27hEUSLsfdT8Bc/JPlpyJiNmspmogrfD/H9jRneP/DqTUlV2ulqL a2LxX9n9mF9s2XvNopjgLh9wK3vL11V3G5zJjGm5KNMPr X-Gm-Gg: ASbGnctpjJ/4NOv8jAeV0GP+Akln4JAjdvFb+QN35W7dEihQuYFsUDEr6pqXKcM+L0o 19+pnY/uotPoUZneIGGkUeVT39iVx/7e/EZcO0gMbOeqUfT+b2R5HMkQ3PZ9L3dWeRfDla/0foG IUCNxbybHvmIfgG32WtwECDmeUtNEdwi9V10u64yVXr5SuvmT1v+wGz53PQc4rYTR4ndefh0Z/H UL2/tNpgS5XPAz7Ww3wAJ9jmnh+4NHRmNVMyVa00D1b5Okg+WI/cPPTHhPFJS2ZIgfi//ECHZOG o51scuuOti4mzmLnadqgaU5uINxZwp5HJgM9n/o1j0AFEkl3K0FJ36/gmzvLj2bJVTNQwHu3wv2 FOP4ovaKT1OV8TnCsaqyKQMgGbi1hwxs= X-Google-Smtp-Source: AGHT+IHWKifNxs5VWiDT7xbpSXRoWmytoFXAoyMtGdHHtUsPFysODhWvlOhzpOIr2MzZ3f9AZ5OVnHOkoKfL X-Received: by 2002:a17:90b:5826:b0:339:eff5:ef26 with SMTP id 98e67ed59e1d1-33fd66db5f9mr6869750a91.30.1761416176855; Sat, 25 Oct 2025 11:16:16 -0700 (PDT) Received: from postal.iol.unh.edu (postal.iol.unh.edu. [132.177.123.84]) by smtp-relay.gmail.com with ESMTPS id 98e67ed59e1d1-33fed7adf1asm273345a91.0.2025.10.25.11.16.16 (version=TLS1_2 cipher=ECDHE-ECDSA-AES128-GCM-SHA256 bits=128/128); Sat, 25 Oct 2025 11:16:16 -0700 (PDT) X-Relaying-Domain: iol.unh.edu Date: Sat, 25 Oct 2025 11:16:16 -0700 (PDT) Message-ID: <68fd13f0.170a0220.233b7d.d499SMTPIN_ADDED_MISSING@mx.google.com> Received: from [172.21.0.2] (unknown [172.18.0.240]) by postal.iol.unh.edu (Postfix) with ESMTP id 26CD56051830; Sat, 25 Oct 2025 14:16:16 -0400 (EDT) Subject: |SUCCESS| pw158078 [PATCH] [v1,1/1] bus/pci: fix resource leak in se From: dpdklab@iol.unh.edu To: Test Report Cc: dpdk-test-reports@iol.unh.edu In-Reply-To: <54e4e95f31382c1bb3babee07c107f1e39dc9093.1761297496.git.anatoly.burakov@intel.com> References: <54e4e95f31382c1bb3babee07c107f1e39dc9093.1761297496.git.anatoly.burakov@intel.com> Content-Type: text/plain X-BeenThere: test-report@dpdk.org X-Mailman-Version: 2.1.29 Precedence: list List-Id: automatic DPDK test reports List-Unsubscribe: , List-Archive: List-Post: List-Help: List-Subscribe: , Errors-To: test-report-bounces@dpdk.org Test-Label: iol-compile-arm64-testing Test-Status: SUCCESS http://dpdk.org/patch/158078 _Testing PASS_ Submitter: Anatoly Burakov Date: Friday, October 24 2025 09:18:24 DPDK git baseline: Repo:dpdk Branch: master CommitID:6edcec237e31fcdb848cca6c151ee7a5bf057c28 158078 --> testing pass Upstream job id: Generic-DPDK-Compile-Meson#437482 Test environment and result as below: +------------------------------+--------------------+ | Environment | dpdk_meson_compile | +==============================+====================+ | Red Hat Enterprise Linux 9.5 | PASS | +------------------------------+--------------------+ | Ubuntu 20.04 | PASS | +------------------------------+--------------------+ | Debian GNU/Linux 12 | PASS | +------------------------------+--------------------+ | Fedora Linux 42 | PASS | +------------------------------+--------------------+ | Ubuntu 22.04 | PASS | +------------------------------+--------------------+ | Ubuntu 24.04 | PASS | +------------------------------+--------------------+ | CentOS Stream 9 | PASS | +------------------------------+--------------------+ | CentOS Stream 10 | PASS | +------------------------------+--------------------+ Red Hat Enterprise Linux 9.5 Kernel: 5.4 Compiler: gcc gcc (GCC) 11.5.0 20240719 (Red Hat 11.5.0-2) Ubuntu 20.04 Kernel: 5.15 Compiler: aarch64-linux-gnu-gcc gcc (Ubuntu 9.4.0-1ubuntu1~20.04.2) 9.4.0 Debian GNU/Linux 12 Kernel: 5.4 Compiler: gcc gcc (Debian 12.2.0-14+deb12u1) 12.2.0 Fedora Linux 42 Kernel: 5.4 Compiler: gcc gcc (GCC) 15.2.1 20250808 (Red Hat 15.2.1-1) Ubuntu 22.04 Kernel: 5.4 Compiler: gcc gcc (Ubuntu 11.4.0-1ubuntu1~22.04) 11.4.0 Ubuntu 24.04 Kernel: 5.4 Compiler: gcc gcc (Ubuntu 13.3.0-6ubuntu2~24.04) 13.3.0 CentOS Stream 9 Kernel: 5.4 Compiler: gcc gcc (GCC) 11.5.0 20240719 (Red Hat 11.5.0-11) CentOS Stream 10 Kernel: 5.4 Compiler: gcc gcc (GCC) 14.2.1 20250110 (Red Hat 14.2.1-8) To view detailed results, visit: https://lab.dpdk.org/results/dashboard/patchsets/34371/ UNH-IOL DPDK Community Lab To manage your email subscriptions, visit: https://lab.dpdk.org/results/dashboard/preferences/subscriptions/