From mboxrd@z Thu Jan 1 00:00:00 1970 Return-Path: Received: from mails.dpdk.org (mails.dpdk.org [217.70.189.124]) by inbox.dpdk.org (Postfix) with ESMTP id 2D598489D6 for ; Sat, 25 Oct 2025 20:16:34 +0200 (CEST) Received: from mails.dpdk.org (localhost [127.0.0.1]) by mails.dpdk.org (Postfix) with ESMTP id 28DB94003C; Sat, 25 Oct 2025 20:16:34 +0200 (CEST) Received: from mail-yw1-f225.google.com (mail-yw1-f225.google.com [209.85.128.225]) by mails.dpdk.org (Postfix) with ESMTP id 85D824003C for ; Sat, 25 Oct 2025 20:16:33 +0200 (CEST) Received: by mail-yw1-f225.google.com with SMTP id 00721157ae682-7849f01e56eso36607917b3.0 for ; Sat, 25 Oct 2025 11:16:33 -0700 (PDT) DKIM-Signature: v=1; a=rsa-sha256; c=relaxed/relaxed; d=iol.unh.edu; s=unh-iol; t=1761416193; x=1762020993; darn=dpdk.org; h=references:in-reply-to:cc:to:from:subject:message-id:date:from:to :cc:subject:date:message-id:reply-to; bh=ESupwQrrt4wD74d7Mo2vowZbGXlHT1fEjpvAUuuSZXk=; b=fZIwLyL3YVQHTUWP4sy47EFgTseIdWo6Jq7RJixovE+YJRNsfBKMlIzptPTAVGcZEh QRk3QqwCtdFjzV5p3d27eduPgiX3MzcOFVuw9cEzfZ+LF/W5lVPJv6uRndNkbRRqT9fj B+0udZJqvXHTL8YXpe7l1iXU3MlXBAPOkmYG0= X-Google-DKIM-Signature: v=1; a=rsa-sha256; c=relaxed/relaxed; d=1e100.net; s=20230601; t=1761416193; x=1762020993; h=references:in-reply-to:cc:to:from:subject:message-id:date :x-gm-message-state:from:to:cc:subject:date:message-id:reply-to; bh=ESupwQrrt4wD74d7Mo2vowZbGXlHT1fEjpvAUuuSZXk=; b=CfTA1c1YbK5S/2LlafohwCZPzLvlQcFHLQtfNGhYn55+kEdbnHQ8gTy5sgC1lLEhjb 3J67bgewKsBxFDGH1h4WMQAjJS/IldqTAv8OBvLWYJ51cIDsG6HeEd5jvDASFMnC6hmO LCvY/6eQ4bFjrZ0NuDs1gRHDyqGQE6als5LqQDqvxZAUGoJcn0+CfnBD6/pYPFVlzJmZ jrO8KXsg6ckiDHi60wTr3puONlQDTQ4tdMKF1juU6g6bpODeYhhgc5a8E8raPMzl4dEy XGyum99W2+/+05RX+gDcSZey3H1XHVQhWauDRLWC5+sG3cNWq0T1IbxSpQI4WYiZUNvN lLAw== X-Gm-Message-State: AOJu0YxKzGP7QZKyOCbBdY9Qba8pTWThWXWpQQcK78hwhJobNRlVnrcg g6s39BjmL8nlBV0w7mZ2Q2/QwfznV9E/Gg6k85FOafBYlpJyTyIf90NurFxwaYdJWsB3pRyMYmQ s4u5PriAWXCkrzoo2h6+iVVJzcruiAj6+7IpTGAbTyBSsHrYlbkZ5jYu2AuDR X-Gm-Gg: ASbGnctNZR7AEnM2kVj6v9tX7oXTppFZFG3z4PIJkRBAAV4SlOwrAa5SGgOG/dPy+7l Sq7i0bLr1HXX4oOJC4nGqTQuYYLF5iX5MuC0FZ2Gs9OAGnbMhg6ljKoYx0kTwlrhXMXWSYgt2/y Hvz4SQFlMWuBJS7LMIeux39r5zjwq8CfVH4bgR5pFV14d4G1ydKFobYo0ggk+GzQ6Yp3fNESRHI XEJX80J/+GRDRxdfD2VqoVrNE9Z3RrTvDkncAxdwUBWvEBSxx78atZKme5H5pWlPg8kSoY3b7rZ u/xm0gNcACH0uFFmA9jsPrdSxtzwvenf8C3vJERxUYcDKyd1gLXH2DdAdd27nUq5FXMn+f+TOXg XKmpZuMJ4 X-Google-Smtp-Source: AGHT+IGFmU7yOZfnetGzQ9S8lxmIU1agNtg6Cj95StMfShwZCCsNANtbde97f+xl5I8owZMp+TakCYmot/WY X-Received: by 2002:a05:690c:670a:b0:785:caab:e660 with SMTP id 00721157ae682-785caabeaedmr95671207b3.26.1761416192902; Sat, 25 Oct 2025 11:16:32 -0700 (PDT) Received: from postal.iol.unh.edu (postal.iol.unh.edu. [2606:4100:3880:1234::84]) by smtp-relay.gmail.com with ESMTPS id 00721157ae682-785ed174d4esm2005587b3.9.2025.10.25.11.16.32 (version=TLS1_2 cipher=ECDHE-ECDSA-AES128-GCM-SHA256 bits=128/128); Sat, 25 Oct 2025 11:16:32 -0700 (PDT) X-Relaying-Domain: iol.unh.edu Date: Sat, 25 Oct 2025 11:16:32 -0700 (PDT) Message-ID: <68fd1400.050a0220.b1928.a99fSMTPIN_ADDED_MISSING@mx.google.com> Received: from [172.21.0.2] (unknown [172.18.0.240]) by postal.iol.unh.edu (Postfix) with ESMTP id 941B76051830; Sat, 25 Oct 2025 14:16:32 -0400 (EDT) Subject: |SUCCESS| pw158079-158080 [PATCH] [v1,2/2] bus/cdx: fix incorrect de From: dpdklab@iol.unh.edu To: Test Report Cc: dpdk-test-reports@iol.unh.edu In-Reply-To: <05ecc81aefbbe2073416c0e78aed926ec9ad54b5.1761299581.git.anatoly.burakov@intel.com> References: <05ecc81aefbbe2073416c0e78aed926ec9ad54b5.1761299581.git.anatoly.burakov@intel.com> Content-Type: text/plain X-BeenThere: test-report@dpdk.org X-Mailman-Version: 2.1.29 Precedence: list List-Id: automatic DPDK test reports List-Unsubscribe: , List-Archive: List-Post: List-Help: List-Subscribe: , Errors-To: test-report-bounces@dpdk.org Test-Label: iol-compile-arm64-testing Test-Status: SUCCESS http://dpdk.org/patch/158080 _Testing PASS_ Submitter: Anatoly Burakov Date: Friday, October 24 2025 09:53:10 DPDK git baseline: Repo:dpdk Branch: master CommitID:6edcec237e31fcdb848cca6c151ee7a5bf057c28 158079-158080 --> testing pass Upstream job id: Generic-DPDK-Compile-Meson#437510 Test environment and result as below: +------------------------------+--------------------+ | Environment | dpdk_meson_compile | +==============================+====================+ | Red Hat Enterprise Linux 9.5 | PASS | +------------------------------+--------------------+ | Ubuntu 20.04 | PASS | +------------------------------+--------------------+ | Debian GNU/Linux 12 | PASS | +------------------------------+--------------------+ | Fedora Linux 42 | PASS | +------------------------------+--------------------+ | Ubuntu 22.04 | PASS | +------------------------------+--------------------+ | Ubuntu 24.04 | PASS | +------------------------------+--------------------+ | CentOS Stream 9 | PASS | +------------------------------+--------------------+ | CentOS Stream 10 | PASS | +------------------------------+--------------------+ Red Hat Enterprise Linux 9.5 Kernel: 5.4 Compiler: gcc gcc (GCC) 11.5.0 20240719 (Red Hat 11.5.0-2) Ubuntu 20.04 Kernel: 5.15 Compiler: aarch64-linux-gnu-gcc gcc (Ubuntu 9.4.0-1ubuntu1~20.04.2) 9.4.0 Debian GNU/Linux 12 Kernel: 5.4 Compiler: gcc gcc (Debian 12.2.0-14+deb12u1) 12.2.0 Fedora Linux 42 Kernel: 5.4 Compiler: gcc gcc (GCC) 15.2.1 20250808 (Red Hat 15.2.1-1) Ubuntu 22.04 Kernel: 5.4 Compiler: gcc gcc (Ubuntu 11.4.0-1ubuntu1~22.04) 11.4.0 Ubuntu 24.04 Kernel: 5.4 Compiler: gcc gcc (Ubuntu 13.3.0-6ubuntu2~24.04) 13.3.0 CentOS Stream 9 Kernel: 5.4 Compiler: gcc gcc (GCC) 11.5.0 20240719 (Red Hat 11.5.0-11) CentOS Stream 10 Kernel: 5.4 Compiler: gcc gcc (GCC) 14.2.1 20250110 (Red Hat 14.2.1-8) To view detailed results, visit: https://lab.dpdk.org/results/dashboard/patchsets/34372/ UNH-IOL DPDK Community Lab To manage your email subscriptions, visit: https://lab.dpdk.org/results/dashboard/preferences/subscriptions/