From mboxrd@z Thu Jan 1 00:00:00 1970 Return-Path: Received: from mails.dpdk.org (mails.dpdk.org [217.70.189.124]) by inbox.dpdk.org (Postfix) with ESMTP id 6FFBB489D6 for ; Sat, 25 Oct 2025 20:28:52 +0200 (CEST) Received: from mails.dpdk.org (localhost [127.0.0.1]) by mails.dpdk.org (Postfix) with ESMTP id 336E44003C; Sat, 25 Oct 2025 20:28:52 +0200 (CEST) Received: from mail-qv1-f97.google.com (mail-qv1-f97.google.com [209.85.219.97]) by mails.dpdk.org (Postfix) with ESMTP id 6DAE14003C for ; Sat, 25 Oct 2025 20:28:51 +0200 (CEST) Received: by mail-qv1-f97.google.com with SMTP id 6a1803df08f44-87c1ceac7d7so33028106d6.1 for ; Sat, 25 Oct 2025 11:28:51 -0700 (PDT) DKIM-Signature: v=1; a=rsa-sha256; c=relaxed/relaxed; d=iol.unh.edu; s=unh-iol; t=1761416931; x=1762021731; darn=dpdk.org; h=references:in-reply-to:cc:to:from:subject:message-id:date:from:to :cc:subject:date:message-id:reply-to; bh=Zi00ojRywF9Hcjn7DhtcGkoirADp6FebrUK2tOOjmaA=; b=cGduK0HxIS7/qYAZoywXTCSLBEI40QTJzVxTBOMJOcuyu40k+9DZq2kqH2AepZm6TJ F3OchH3AhHEHKDIRbR9kGm5JEM9VS+NqNV0/bxWuYnf1o3kfw2BiFHMD4pEPv9B/QG+d Rh4zD5myMvDZV1zLYaarco/JNcoot2mSjvEJQ= X-Google-DKIM-Signature: v=1; a=rsa-sha256; c=relaxed/relaxed; d=1e100.net; s=20230601; t=1761416931; x=1762021731; h=references:in-reply-to:cc:to:from:subject:message-id:date :x-gm-message-state:from:to:cc:subject:date:message-id:reply-to; bh=Zi00ojRywF9Hcjn7DhtcGkoirADp6FebrUK2tOOjmaA=; b=Y6tlgHpbMYQLl80s28fwXHY0FP28bW/1Yo5MQqNi7bpqNa6TE/sgFiIl1Dsve3xJMX +xQ5Vn2QV76NcUfFwlgYcfxqiogBlvW8lZt9EDu8QVKnJ26l9RjjngH6BpCABdmHY+zr mJ9Su08ur/X9U5CoSZfJtffnIHqVvxA9fv4iyHfASV5mSoiIor2tIUf0rpqA/8PWZZjs mGU9vtcJBHFAKN434F3rhHO4f4NqzU/lcmKXN411pbEpTzMQpB95MN7j0erClg5Nub7p 33PVkKMtyLgXzw4R3uEi/tZpxD3SXPSJwtaD0l9g41QEVP1F9n3GvdzKFNiO7TCujytE 6XTQ== X-Gm-Message-State: AOJu0YxiVJ1PzYuqAOwzH0dMTTCY6dkJCQJVKnFCLpicWle5gaD02GVc yAutchbWXlRR4+trHjnZTAjFJhamodJyxRgo2DA5U2Cvr9K90+8EDfpPt/g9ydwIomirP5bbKCZ y6X978Igp0aZ/msiLR80cdjM4PHtPZJisJeUzPScVkxAn2KHysA/QUY32j0li X-Gm-Gg: ASbGncsRpTbhUKGZndLfsFCL6b83RM2BVmYn4iKhNVYTcROna85XUFZG9OUkp0CVwtT BpiPczxry/FEtr5kiDe4VW+01OwsJ5RGRkseRoLnk5CgcoEgneJh1tbd+q+Ga66jAuf0ccACTR+ WABYNd9oJ7TgNvLk8/6AvX4ncWGcg6WVx8LGzM7b61cgjW01tW8P2sb6LQf6RWP879ljIfn3Ryn girrwAlSnjlGzVd2wkx50kX3luBqrEzETC/gke8Zh3E/giVcieDDNGa6PnR6gBB42lvVmgVF0aF pC1aO/jFskM3y8v5PtHCPDP6U+nNTuSiL1F8JI4Zx9n3HExVkThmTn4RH6QLh8Y74EU5jgCZC1y 8ivehykBt X-Google-Smtp-Source: AGHT+IETX/5ZgjvCpCvRwuNmJvVlmKwNXT0glKnLiv147S+lKPNUnBFV39ETEjRgllEsLH9g7NcKommxadil X-Received: by 2002:ad4:5746:0:b0:87f:c45b:f5b with SMTP id 6a1803df08f44-87fc45b1042mr48632606d6.7.1761416930735; Sat, 25 Oct 2025 11:28:50 -0700 (PDT) Received: from postal.iol.unh.edu (postal.iol.unh.edu. [2606:4100:3880:1234::84]) by smtp-relay.gmail.com with ESMTPS id 6a1803df08f44-87fc49a681csm2584026d6.27.2025.10.25.11.28.50 (version=TLS1_2 cipher=ECDHE-ECDSA-AES128-GCM-SHA256 bits=128/128); Sat, 25 Oct 2025 11:28:50 -0700 (PDT) X-Relaying-Domain: iol.unh.edu Date: Sat, 25 Oct 2025 11:28:50 -0700 (PDT) Message-ID: <68fd16e2.d40a0220.107f97.c568SMTPIN_ADDED_MISSING@mx.google.com> Received: from [172.21.0.2] (unknown [172.18.0.240]) by postal.iol.unh.edu (Postfix) with ESMTP id 416CD6051830; Sat, 25 Oct 2025 14:28:50 -0400 (EDT) Subject: |WARNING| pw158094 [PATCH] app/compress-perf: fix coverity issue From: dpdklab@iol.unh.edu To: Test Report Cc: dpdk-test-reports@iol.unh.edu, Akhil Goyal In-Reply-To: <20251024184745.1698409-1-svaze@qti.qualcomm.com> References: <20251024184745.1698409-1-svaze@qti.qualcomm.com> Content-Type: text/plain X-BeenThere: test-report@dpdk.org X-Mailman-Version: 2.1.29 Precedence: list List-Id: automatic DPDK test reports List-Unsubscribe: , List-Archive: List-Post: List-Help: List-Subscribe: , Errors-To: test-report-bounces@dpdk.org Test-Label: iol-compile-amd64-testing Test-Status: WARNING http://dpdk.org/patch/158094 _Testing issues_ Submitter: Sameer Vaze Date: Friday, October 24 2025 18:47:45 DPDK git baseline: Repo:dpdk-next-crypto Branch: master CommitID:6edcec237e31fcdb848cca6c151ee7a5bf057c28 158094 --> testing issues Upstream job id: Generic-DPDK-Compile-Meson#437641 Test environment and result as below: +-------------------------------+--------------------+-------------------+-------------------------+----------------------+-------------------+------------------+ | Environment | dpdk_meson_compile | dpdk_msvc_compile | dpdk_llvm_clang_compile | dpdk_mingw64_compile | dpdk_compile_spdk | dpdk_compile_ovs | +===============================+====================+===================+=========================+======================+===================+==================+ | FreeBSD 14.2 | PASS | SKIPPED | SKIPPED | SKIPPED | SKIPPED | SKIPPED | +-------------------------------+--------------------+-------------------+-------------------------+----------------------+-------------------+------------------+ | Ubuntu 20.04 | PASS | SKIPPED | SKIPPED | SKIPPED | SKIPPED | SKIPPED | +-------------------------------+--------------------+-------------------+-------------------------+----------------------+-------------------+------------------+ | CentOS Stream 9 | PEND | SKIPPED | SKIPPED | SKIPPED | PEND | SKIPPED | +-------------------------------+--------------------+-------------------+-------------------------+----------------------+-------------------+------------------+ | CentOS Stream 10 | PASS | SKIPPED | SKIPPED | SKIPPED | SKIPPED | SKIPPED | +-------------------------------+--------------------+-------------------+-------------------------+----------------------+-------------------+------------------+ | Debian GNU/Linux 12 | PASS | SKIPPED | SKIPPED | SKIPPED | WARN | SKIPPED | +-------------------------------+--------------------+-------------------+-------------------------+----------------------+-------------------+------------------+ | Fedora Linux 42 | PEND | SKIPPED | SKIPPED | SKIPPED | PEND | PEND | +-------------------------------+--------------------+-------------------+-------------------------+----------------------+-------------------+------------------+ | openSUSE Leap 15.6 | PASS | SKIPPED | SKIPPED | SKIPPED | SKIPPED | SKIPPED | +-------------------------------+--------------------+-------------------+-------------------------+----------------------+-------------------+------------------+ | Red Hat Enterprise Linux 8.10 | PASS | SKIPPED | SKIPPED | SKIPPED | SKIPPED | SKIPPED | +-------------------------------+--------------------+-------------------+-------------------------+----------------------+-------------------+------------------+ | Red Hat Enterprise Linux 9.5 | PASS | SKIPPED | SKIPPED | SKIPPED | SKIPPED | SKIPPED | +-------------------------------+--------------------+-------------------+-------------------------+----------------------+-------------------+------------------+ | Ubuntu 22.04 | PEND | SKIPPED | SKIPPED | SKIPPED | PEND | SKIPPED | +-------------------------------+--------------------+-------------------+-------------------------+----------------------+-------------------+------------------+ | Ubuntu 24.04 | PEND | SKIPPED | SKIPPED | SKIPPED | PEND | PEND | +-------------------------------+--------------------+-------------------+-------------------------+----------------------+-------------------+------------------+ | Alpine Linux 3.22.0 | PEND | SKIPPED | SKIPPED | SKIPPED | SKIPPED | SKIPPED | +-------------------------------+--------------------+-------------------+-------------------------+----------------------+-------------------+------------------+ | Windows Server 2022 | SKIPPED | PASS | PASS | PASS | SKIPPED | SKIPPED | +-------------------------------+--------------------+-------------------+-------------------------+----------------------+-------------------+------------------+ ==== 20 line log output for Debian GNU/Linux 12 (dpdk_compile_spdk): ==== --- Failed to get log output --- ==== End log output ==== FreeBSD 14.2 Kernel: 14.2-RELEASE Compiler: clang 18.1.6 Ubuntu 20.04 Kernel: 4.19 Compiler: gcc gcc (Ubuntu 9.4.0-1ubuntu1~20.04.2) 9.4.0 CentOS Stream 9 Kernel: 5.15 Compiler: gcc gcc (GCC) 11.5.0 20240719 (Red Hat 11.5.0-11) CentOS Stream 10 Kernel: 5.15 Compiler: gcc gcc (GCC) 14.2.1 20250110 (Red Hat 14.2.1-8) Debian GNU/Linux 12 Kernel: 5.15 Compiler: gcc gcc (Debian 12.2.0-14+deb12u1) 12.2.0 Fedora Linux 42 Kernel: 5.15 Compiler: clang gcc (GCC) 15.2.1 20250808 (Red Hat 15.2.1-1) openSUSE Leap 15.6 Kernel: 5.15 Compiler: gcc gcc (SUSE Linux) 7.5.0 Red Hat Enterprise Linux 8.10 Kernel: 5.15 Compiler: gcc gcc (GCC) 8.5.0 20210514 (Red Hat 8.5.0-22) Red Hat Enterprise Linux 9.5 Kernel: 5.15 Compiler: gcc gcc (GCC) 11.5.0 20240719 (Red Hat 11.5.0-2) Ubuntu 22.04 Kernel: 5.15 Compiler: gcc gcc (Ubuntu 11.4.0-1ubuntu1~22.04) 11.4.0 Ubuntu 24.04 Kernel: 5.15 Compiler: gcc gcc (Ubuntu 13.3.0-6ubuntu2~24.04) 13.3.0 Alpine Linux 3.22.0 Kernel: 5.15 Compiler: gcc gcc (Alpine 14.2.0) 14.2.0 Windows Server 2022 Kernel: 10.0.20348.2031 Compiler: clang 15.0.7, gcc 14.1.0 (MinGW), and MSVC VS 19.39.33521 To view detailed results, visit: https://lab.dpdk.org/results/dashboard/patchsets/34377/ UNH-IOL DPDK Community Lab To manage your email subscriptions, visit: https://lab.dpdk.org/results/dashboard/preferences/subscriptions/