From mboxrd@z Thu Jan 1 00:00:00 1970 Return-Path: Received: from mails.dpdk.org (mails.dpdk.org [217.70.189.124]) by inbox.dpdk.org (Postfix) with ESMTP id 34A3A489D6 for ; Sat, 25 Oct 2025 20:52:51 +0200 (CEST) Received: from mails.dpdk.org (localhost [127.0.0.1]) by mails.dpdk.org (Postfix) with ESMTP id 1002F4003C; Sat, 25 Oct 2025 20:52:51 +0200 (CEST) Received: from mail-yx1-f100.google.com (mail-yx1-f100.google.com [74.125.224.100]) by mails.dpdk.org (Postfix) with ESMTP id CF6874003C for ; Sat, 25 Oct 2025 20:52:49 +0200 (CEST) Received: by mail-yx1-f100.google.com with SMTP id 956f58d0204a3-63f533fbfd0so299737d50.3 for ; Sat, 25 Oct 2025 11:52:49 -0700 (PDT) DKIM-Signature: v=1; a=rsa-sha256; c=relaxed/relaxed; d=iol.unh.edu; s=unh-iol; t=1761418369; x=1762023169; darn=dpdk.org; h=references:in-reply-to:cc:to:from:subject:message-id:date:from:to :cc:subject:date:message-id:reply-to; bh=JztrGzJhRq5Gfrgsswj+N0OZ4cl6lzsA49r0vT2e9Og=; b=YBFc1HNwaoBXTUGW5QUKOLaLAKFoqeGsbzOLZALgh6ZDkxdBo8EX9l5CWMDsiaQQVI 8O081lbtgBhAb4PGAMXFKkKZturXTLyD5cV7VI8AifFvzzjLH/JEUBDeI5oXp8JF2asW U2sds4RqId2c02uV9Soj/7REJg1cKHPqEx9ZM= X-Google-DKIM-Signature: v=1; a=rsa-sha256; c=relaxed/relaxed; d=1e100.net; s=20230601; t=1761418369; x=1762023169; h=references:in-reply-to:cc:to:from:subject:message-id:date :x-gm-message-state:from:to:cc:subject:date:message-id:reply-to; bh=JztrGzJhRq5Gfrgsswj+N0OZ4cl6lzsA49r0vT2e9Og=; b=L+BF58VerF3YH/gUkwScU3zCVdImnOBHYSSK6HJqfgDUkZHgCzvPAo4gyRf2+7oMtt jzq4GLWhBytNDv9EnrdcAyk+qsgeDAu7NS5z1efj7dgtlmrEUB++JKYAwVhhi58FBZe5 0GqZtI5Th/3s7AoyHfc8r8qE4ycjKmy0A7kbmaiFdaxj65DeTMyQ0dkp/FAAsnSwJP2R kB+W7cg/GnKtwviuaXHseK+qpDZ/YodQIN+WvOdON5S2xMjs3uBGoHVQm7KvKIcw4Uzy t1ojUAGEM07Wi2rfVVKKcMBVwaGIAzCe0Dp3ogLdLWz4npimEVBeTaxswru2LjbmiwA/ CIuw== X-Gm-Message-State: AOJu0YzXN9sm51+BGsjDZ43d1JwqdYQYHRUvLSKotqIL314qg9wzHsdX vgPLS7jr1pQHYKu58biJJuGZ7vs/gn6P0A6ST7I1r+u03HoiZFpaOgRhTz8qDRmOrZMlNdR8iTb 5dwr7N9fyWQJxpPArG/uX4auQA6SwM+RoXKv9kr5VaEh06SHEWNhnxinb3z8P X-Gm-Gg: ASbGncs11y2lmUxIhZOZLhPWsBobRBr4cLtgR1t0/8uFtYbBAwy8JFxTAUfDRbjlNNi 8jGEx6EcaTpmP/wecAsOpMipzU469yiiVezzuCxHA7yYhLM2Phxr1nyFbjXAdohOnGoUlZfskXS K21yS8myyUfgv+hO2aEON34MUz9JZwCHYoZ9Y6nUH+fwmsm9gSPDIrSvQGRKzSjBTyiFwNv2ViP rvYWL3y+tt9yxpa25a360UQQiuaswJeIl7PfTFgT1Cpybj3r1ynNZabeSkn28MoS+djFXFN9Shc KuJbGObZg0ws0X3PpIPXVDGwIYP/xiO51IWcDgILGq6l/bNlKKRUqzl9Dn91b1dHt2r/sfBuOgg 7MBwPmTFS X-Google-Smtp-Source: AGHT+IHjG2IpMqU7QsaYTWXssoASM4hILTDcpGPIQ5YYyUwvWY5eB+Q4VQFEDqaioStdMFN8VBg1LylaYLcH X-Received: by 2002:a05:690e:12cb:b0:63e:3b29:f1e1 with SMTP id 956f58d0204a3-63e3b29f5fdmr15889188d50.36.1761418369154; Sat, 25 Oct 2025 11:52:49 -0700 (PDT) Received: from postal.iol.unh.edu (postal.iol.unh.edu. [2606:4100:3880:1234::84]) by smtp-relay.gmail.com with ESMTPS id 956f58d0204a3-63f4c3beaa6sm203434d50.2.2025.10.25.11.52.49 (version=TLS1_2 cipher=ECDHE-ECDSA-AES128-GCM-SHA256 bits=128/128); Sat, 25 Oct 2025 11:52:49 -0700 (PDT) X-Relaying-Domain: iol.unh.edu Date: Sat, 25 Oct 2025 11:52:49 -0700 (PDT) Message-ID: <68fd1c81.050a0220.234714.9a1eSMTPIN_ADDED_MISSING@mx.google.com> Received: from [172.21.0.2] (unknown [172.18.0.240]) by postal.iol.unh.edu (Postfix) with ESMTP id D03F56051830; Sat, 25 Oct 2025 14:52:48 -0400 (EDT) Subject: |WARNING| pw158094 [PATCH] app/compress-perf: fix coverity issue From: dpdklab@iol.unh.edu To: Test Report Cc: dpdk-test-reports@iol.unh.edu, Akhil Goyal In-Reply-To: <20251024184745.1698409-1-svaze@qti.qualcomm.com> References: <20251024184745.1698409-1-svaze@qti.qualcomm.com> Content-Type: text/plain X-BeenThere: test-report@dpdk.org X-Mailman-Version: 2.1.29 Precedence: list List-Id: automatic DPDK test reports List-Unsubscribe: , List-Archive: List-Post: List-Help: List-Subscribe: , Errors-To: test-report-bounces@dpdk.org Test-Label: iol-compile-amd64-testing Test-Status: WARNING http://dpdk.org/patch/158094 _Testing issues_ Submitter: Sameer Vaze Date: Friday, October 24 2025 18:47:45 DPDK git baseline: Repo:dpdk-next-crypto Branch: master CommitID:6edcec237e31fcdb848cca6c151ee7a5bf057c28 158094 --> testing issues Upstream job id: Generic-DPDK-Compile-Meson#437642 Test environment and result as below: +-------------------------------+--------------------+-------------------+-------------------------+----------------------+-------------------+------------------+ | Environment | dpdk_meson_compile | dpdk_msvc_compile | dpdk_llvm_clang_compile | dpdk_mingw64_compile | dpdk_compile_spdk | dpdk_compile_ovs | +===============================+====================+===================+=========================+======================+===================+==================+ | FreeBSD 14.2 | PASS | SKIPPED | SKIPPED | SKIPPED | SKIPPED | SKIPPED | +-------------------------------+--------------------+-------------------+-------------------------+----------------------+-------------------+------------------+ | Ubuntu 20.04 | PASS | SKIPPED | SKIPPED | SKIPPED | SKIPPED | SKIPPED | +-------------------------------+--------------------+-------------------+-------------------------+----------------------+-------------------+------------------+ | CentOS Stream 9 | PASS | SKIPPED | SKIPPED | SKIPPED | WARN | SKIPPED | +-------------------------------+--------------------+-------------------+-------------------------+----------------------+-------------------+------------------+ | CentOS Stream 10 | PASS | SKIPPED | SKIPPED | SKIPPED | SKIPPED | SKIPPED | +-------------------------------+--------------------+-------------------+-------------------------+----------------------+-------------------+------------------+ | Debian GNU/Linux 12 | PASS | SKIPPED | SKIPPED | SKIPPED | WARN | SKIPPED | +-------------------------------+--------------------+-------------------+-------------------------+----------------------+-------------------+------------------+ | Fedora Linux 42 | PASS | SKIPPED | SKIPPED | SKIPPED | WARN | PASS | +-------------------------------+--------------------+-------------------+-------------------------+----------------------+-------------------+------------------+ | openSUSE Leap 15.6 | PASS | SKIPPED | SKIPPED | SKIPPED | SKIPPED | SKIPPED | +-------------------------------+--------------------+-------------------+-------------------------+----------------------+-------------------+------------------+ | Red Hat Enterprise Linux 8.10 | PASS | SKIPPED | SKIPPED | SKIPPED | SKIPPED | SKIPPED | +-------------------------------+--------------------+-------------------+-------------------------+----------------------+-------------------+------------------+ | Red Hat Enterprise Linux 9.5 | PASS | SKIPPED | SKIPPED | SKIPPED | SKIPPED | SKIPPED | +-------------------------------+--------------------+-------------------+-------------------------+----------------------+-------------------+------------------+ | Ubuntu 22.04 | PASS | SKIPPED | SKIPPED | SKIPPED | WARN | SKIPPED | +-------------------------------+--------------------+-------------------+-------------------------+----------------------+-------------------+------------------+ | Ubuntu 24.04 | PASS | SKIPPED | SKIPPED | SKIPPED | WARN | PASS | +-------------------------------+--------------------+-------------------+-------------------------+----------------------+-------------------+------------------+ | Alpine Linux 3.22.0 | PASS | SKIPPED | SKIPPED | SKIPPED | SKIPPED | SKIPPED | +-------------------------------+--------------------+-------------------+-------------------------+----------------------+-------------------+------------------+ | Windows Server 2022 | SKIPPED | PASS | PASS | PASS | SKIPPED | SKIPPED | +-------------------------------+--------------------+-------------------+-------------------------+----------------------+-------------------+------------------+ ==== 20 line log output for Ubuntu 24.04 (dpdk_compile_spdk): ==== --- Failed to get log output --- ==== End log output ==== FreeBSD 14.2 Kernel: 14.2-RELEASE Compiler: clang 18.1.6 Ubuntu 20.04 Kernel: 4.19 Compiler: gcc gcc (Ubuntu 9.4.0-1ubuntu1~20.04.2) 9.4.0 CentOS Stream 9 Kernel: 5.15 Compiler: gcc gcc (GCC) 11.5.0 20240719 (Red Hat 11.5.0-11) CentOS Stream 10 Kernel: 5.15 Compiler: gcc gcc (GCC) 14.2.1 20250110 (Red Hat 14.2.1-8) Debian GNU/Linux 12 Kernel: 5.15 Compiler: gcc gcc (Debian 12.2.0-14+deb12u1) 12.2.0 Fedora Linux 42 Kernel: 5.15 Compiler: clang gcc (GCC) 15.2.1 20250808 (Red Hat 15.2.1-1) openSUSE Leap 15.6 Kernel: 5.15 Compiler: gcc gcc (SUSE Linux) 7.5.0 Red Hat Enterprise Linux 8.10 Kernel: 5.15 Compiler: gcc gcc (GCC) 8.5.0 20210514 (Red Hat 8.5.0-22) Red Hat Enterprise Linux 9.5 Kernel: 5.15 Compiler: gcc gcc (GCC) 11.5.0 20240719 (Red Hat 11.5.0-2) Ubuntu 22.04 Kernel: 5.15 Compiler: gcc gcc (Ubuntu 11.4.0-1ubuntu1~22.04) 11.4.0 Ubuntu 24.04 Kernel: 5.15 Compiler: gcc gcc (Ubuntu 13.3.0-6ubuntu2~24.04) 13.3.0 Alpine Linux 3.22.0 Kernel: 5.15 Compiler: gcc gcc (Alpine 14.2.0) 14.2.0 Windows Server 2022 Kernel: 10.0.20348.2031 Compiler: clang 15.0.7, gcc 14.1.0 (MinGW), and MSVC VS 19.39.33521 To view detailed results, visit: https://lab.dpdk.org/results/dashboard/patchsets/34377/ UNH-IOL DPDK Community Lab To manage your email subscriptions, visit: https://lab.dpdk.org/results/dashboard/preferences/subscriptions/