From mboxrd@z Thu Jan 1 00:00:00 1970 Return-Path: Received: from mails.dpdk.org (mails.dpdk.org [217.70.189.124]) by inbox.dpdk.org (Postfix) with ESMTP id 9D4EF489D6 for ; Sat, 25 Oct 2025 21:17:52 +0200 (CEST) Received: from mails.dpdk.org (localhost [127.0.0.1]) by mails.dpdk.org (Postfix) with ESMTP id 6FC224003C; Sat, 25 Oct 2025 21:17:52 +0200 (CEST) Received: from mail-qv1-f97.google.com (mail-qv1-f97.google.com [209.85.219.97]) by mails.dpdk.org (Postfix) with ESMTP id B2A464003C for ; Sat, 25 Oct 2025 21:17:50 +0200 (CEST) Received: by mail-qv1-f97.google.com with SMTP id 6a1803df08f44-78ea15d3489so28430666d6.3 for ; Sat, 25 Oct 2025 12:17:50 -0700 (PDT) DKIM-Signature: v=1; a=rsa-sha256; c=relaxed/relaxed; d=iol.unh.edu; s=unh-iol; t=1761419870; x=1762024670; darn=dpdk.org; h=references:in-reply-to:cc:to:from:subject:message-id:date:from:to :cc:subject:date:message-id:reply-to; bh=xqu0WDM2Qk1+ZRPnLP/JIaZYOcoh2AyPfRAJ4WHZcA0=; b=Oe1k/YKUTY8cRRfgMg6e0e0OgI9JAW9bTBhkCpHZvwdg+OVIKhrt3ujiD2ggxzh2CP mkjBOeOSbjBQstQR1xR+ge4BSDZOgGfZ/jUDGvU+Mxm5P92oLZMLKrHZWRQLdHKHtpXq Jhkngl4n7ApWWb5JeDAZ+kBZvLyGx6y59FOYA= X-Google-DKIM-Signature: v=1; a=rsa-sha256; c=relaxed/relaxed; d=1e100.net; s=20230601; t=1761419870; x=1762024670; h=references:in-reply-to:cc:to:from:subject:message-id:date :x-gm-message-state:from:to:cc:subject:date:message-id:reply-to; bh=xqu0WDM2Qk1+ZRPnLP/JIaZYOcoh2AyPfRAJ4WHZcA0=; b=g8dM2TTdABPn09c7fOaFocFY5JSxQmP48MLILjWpJS9QBXBs7zKzzuZ1wUwfFzAYrI yK5jSmxHjZN7Vh52hi867bApeouTR5iwW9DGliyVCWohp8G68d+OMqvFgWNASCG8pgFp 3QjAaL4xb9fAVyqVosK+eBI/XYq6f7v0qnuVBl5DKhefL9mzEYiGVgOJC4BB7fgdNSJU yzICljfpSP9syldgrDDiUmvNgK1w0lVisM/1J+GnN9nCeO/X5OD94Y83w9HqotAvD7Pc R7Hj8TW3KgIH5FaPYye0sBKQgxON+Xxx8N4v+h0As8krH1Vz0divl4uipCmZnPL5Osf/ Xyjg== X-Gm-Message-State: AOJu0YxQi0F3A/iwwiiKKUqkeSrIaX5KqNuvQuDW0JMQOB10vo7CXG9v 8wM/5jtlBS98b5AHQX9rt+r+o7DxtAV5NgBzpR7hNLhJVekqq8l8D36vL7waPi4/KRpESX3bLph vZ3m9apYYGfzpMoUx5ZzQ01RHYfJqrGDT5+wrHLolK2kY X-Gm-Gg: ASbGnctNMAod5tk17i4B41wzC0NJJ16w/0D8k0SZZa2Rl5BASt3YFMlgEc9EXmtZOOY vbUw1330Lvde1GnUpPBw4O8q4e/gGv32ULNbpJiIGbd2IMxNMFNYKRzJhdAYABVn0jdNpahqGCz c4Eol4D6/A6LZSNFERrMFF3+dxRDYenfl2IPGec/g14dADaxwNU3vMksjGP95GZy//nb0KG5FpS cNfBdQ5Bii/vOTS77ItlJFFzpMn937Rw6pmN1WTv0ap2401fcazJ7yBcUH4NFqA+b7yVMukVvyq IDOHl8QQoWtFGuGxN8tYZzu0HlsYOWEvkU/stEmeU4QFiPzq16jP4YRIJw96JTggf6YhI98Dimi +b2OaNPIdskY4HpBllD1GPrAN9+1dtHA= X-Google-Smtp-Source: AGHT+IEV2caKC/jocCa5MmkM1QuWaSDsNGyFkItiWbVsyVVLpV1c8sGMkNPHsh5LiPItPlZy8xqGK0ajj705 X-Received: by 2002:a05:6214:2581:b0:87d:c996:1bec with SMTP id 6a1803df08f44-87dc9961f36mr298718096d6.49.1761419870100; Sat, 25 Oct 2025 12:17:50 -0700 (PDT) Received: from postal.iol.unh.edu (postal.iol.unh.edu. [132.177.123.84]) by smtp-relay.gmail.com with ESMTPS id 6a1803df08f44-87fc4952bd7sm2716396d6.19.2025.10.25.12.17.50 (version=TLS1_2 cipher=ECDHE-ECDSA-AES128-GCM-SHA256 bits=128/128); Sat, 25 Oct 2025 12:17:50 -0700 (PDT) X-Relaying-Domain: iol.unh.edu Date: Sat, 25 Oct 2025 12:17:50 -0700 (PDT) Message-ID: <68fd225e.050a0220.31587a.cce9SMTPIN_ADDED_MISSING@mx.google.com> Received: from [172.21.0.2] (unknown [172.18.0.240]) by postal.iol.unh.edu (Postfix) with ESMTP id C07746051835; Sat, 25 Oct 2025 15:17:49 -0400 (EDT) Subject: |WARNING| pw158099 [PATCH] app/compress-perf: fix coverity issue From: dpdklab@iol.unh.edu To: Test Report Cc: dpdk-test-reports@iol.unh.edu, Akhil Goyal In-Reply-To: <20251024191125.1728953-1-svaze@qti.qualcomm.com> References: <20251024191125.1728953-1-svaze@qti.qualcomm.com> Content-Type: text/plain X-BeenThere: test-report@dpdk.org X-Mailman-Version: 2.1.29 Precedence: list List-Id: automatic DPDK test reports List-Unsubscribe: , List-Archive: List-Post: List-Help: List-Subscribe: , Errors-To: test-report-bounces@dpdk.org Test-Label: iol-compile-amd64-testing Test-Status: WARNING http://dpdk.org/patch/158099 _Testing issues_ Submitter: Sameer Vaze Date: Friday, October 24 2025 19:11:25 DPDK git baseline: Repo:dpdk-next-crypto Branch: master CommitID:6edcec237e31fcdb848cca6c151ee7a5bf057c28 158099 --> testing issues Upstream job id: Generic-DPDK-Compile-Meson#437691 Test environment and result as below: +---------------------+--------------------+-------------------+-------------------------+----------------------+-------------------+ | Environment | dpdk_meson_compile | dpdk_msvc_compile | dpdk_llvm_clang_compile | dpdk_mingw64_compile | dpdk_compile_spdk | +=====================+====================+===================+=========================+======================+===================+ | Ubuntu 20.04 | PASS | SKIPPED | SKIPPED | SKIPPED | SKIPPED | +---------------------+--------------------+-------------------+-------------------------+----------------------+-------------------+ | FreeBSD 14.2 | PASS | SKIPPED | SKIPPED | SKIPPED | SKIPPED | +---------------------+--------------------+-------------------+-------------------------+----------------------+-------------------+ | CentOS Stream 9 | PASS | SKIPPED | SKIPPED | SKIPPED | WARN | +---------------------+--------------------+-------------------+-------------------------+----------------------+-------------------+ | CentOS Stream 10 | PASS | SKIPPED | SKIPPED | SKIPPED | SKIPPED | +---------------------+--------------------+-------------------+-------------------------+----------------------+-------------------+ | Debian GNU/Linux 12 | PEND | SKIPPED | SKIPPED | SKIPPED | PEND | +---------------------+--------------------+-------------------+-------------------------+----------------------+-------------------+ | Windows Server 2022 | SKIPPED | PASS | PASS | PASS | SKIPPED | +---------------------+--------------------+-------------------+-------------------------+----------------------+-------------------+ ==== 20 line log output for CentOS Stream 9 (dpdk_compile_spdk): ==== --- Failed to get log output --- ==== End log output ==== Ubuntu 20.04 Kernel: 4.19 Compiler: gcc gcc (Ubuntu 9.4.0-1ubuntu1~20.04.2) 9.4.0 FreeBSD 14.2 Kernel: 14.2-RELEASE Compiler: clang 18.1.6 CentOS Stream 9 Kernel: 5.15 Compiler: gcc gcc (GCC) 11.5.0 20240719 (Red Hat 11.5.0-11) CentOS Stream 10 Kernel: 5.15 Compiler: gcc gcc (GCC) 14.2.1 20250110 (Red Hat 14.2.1-8) Debian GNU/Linux 12 Kernel: 5.15 Compiler: gcc gcc (Debian 12.2.0-14+deb12u1) 12.2.0 Windows Server 2022 Kernel: 10.0.20348.2031 Compiler: clang 15.0.7, gcc 14.1.0 (MinGW), and MSVC VS 19.39.33521 To view detailed results, visit: https://lab.dpdk.org/results/dashboard/patchsets/34380/ UNH-IOL DPDK Community Lab To manage your email subscriptions, visit: https://lab.dpdk.org/results/dashboard/preferences/subscriptions/